Workbook

Sheet はじめにお読みください
A1: はじめにお読みください
A3: 【１】入力の方法
B5: １） | C5: 「データシート」の水色のセルに入力もしくはリストから選択してください。
B7: ２） | C7: すべての出場校は「すべての出場校は入力」の欄に学校情報等を入力してください。
C9: 学校名略称は全国高体連ソフトテニス競技専門部の申し合わせに準拠します
C10: ① | D10: ６文字以内とする
C11: ② | D11: 「商業」・「工業」・「農業」・「実業」等の「業」を省く
C12: ③ | D12: 「附属」・「付属」の「属」を省く
C13: ④ | D13: 「大学」は「大」、「短期大学」は「短大」または「短」とする
C14: ⑤ | D14: 「女子」は「子」を入れてもよい
B16: ３） | C16: 団体戦に出場する学校は「団体戦出場校は入力」の欄に入力してください。
B18: ４） | C18: 個人戦に出場する学校は「個人戦出場校は入力」の欄に入力してください。
A20: 【２】印刷の方法
B22: １） | C22: 団体戦に出場する学校は「団体戦印刷シート」を印刷してください。
B24: ２） | C24: 個人戦に出場する学校は「個人戦印刷シート」を印刷してください。
B26: ＊ベンチ入り指導者のシートは出場校が提出する必要はありません。データだけ入力ください。
A28: 【３】提出の方法
B30: １） | C30: 団体戦・個人戦、それぞれ印刷したものに校長印を押印し1部作成。その参加申込書をPDF化し、その後PDFデータをメールで所属県専門部委員長へ提出。
C31: その際、ファイル名を「（校名）〇〇申込書」と変更してください。
B33: ２） | C33: 入力データのエクセルファイル（このファイル）も「〇〇高校・男子（女子）」というファイル名に変更して、各県の専門部
C34: 委員長に送信してください。
B36: ３） | C36: 提出の際は、参加負担金と宿泊申込書（PDFデータ）も一緒に提出してください。参加負担金の徴収方法は各県によります。
B38: ４） | C38: ベンチ入り指導者のシートは、各県の専門委員長がデータを抽出します。

Sheet データシートの入力例
B1: データシート | D1: 水色のセルに必要事項を入力してください
A3: すべての出場校は入力 | C3: 記入日 | D3: 46180 | E3: 「2024/6/7」もしくは「2024-6-7」のように入力してください | O3: 福岡県
C4: 県名 | D4: 熊本県 | E4: リストから選択してください | O4: 佐賀県
C5: 高体連会長名 | D5: 鬼塚 博光 | E5: 貴県の高体連会長名を入力してください | O5: 長崎県
O6: 熊本県
C7: 学校情報 | O7: 大分県
C8: 学校名ふりがな | D8: くまもとけんりつくまもとこうぎょうこうとうがっこう | E8: ひらがなで入力してください | O8: 宮崎県
C9: 学校名 | D9: 熊本県立熊本工業高等学校 | E9: 正式名称を入力してください | O9: 鹿児島県
C10: 学校名略称 | D10: 熊本工 | E10: 高体連規定の6文字以内で学校名略称を入力してください | O10: 沖縄県
C11: 男女の別 | D11: 男子 | E11: リストから選択してください
C12: 郵便番号 | D12: 862-0953 | E12: 半角入力
C13: 学校住所 | D13: 熊本県熊本市中央区上京塚町5番1号 | E13: 住所を県名から入力してください | O13: 男子
C14: 学校電話 | D14: 096-383-2105 | E14: 半角入力 | O14: 女子
C15: 学校FAX | D15: 096-385-4482 | E15: 半角入力
C16: 校長名 | D16: 野崎 康司
C17: 引率責任者ふりがな | D17: のざき やすし
C18: 引率責任者 | D18: 平山 隆久
C19: 引率責任者携帯電話 | E19: 半角入力
A21: 団体戦出場校は入力 | C21: 団体戦出場校入力
C22: 県予選順位 | D22: 1位 | E22: リストから選択してください | O22: 1位
C23: 監督名ふりがな | D23: おきなわ たろう | E23: ひらがなで入力してください | O23: 2位
C24: 監督名 | D24: 沖縄 太郎
C25: 監督の属性 | D25: 当該校職員 | E25: リストから選択してください
C26: 監督携帯番号 | D26: 090-1234-5678 | E26: 半角入力 | O26: 当該校職員
C27: 選手名 | O27: 外部指導者
C28: 姓 | D28: 名 | E28: 姓（ふりがな） | F28: 名（ふりがな） | G28: 学年 | H28: 生年月日 | I28: 年齢 | O28: 当該校職員・兼団体戦監督
B29: 例 | C29: 沖縄 | D29: 九州男 | E29: おきなわ | F29: くすお | G29: 3年 | H29: 39607 | I29: =IF(H29="","",DATEDIF(H29,$O$31,"y")) -> 18 | O29: 外部指導者・兼団体戦監督
B30: 1 | C30: 大分 | D30: 一郎 | E30: おおいた | F30: いちろう | G30: 3年 | H30: 39641 | I30: =IF(H30="","",DATEDIF(H30,$O$31,"y")) -> 17
B31: 2 | C31: 佐賀 | D31: 二郎 | E31: さが | F31: じろう | G31: 3年 | H31: 39877 | I31: =IF(H31="","",DATEDIF(H31,$O$31,"y")) -> 17 | O31: 46213 | P31: ←年齢基準日
B32: 3 | C32: 熊本 | D32: 三郎 | E32: くまもと | F32: さぶろう | G32: 2年 | H32: 40155 | I32: =IF(H32="","",DATEDIF(H32,$O$31,"y")) -> 16
B33: 4 | C33: 宮崎 | D33: 四郎 | E33: みやざき | F33: しろう | G33: 2年 | H33: 40116 | I33: =IF(H33="","",DATEDIF(H33,$O$31,"y")) -> 16 | O33: 1年
B34: 5 | C34: 鹿児島 | D34: 五郎 | E34: かごしま | F34: ごろう | G34: 2年 | H34: 39997 | I34: =IF(H34="","",DATEDIF(H34,$O$31,"y")) -> 17 | O34: 2年
B35: 6 | C35: 福岡 | D35: 六郎 | E35: ふくおか | F35: ろくろう | G35: 1年 | H35: 40310 | I35: =IF(H35="","",DATEDIF(H35,$O$31,"y")) -> 16 | O35: 3年
B36: 7 | I36: =IF(H36="","",DATEDIF(H36,$O$31,"y"))
B37: 8 | I37: =IF(H37="","",DATEDIF(H37,$O$31,"y"))
A39: 個 人 戦 出 場 校 は 入 力 | C39: 個人戦出場ペア | D39: 上から順につめて入力してください。県内順位は専門部委員長の先生が取りまとめて提出します。
C40: 姓 | D40: 名 | E40: 姓（ふりがな） | F40: 名（ふりがな） | G40: 学年 | H40: 生年月日 | I40: 学校名略称 | J40: 年齢
B41: 例 | C41: 福岡 | D41: 九州男 | E41: ふくおか | F41: くすお | G41: 3年 | H41: 39575 | I41: 九州 | J41: =IF(H41="","",DATEDIF(H41,$O$31,"y")) -> 18
B42: 1 | C42: 大分 | D42: 一郎 | E42: おおいた | F42: いちろう | G42: 3年 | H42: 39558 | I42: 九州 | J42: =IF(H42="","",DATEDIF(H42,$O$31,"y")) -> 18
C43: 佐賀 | D43: 二郎 | E43: さが | F43: じろう | G43: 3年 | H43: 39877 | I43: 九州 | J43: =IF(H43="","",DATEDIF(H43,$O$31,"y")) -> 17
B44: 2 | C44: 熊本 | D44: 三郎 | E44: くまもと | F44: さぶろう | G44: 2年 | H44: 40155 | I44: 九州 | J44: =IF(H44="","",DATEDIF(H44,$O$31,"y")) -> 16
C45: 宮崎 | D45: 四郎 | E45: みやざき | F45: しろう | G45: 2年 | H45: 40116 | I45: 九州 | J45: =IF(H45="","",DATEDIF(H45,$O$31,"y")) -> 16
B46: 3 | C46: 鹿児島 | D46: 五郎 | E46: かごしま | F46: ごろう | G46: 1年 | H46: 40362 | I46: 九州 | J46: =IF(H46="","",DATEDIF(H46,$O$31,"y")) -> 16
C47: 沖縄 | D47: 六郎 | E47: おきなわ | F47: ろくろう | G47: 1年 | H47: 40310 | I47: 九州 | J47: =IF(H47="","",DATEDIF(H47,$O$31,"y")) -> 16
B48: 4 | I48: =IF(C48="","",$D$10) | J48: =IF(H48="","",DATEDIF(H48,$O$31,"y"))
I49: =IF(C49="","",$D$10) | J49: =IF(H49="","",DATEDIF(H49,$O$31,"y"))
B50: 5 | I50: =IF(C50="","",$D$10) | J50: =IF(H50="","",DATEDIF(H50,$O$31,"y"))
I51: =IF(C51="","",$D$10) | J51: =IF(H51="","",DATEDIF(H51,$O$31,"y"))
B52: 6 | I52: =IF(C52="","",$D$10) | J52: =IF(H52="","",DATEDIF(H52,$O$31,"y"))
I53: =IF(C53="","",$D$10) | J53: =IF(H53="","",DATEDIF(H53,$O$31,"y"))
B54: 7 | I54: =IF(C54="","",$D$10) | J54: =IF(H54="","",DATEDIF(H54,$O$31,"y"))
I55: =IF(C55="","",$D$10) | J55: =IF(H55="","",DATEDIF(H55,$O$31,"y"))
B56: 8 | I56: =IF(C56="","",$D$10) | J56: =IF(H56="","",DATEDIF(H56,$O$31,"y"))
I57: =IF(C57="","",$D$10) | J57: =IF(H57="","",DATEDIF(H57,$O$31,"y"))
C59: 個人戦ベンチ入り指導者入力
C60: 学校名略称 | D60: 氏名 | E60: 属性
B61: 1 | F61: ベンチ入り指導者は最大で4名まで。エントリーペア数を超えないこと。
B62: 2 | F62: 属性はリストから選択してください
B63: 3 | F63: 団体戦監督を兼ねる者は、その選択をしてください
B64: 4

Sheet データシート
B1: データシート | D1: 水色のセルに必要事項を入力してください
A3: すべての出場校は入力 | C3: 記入日 | E3: 「2026/6/7」もしくは「2026-6-7」のように入力してください | O3: 福岡県
C4: 県名 | E4: リストから選択してください | O4: 佐賀県
C5: 高体連会長名 | E5: 貴県の高体連会長名を入力してください | O5: 長崎県
O6: 熊本県
C7: 学校情報 | O7: 大分県
C8: 学校名ふりがな | E8: ひらがなで入力してください | O8: 宮崎県
C9: 学校名 | E9: 正式名称を入力してください | O9: 鹿児島県
C10: 学校名略称 | E10: 高体連規定の6文字以内で学校名略称を入力してください | O10: 沖縄県
C11: 男女の別 | E11: リストから選択してください
C12: 郵便番号 | E12: 半角入力
C13: 学校住所 | E13: 住所を県名から入力してください | O13: 男子
C14: 学校電話 | E14: 半角入力 | O14: 女子
C15: 学校FAX | E15: 半角入力
C16: 校長名
C17: 引率責任者ふりがな
C18: 引率責任者
C19: 引率責任者携帯電話 | E19: 半角入力
A21: 団体戦出場校は入力 | C21: 団体戦出場校入力
C22: 県予選順位 | E22: リストから選択してください | O22: 1位
C23: 監督名ふりがな | E23: ひらがなで入力してください | O23: 2位
C24: 監督名
C25: 監督の属性 | E25: リストから選択してください
C26: 監督携帯番号 | E26: 半角入力 | O26: 当該校職員
C27: 選手名 | O27: 外部指導者
C28: 姓 | D28: 名 | E28: 姓（ふりがな） | F28: 名（ふりがな） | G28: 学年 | H28: 生年月日 | I28: 年齢 | O28: 当該校職員・兼団体戦監督
B29: 例 | C29: 沖縄 | D29: 九州男 | E29: おきなわ | F29: くすお | G29: 3年 | H29: 39209 | I29: =IF(H29="","",DATEDIF(H29,$O$31,"y")) -> 19 | O29: 外部指導者・兼団体戦監督
B30: 1 | I30: =IF(H30="","",DATEDIF(H30,$O$31,"y"))
B31: 2 | I31: =IF(H31="","",DATEDIF(H31,$O$31,"y")) | O31: 46213 | P31: ←年齢基準日
B32: 3 | I32: =IF(H32="","",DATEDIF(H32,$O$31,"y"))
B33: 4 | I33: =IF(H33="","",DATEDIF(H33,$O$31,"y")) | O33: 1年
B34: 5 | I34: =IF(H34="","",DATEDIF(H34,$O$31,"y")) | O34: 2年
B35: 6 | I35: =IF(H35="","",DATEDIF(H35,$O$31,"y")) | O35: 3年
B36: 7 | I36: =IF(H36="","",DATEDIF(H36,$O$31,"y"))
B37: 8 | I37: =IF(H37="","",DATEDIF(H37,$O$31,"y"))
A39: 個 人 戦 出 場 校 は 入 力 | C39: 個人戦出場ペア | D39: 上から順につめて入力してください。県内順位は専門部委員長の先生が取りまとめて提出します。
C40: 姓 | D40: 名 | E40: 姓（ふりがな） | F40: 名（ふりがな） | G40: 学年 | H40: 生年月日 | I40: 学校名略称 | J40: 年齢
B41: 例 | C41: 沖縄 | D41: 九州男 | E41: おきなわ | F41: くすお | G41: 3年 | H41: 39209 | I41: 九州 | J41: =IF(H41="","",DATEDIF(H41,$O$31,"y")) -> 19
B42: 1 | J42: =IF(H42="","",DATEDIF(H42,$O$31,"y"))
J43: =IF(H43="","",DATEDIF(H43,$O$31,"y"))
B44: 2 | J44: =IF(H44="","",DATEDIF(H44,$O$31,"y"))
J45: =IF(H45="","",DATEDIF(H45,$O$31,"y"))
B46: 3 | J46: =IF(H46="","",DATEDIF(H46,$O$31,"y"))
J47: =IF(H47="","",DATEDIF(H47,$O$31,"y"))
B48: 4 | J48: =IF(H48="","",DATEDIF(H48,$O$31,"y"))
J49: =IF(H49="","",DATEDIF(H49,$O$31,"y"))
B50: 5 | I50: =IF(C50="","",$D$10) | J50: =IF(H50="","",DATEDIF(H50,$O$31,"y"))
I51: =IF(C51="","",$D$10) | J51: =IF(H51="","",DATEDIF(H51,$O$31,"y"))
B52: 6 | I52: =IF(C52="","",$D$10) | J52: =IF(H52="","",DATEDIF(H52,$O$31,"y"))
I53: =IF(C53="","",$D$10) | J53: =IF(H53="","",DATEDIF(H53,$O$31,"y"))
B54: 7 | I54: =IF(C54="","",$D$10) | J54: =IF(H54="","",DATEDIF(H54,$O$31,"y"))
I55: =IF(C55="","",$D$10) | J55: =IF(H55="","",DATEDIF(H55,$O$31,"y"))
B56: 8 | I56: =IF(C56="","",$D$10) | J56: =IF(H56="","",DATEDIF(H56,$O$31,"y"))
I57: =IF(C57="","",$D$10) | J57: =IF(H57="","",DATEDIF(H57,$O$31,"y"))
C59: 個人戦ベンチ入り指導者入力
C60: 学校名略称 | D60: 氏名 | E60: 属性
B61: 1 | F61: ベンチ入り指導者は最大で4名まで。エントリーペア数を超えないこと。
B62: 2 | F62: 属性はリストから選択してください
B63: 3 | F63: 団体戦監督を兼ねる者は、その選択をしてください
B64: 4

Sheet 団体戦印刷シート
A1: 令和８年度 全九州高等学校体育大会
A2: 第79回 全九州高等学校ソフトテニス競技大会
E3: 団体戦参加申込書
M5: =IF(ISBLANK(データシート!D4),"",データシート!D4) | O5: =IF(ISBLANK(データシート!D11),"",データシート!D11)
B7: ふりがな | D7: =IF(ISBLANK(データシート!D8),"",データシート!D8) | L7: 学校名略称 | O7: 県順位
B8: 学校名 | D8: =IF(ISBLANK(データシート!D9),"",データシート!D9) | L8: =IF(ISBLANK(データシート!D10),"",データシート!D10) | O8: =IF(ISBLANK(データシート!D22),"",データシート!D22)
B9: 郵便番号 | D9: =IF(ISBLANK(データシート!D12),"",データシート!D12) | L9: ふりがな | N9: =IF(ISBLANK(データシート!D23),"",データシート!D23)
B10: 住所 | D10: =IF(ISBLANK(データシート!D13),"",データシート!D13) | L10: 監督名 | N10: =IF(ISBLANK(データシート!D24),"",データシート!D24)
B11: TEL | D11: =IF(ISBLANK(データシート!D14),"",データシート!D14) | L11: 属性 | N11: =IF(ISBLANK(データシート!D25),"",データシート!D25)
B12: FAX | D12: =IF(ISBLANK(データシート!D15),"",データシート!D15) | L12: 携帯電話 | N12: =IF(ISBLANK(データシート!D26),"",データシート!D26)
C14: 選手氏名 | G14: 選手氏名（ふりがな） | K14: 学年 | M14: 生年月日
B15: 1 | C15: =IF(ISBLANK(データシート!C30),"",データシート!C30) | E15: =IF(ISBLANK(データシート!D30),"",データシート!D30) | G15: =IF(ISBLANK(データシート!E30),"",データシート!E30) | I15: =IF(ISBLANK(データシート!F30),"",データシート!F30) | K15: =IF(ISBLANK(データシート!G30),"",データシート!G30) | M15: =IF(ISBLANK(データシート!H30),"",データシート!H30)
B16: 2 | C16: =IF(ISBLANK(データシート!C31),"",データシート!C31) | E16: =IF(ISBLANK(データシート!D31),"",データシート!D31) | G16: =IF(ISBLANK(データシート!E31),"",データシート!E31) | I16: =IF(ISBLANK(データシート!F31),"",データシート!F31) | K16: =IF(ISBLANK(データシート!G31),"",データシート!G31) | M16: =IF(ISBLANK(データシート!H31),"",データシート!H31)
B17: 3 | C17: =IF(ISBLANK(データシート!C32),"",データシート!C32) | E17: =IF(ISBLANK(データシート!D32),"",データシート!D32) | G17: =IF(ISBLANK(データシート!E32),"",データシート!E32) | I17: =IF(ISBLANK(データシート!F32),"",データシート!F32) | K17: =IF(ISBLANK(データシート!G32),"",データシート!G32) | M17: =IF(ISBLANK(データシート!H32),"",データシート!H32)
B18: 4 | C18: =IF(ISBLANK(データシート!C33),"",データシート!C33) | E18: =IF(ISBLANK(データシート!D33),"",データシート!D33) | G18: =IF(ISBLANK(データシート!E33),"",データシート!E33) | I18: =IF(ISBLANK(データシート!F33),"",データシート!F33) | K18: =IF(ISBLANK(データシート!G33),"",データシート!G33) | M18: =IF(ISBLANK(データシート!H33),"",データシート!H33)
B19: 5 | C19: =IF(ISBLANK(データシート!C34),"",データシート!C34) | E19: =IF(ISBLANK(データシート!D34),"",データシート!D34) | G19: =IF(ISBLANK(データシート!E34),"",データシート!E34) | I19: =IF(ISBLANK(データシート!F34),"",データシート!F34) | K19: =IF(ISBLANK(データシート!G34),"",データシート!G34) | M19: =IF(ISBLANK(データシート!H34),"",データシート!H34)
B20: 6 | C20: =IF(ISBLANK(データシート!C35),"",データシート!C35) | E20: =IF(ISBLANK(データシート!D35),"",データシート!D35) | G20: =IF(ISBLANK(データシート!E35),"",データシート!E35) | I20: =IF(ISBLANK(データシート!F35),"",データシート!F35) | K20: =IF(ISBLANK(データシート!G35),"",データシート!G35) | M20: =IF(ISBLANK(データシート!H35),"",データシート!H35)
B21: 7 | C21: =IF(ISBLANK(データシート!C36),"",データシート!C36) | E21: =IF(ISBLANK(データシート!D36),"",データシート!D36) | G21: =IF(ISBLANK(データシート!E36),"",データシート!E36) | I21: =IF(ISBLANK(データシート!F36),"",データシート!F36) | K21: =IF(ISBLANK(データシート!G36),"",データシート!G36) | M21: =IF(ISBLANK(データシート!H36),"",データシート!H36)
B22: 8 | C22: =IF(ISBLANK(データシート!C37),"",データシート!C37) | E22: =IF(ISBLANK(データシート!D37),"",データシート!D37) | G22: =IF(ISBLANK(データシート!E37),"",データシート!E37) | I22: =IF(ISBLANK(データシート!F37),"",データシート!F37) | K22: =IF(ISBLANK(データシート!G37),"",データシート!G37) | M22: =IF(ISBLANK(データシート!H37),"",データシート!H37)
G24: 引率責任者 | J24: =IF(ISBLANK(データシート!D18),"",データシート!D18) | M24: =IF(ISBLANK(データシート!D19),"",データシート!D19)
B27: 上記の者は、本校在学生で標記大会に出場することを認め、参加申し込みいたします。併せて、別紙宿泊申込書のとおり、宿泊申し込みいたします。
B29: =IF(ISBLANK(データシート!D3),"",データシート!D3)
C30: =IF(ISBLANK(データシート!D9),"",データシート!D9) | K30: 校長 | L30: =IF(ISBLANK(データシート!D16),"",データシート!D16) | P30: ㊞

Sheet 個人戦印刷シート
A1: 令和８年度 全九州高等学校体育大会
A2: 第79回 全九州高等学校ソフトテニス競技大会
E3: 個人戦参加申込書
K5: =IF(ISBLANK(データシート!D4),"",データシート!D4) | M5: =IF(ISBLANK(データシート!D11),"",データシート!D11)
B7: ふりがな | D7: =IF(ISBLANK(データシート!D8),"",データシート!D8) | L7: 学校名略称
B8: 学校名 | D8: =IF(ISBLANK(データシート!D9),"",データシート!D9) | L8: =IF(ISBLANK(データシート!D10),"",データシート!D10)
B9: 郵便番号 | D9: =IF(ISBLANK(データシート!D12),"",データシート!D12) | J9: ふりがな | L9: =IF(ISBLANK(データシート!D17),"",データシート!D17)
B10: 住所 | D10: =IF(ISBLANK(データシート!D13),"",データシート!D13) | J10: 引率責任者 | L10: =IF(ISBLANK(データシート!D18),"",データシート!D18)
B11: TEL | D11: =IF(ISBLANK(データシート!D14),"",データシート!D14) | L11: =IF(ISBLANK(データシート!B25),"",データシート!B25)
B12: FAX | D12: =IF(ISBLANK(データシート!D15),"",データシート!D15) | J12: 携帯電話 | L12: =IF(ISBLANK(データシート!D19),"",データシート!D19)
B14: 選手氏名 | F14: 選手氏名（ふりがな） | J14: 学年 | L14: 生年月日
A15: 1 | B15: =IF(ISBLANK(データシート!C42),"",データシート!C42) | D15: =IF(ISBLANK(データシート!D42),"",データシート!D42) | F15: =IF(ISBLANK(データシート!E42),"",データシート!E42) | H15: =IF(ISBLANK(データシート!F42),"",データシート!F42) | J15: =IF(ISBLANK(データシート!G42),"",データシート!G42) | L15: =IF(ISBLANK(データシート!H42),"",データシート!H42)
B16: =IF(ISBLANK(データシート!C43),"",データシート!C43) | D16: =IF(ISBLANK(データシート!D43),"",データシート!D43) | F16: =IF(ISBLANK(データシート!E43),"",データシート!E43) | H16: =IF(ISBLANK(データシート!F43),"",データシート!F43) | J16: =IF(ISBLANK(データシート!G43),"",データシート!G43) | L16: =IF(ISBLANK(データシート!H43),"",データシート!H43)
A17: 2 | B17: =IF(ISBLANK(データシート!C44),"",データシート!C44) | D17: =IF(ISBLANK(データシート!D44),"",データシート!D44) | F17: =IF(ISBLANK(データシート!E44),"",データシート!E44) | H17: =IF(ISBLANK(データシート!F44),"",データシート!F44) | J17: =IF(ISBLANK(データシート!G44),"",データシート!G44) | L17: =IF(ISBLANK(データシート!H44),"",データシート!H44)
B18: =IF(ISBLANK(データシート!C45),"",データシート!C45) | D18: =IF(ISBLANK(データシート!D45),"",データシート!D45) | F18: =IF(ISBLANK(データシート!E45),"",データシート!E45) | H18: =IF(ISBLANK(データシート!F45),"",データシート!F45) | J18: =IF(ISBLANK(データシート!G45),"",データシート!G45) | L18: =IF(ISBLANK(データシート!H45),"",データシート!H45)
A19: 3 | B19: =IF(ISBLANK(データシート!C46),"",データシート!C46) | D19: =IF(ISBLANK(データシート!D46),"",データシート!D46) | F19: =IF(ISBLANK(データシート!E46),"",データシート!E46) | H19: =IF(ISBLANK(データシート!F46),"",データシート!F46) | J19: =IF(ISBLANK(データシート!G46),"",データシート!G46) | L19: =IF(ISBLANK(データシート!H46),"",データシート!H46)
B20: =IF(ISBLANK(データシート!C47),"",データシート!C47) | D20: =IF(ISBLANK(データシート!D47),"",データシート!D47) | F20: =IF(ISBLANK(データシート!E47),"",データシート!E47) | H20: =IF(ISBLANK(データシート!F47),"",データシート!F47) | J20: =IF(ISBLANK(データシート!G47),"",データシート!G47) | L20: =IF(ISBLANK(データシート!H47),"",データシート!H47)
A21: 4 | B21: =IF(ISBLANK(データシート!C48),"",データシート!C48) | D21: =IF(ISBLANK(データシート!D48),"",データシート!D48) | F21: =IF(ISBLANK(データシート!E48),"",データシート!E48) | H21: =IF(ISBLANK(データシート!F48),"",データシート!F48) | J21: =IF(ISBLANK(データシート!G48),"",データシート!G48) | L21: =IF(ISBLANK(データシート!H48),"",データシート!H48)
B22: =IF(ISBLANK(データシート!C49),"",データシート!C49) | D22: =IF(ISBLANK(データシート!D49),"",データシート!D49) | F22: =IF(ISBLANK(データシート!E49),"",データシート!E49) | H22: =IF(ISBLANK(データシート!F49),"",データシート!F49) | J22: =IF(ISBLANK(データシート!G49),"",データシート!G49) | L22: =IF(ISBLANK(データシート!H49),"",データシート!H49)
A23: 5 | B23: =IF(ISBLANK(データシート!C50),"",データシート!C50) | D23: =IF(ISBLANK(データシート!D50),"",データシート!D50) | F23: =IF(ISBLANK(データシート!E50),"",データシート!E50) | H23: =IF(ISBLANK(データシート!F50),"",データシート!F50) | J23: =IF(ISBLANK(データシート!G50),"",データシート!G50) | L23: =IF(ISBLANK(データシート!H50),"",データシート!H50)
B24: =IF(ISBLANK(データシート!C51),"",データシート!C51) | D24: =IF(ISBLANK(データシート!D51),"",データシート!D51) | F24: =IF(ISBLANK(データシート!E51),"",データシート!E51) | H24: =IF(ISBLANK(データシート!F51),"",データシート!F51) | J24: =IF(ISBLANK(データシート!G51),"",データシート!G51) | L24: =IF(ISBLANK(データシート!H51),"",データシート!H51)
A25: 6 | B25: =IF(ISBLANK(データシート!C52),"",データシート!C52) | D25: =IF(ISBLANK(データシート!D52),"",データシート!D52) | F25: =IF(ISBLANK(データシート!E52),"",データシート!E52) | H25: =IF(ISBLANK(データシート!F52),"",データシート!F52) | J25: =IF(ISBLANK(データシート!G52),"",データシート!G52) | L25: =IF(ISBLANK(データシート!H52),"",データシート!H52)
B26: =IF(ISBLANK(データシート!C53),"",データシート!C53) | D26: =IF(ISBLANK(データシート!D53),"",データシート!D53) | F26: =IF(ISBLANK(データシート!E53),"",データシート!E53) | H26: =IF(ISBLANK(データシート!F53),"",データシート!F53) | J26: =IF(ISBLANK(データシート!G53),"",データシート!G53) | L26: =IF(ISBLANK(データシート!H53),"",データシート!H53)
A27: 7 | B27: =IF(ISBLANK(データシート!C54),"",データシート!C54) | D27: =IF(ISBLANK(データシート!D54),"",データシート!D54) | F27: =IF(ISBLANK(データシート!E54),"",データシート!E54) | H27: =IF(ISBLANK(データシート!F54),"",データシート!F54) | J27: =IF(ISBLANK(データシート!G54),"",データシート!G54) | L27: =IF(ISBLANK(データシート!H54),"",データシート!H54)
B28: =IF(ISBLANK(データシート!C55),"",データシート!C55) | D28: =IF(ISBLANK(データシート!D55),"",データシート!D55) | F28: =IF(ISBLANK(データシート!E55),"",データシート!E55) | H28: =IF(ISBLANK(データシート!F55),"",データシート!F55) | J28: =IF(ISBLANK(データシート!G55),"",データシート!G55) | L28: =IF(ISBLANK(データシート!H55),"",データシート!H55)
A29: 8 | B29: =IF(ISBLANK(データシート!C56),"",データシート!C56) | D29: =IF(ISBLANK(データシート!D56),"",データシート!D56) | F29: =IF(ISBLANK(データシート!E56),"",データシート!E56) | H29: =IF(ISBLANK(データシート!F56),"",データシート!F56) | J29: =IF(ISBLANK(データシート!G56),"",データシート!G56) | L29: =IF(ISBLANK(データシート!H56),"",データシート!H56)
B30: =IF(ISBLANK(データシート!C57),"",データシート!C57) | D30: =IF(ISBLANK(データシート!D57),"",データシート!D57) | F30: =IF(ISBLANK(データシート!E57),"",データシート!E57) | H30: =IF(ISBLANK(データシート!F57),"",データシート!F57) | J30: =IF(ISBLANK(データシート!G57),"",データシート!G57) | L30: =IF(ISBLANK(データシート!H57),"",データシート!H57)
A33: 上記の者は、本校在学生で標記大会に出場することを認め、参加申し込みいたします。併せて、別紙宿泊申込書のとおり、宿泊申し込みいたします。
A35: =IF(ISBLANK(データシート!D3),"",データシート!D3)
B36: =IF(ISBLANK(データシート!D9),"",データシート!D9) | I36: 校長 | J36: =IF(ISBLANK(データシート!D16),"",データシート!D16) | N36: ㊞
