Workbook
Name 編集可能枠: #REF!,#REF!,#REF!,#REF!,#REF!,#REF!,#REF!,#REF!,#REF!,#REF!,#REF!,#REF!,#REF!,#REF!,#REF!,#REF!,#REF!,#REF!,#REF!,#REF!,#REF!,#REF!,#REF!,#REF!

Sheet 申込書
A1: 第４４回全九州高等学校新人陸上競技大会
A2: 【 宿泊・弁当申込書 】
A3: 申込締切日：令和８年9月25日(金) | Q3: 新 規 申込日 | Y3: 内 容 変更日
A4: 学校名 | Q4: 連絡先 | S4: ＴＥＬ | X4: - | AB4: -
S6: ＦＡＸ | X6: - | AB6: -
A7: フリガナ
A8: 宿泊引率 責任者 | S8: 携 帯 | X8: - | AB8: -
A10: 書 類 送付先 | D10: 〒 | W10: メールアドレス※任意 ( )
A11: ★ホテル食事に関する意向調査★ 下記に☑チェックを入れてください
A12: 昨今のホテル事情（夕食付ホテルの減少等）を鑑み、意向調査にご協力をお願いいたします。
C13: FALSE | D13: 夕食：弁当での対応可 | L13: FALSE | M13: 朝食のみに変更可能 | T13: FALSE | U13: 素泊りに変更可能 | Z13: FALSE | AA13: その他要相談
A14: ※上記の意向調査を受け、事前承諾なしに食事条件等変更の上でご案内させて頂く場合がございますので、予めご了承下さい。
A15: ★宿泊施設 希望区分記入欄 | T15: ※[Ａ][Ｂ][Ｃ]を必ずご指定ください。希望が偏った場合は、誠に恐縮 ですが希望区分と異なる宿泊施設へのご案内となる場合がございます。 予めご理解いただきますようお願いいたします。
A17: NO | B17: 宿 泊 者 名 ※カタカナでご記入下さい。 | I17: 性別 | K17: 参加区分 | O17: 宿泊・食事利用日に○印をつけて下さい | AA17: 備 考
O18: 46303 | R18: 46304 | U18: 46305 | X18: 46306
K19: 監督/ｺｰﾁ/生徒等 (プルタブ選択) | O19: 大会前日 | R19: 大会初日 | U19: 大会２日目 | X19: 大会最終日 | AA19: ※食物ｱﾚﾙｷﾞｰ対象者はこの欄に｢アレルギー｣と記載ください ※喫煙室希望､相部屋希望者情報等 記入ください。
O20: 夕食 | P20: 宿泊 | Q20: 翌日 朝食 | R20: 夕食 | S20: 宿泊 | T20: 翌日 朝食 | U20: 夕食 | V20: 宿泊 | W20: 翌日 朝食 | X20: 夕食 | Y20: 宿泊 | Z20: 翌日 朝食
A21: 例 | B21: フクオカ タロウ | I21: 男 | K21: 監 督 | O21: 2食付記入例→ | S21: ○ | T21: ○ | V21: ○ | W21: ○ | Y21: ○ | Z21: ○ | AA21: 喫煙室希望
B22: フクオカ ハナコ | I22: 女 | K22: 生 徒 | O22: 朝食付記入例→ | R22: ○ | S22: ○ | T22: ○ | U22: ○ | V22: ○ | W22: ○ | X22: ○ | Y22: ○ | Z22: ○ | AA22: アレルギー
A23: 1
A24: 2
A25: 3
A26: 4
A27: 5
A28: 6
A29: 7
A30: 8
A31: 9
A32: 10
A33: 11
A34: 12
... A42: 20
A43: 初泊日ﾁｪｯｸｲﾝ予定時間 (原則15:00以降可) | G43: ： | K43: 総 計 | O43: =COUNTIF(O23:O42,"=○") -> 0 | P43: =COUNTIF(P23:P42,"=○") -> 0 | Q43: =COUNTIF(Q23:Q42,"=○") -> 0 | R43: =COUNTIF(R23:R42,"=○") -> 0 | S43: =COUNTIF(S23:S42,"=○") -> 0 | T43: =COUNTIF(T23:T42,"=○") -> 0 | U43: =COUNTIF(U23:U42,"=○") -> 0 | V43: =COUNTIF(V23:V42,"=○") -> 0 | ... Z43: =COUNTIF(Z23:Z42,"=○") -> 0 | AA43: 喫・禁煙室や食物アレルギー対応など、ご希望に添えない場合もございます。予めご了承下さい。
A46: ホテル食事希望時間 | Q46: お弁当 申込数 | T46: =O18 -> 46303 | W46: =R18 -> 46304 | Z46: =U18 -> 46305 | AC46: =X18 -> 46306
A47: =申込書!O18 -> 46303 | D47: 夕食時間 | I47: =申込書!R18 -> 46304 | L47: 朝食時間 | T47: 大会前日 | W47: 大会初日 | Z47: 大会２日目 | AC47: 大会最終日
A48: =申込書!R18 -> 46304 | D48: 夕食時間 | I48: =申込書!U18 -> 46305 | L48: 朝食時間 | V48: 個 | Y48: 個 | AB48: 個 | AE48: 個
A49: =申込書!U18 -> 46305 | D49: 夕食時間 | I49: =申込書!X18 -> 46306 | L49: 朝食時間
A50: =申込書!X18 -> 46306 | D50: 夕食時間 | I50: 46307 | L50: 朝食時間
A51: ＜ホテル食事について＞ ◇朝食時間／6:30以前は困難な場合有り ◇夕食時間／20:00以後は困難な場合有り ※期間中は混雑が予想されます。時間調整や多少お待ち頂く場合もございます。ご理解とご協力をお願いいたします。 | J51: ホテル 移動 手段 | M51: 公共交通 | Q51: ホテル 駐車場 利用数 | T51: 普通車※ | V51: ワゴン※ | X51: ﾏｲｸﾛﾊﾞｽ | Z51: 小型ﾊﾞｽ | AB51: 中型ﾊﾞｽ | AD51: 大型ﾊﾞｽ
M52: 自家用車 | U52: 台 | W52: 台 | Y52: 台 | AA52: 台 | AC52: 台 | AE52: 台
...

Sheet アレルギー調査票※該当者なし→記入不要又はシート削除
A1: 第４４回全九州高等学校新人陸上競技大会
A3: ≪ 食物アレルギー調査票 ≫ アレルギー者が2名以上の場合は本紙(シート)をコピーして下さい
A5: 事前調査のご協力をお願い致します。ご記入頂きました内容をもとに宿舎及び弁当業者へ連絡致します。
A6: 尚、調査内容により宿舎を決定するものではありません。アレルギーの内容や程度により、ご対応いたしかねる場合もございます。
A8: 団体名 | AA8: 注 意 事 項
AA9: 本調査はアレルギーに関するものであり、食材の
A10: 記入者氏名 | P10: 携帯 | AA10: 好き嫌い（好み）等のご対応はいたしかねます。
P11: FAX | AA11: 予めご承知おき下さいます様お願い申し上げます。
A12: 対象者氏名 （カタカナ） | P12: ※① | AA12: 本調査票は個人情報の取り扱いに留意の上 責任を持って保管・処分致します。
P13: ❖弁当注文(対象者分)
A14: ※① - 申込書記載の弁当注文個数にアレルギー対象者分が含まれている場合は「有」、注文をしない場合は「無」をご記入ください。
A15: ※貴団体にアレルギー該当が無い場合は、本書面をご提出して頂く必要はございません。
A16: ① 該当の原因食物・各該当項目に✓を付けて下さい。（一部種類をご記入ください） ※✓が無い項目は喫食可
B17: ❖ご家庭での対応や既記されていない除去食品や注意点等ありましたら“その他”にご記入下さい。
B18: 原因食物 | G18: 当てはまるもの全てにチェックして下さい。(チェック項目に色が付きます）
B19: 卵 | H19: 生卵不可 | M19: 加熱しても不可 | T19: フライや練り物等のつなぎ不可 | AE19: マヨネーズ不可 | AS19: FALSE | AT19: FALSE | AU19: FALSE | AV19: FALSE | AW19: =IF($AD$19="✓",TRUE,FALSE) -> FALSE
B20: その他/備考
B21: 乳 | H21: 牛乳不可 | M21: 乳製品不可（製品名: | AA21: ） | AC21: フライや練り物等のつなぎ不可 | AS21: FALSE | AT21: FALSE | AU21: FALSE | AV21: FALSE
B22: その他/備考 | AS22: FALSE
B23: エビ | E23: カニ | H23: 生食不可 | M23: 加熱しても不可 | T23: エキス・だし不可 | AA23: 該当食物を揚げた油の使用 | AS23: FALSE | AT23: FALSE | AU23: FALSE | AV23: FALSE | AW23: FALSE
B24: その他/備考
B25: 蕎麦 | H25: 完全除去 | M25: 蕎麦ガラ枕不可 | T25: 茹で汁 | AS25: FALSE | AT25: FALSE | AU25: FALSE | AV25: FALSE
B26: その他/備考
B27: 小麦 | H27: 小麦製品完全除去 | P27: フライや練り物等のつなぎ不可 | AA27: 醬油不可 | AS27: FALSE | AT27: FALSE | AU27: FALSE | AV27: FALSE
B28: その他/備考
B29: ナッツ類 | G29: ナッツの種類（ | V29: ） | X29: そのものが不可 | AE29: エキス･ナッツ系オイル不可 | AS29: FALSE | AT29: FALSE | AU29: FALSE
B30: その他/備考 | AS30: TRUE
B31: タコ | E31: イカ | H31: そのものが不可 | O31: エキス・だし不可 | V31: 加熱しても不可 | AS31: FALSE | AT31: FALSE | AU31: FALSE | AV31: FALSE
B32: その他/備考 | AS32: FALSE
B33: 貝 | E33: 魚類 | H33: 貝全般不可 | N33: 魚全般不可 | T33: エキス・だし不可 | AA33: 加熱しても不可 | AS33: FALSE | AT33: FALSE | AU33: FALSE | AV33: FALSE | AW33: FALSE
B34: その他/備考 | AA34: 特定の種類（ | AM34: ） | AS34: FALSE
B35: ごま | E35: 果物 | H35: そのものが不可 | O35: 種類（ | AM35: ） | AS35: FALSE | AT35: FALSE
B36: その他/備考 | AS36: FALSE
B37: 上記項目以外 | G37: 原因食物： | S37: 除去食品や程度： | AS37: FALSE
G39: 対応方法：
A42: ② アレルギーの症状等、知らせておきたいことがありましたらご記入下さい。
A46: ③ 食物アレルギーの症状が出た際の治療薬はお持ちですか？
C48: はい →（ | L48: ） | S48: いいえ
B49: ※「はい」とお答えになった方は下記ご確認下さい。
B50: ・（）内にお薬のご記入、もしくはプルダウンから選択ください。
...
