{"text_format":"3","workbook":"xlsx","n_sheets":7,"sheets":["入力シート","学校対抗戦参加申込書","男子個人対抗戦参加申込書","女子個人対抗戦参加申込書","データ(削除しないで)","引率責任者（集計用）","学校名入力_20240302"],"not_rendered":{"images":1,"macros":1,"external_links":5,"defined_names":74},"read":"whole","date_system":"1900"}

{"sheet":"入力シート","index":0,"n_rows":269,"n_cols":15,"rows_kept":269,"merged":[[1,1,2,2],[3,1,3,2],[3,4,3,5],[4,1,4,2],[4,4,4,5],[5,1,5,2],[5,4,5,5],[6,1,6,2],[6,4,6,5],[7,1,7,2],[7,4,7,5],[8,1,8,2],[8,4,8,5],[9,1,12,2],[9,4,12,5],[16,1,17,2],[19,1,20,1],[19,5,20,5],[22,1,34,1],[26,2,27,2],[26,5,27,5],[29,2,31,2],[29,5,31,5],[32,2,34,2],[32,5,34,5],[35,1,36,1],[37,1,38,1],[39,1,46,1],[44,2,46,2],[44,5,46,5],[47,1,54,1],[52,2,54,2],[52,5,54,5],[55,1,59,1],[60,1,64,1],[65,1,68,1],[69,1,73,1],[74,1,74,5],[76,1,77,2],[78,1,79,2],[78,3,79,4],[78,5,79,6],[78,9,78,11],[78,12,79,12],[78,13,79,13],[89,1,90,2],[89,3,90,4],[89,5,90,6],[89,9,89,11],[89,12,90,12],[89,13,90,13],[100,1,101,2],[102,1,103,2],[102,3,103,4],[102,5,103,6],[102,9,102,11],[102,12,103,12],[102,13,103,13],[114,1,115,2],[114,3,115,4],[114,5,115,6],[114,9,114,11],[114,12,115,12],[114,13,115,13],[126,1,127,2],[128,1,129,2],[128,3,129,4],[128,5,129,6],[128,9,128,11],[128,12,129,12],[128,13,129,13]]}
[]
[null,"【申込の手順】",{"$nulls":3},"2024/04/02 版"]
[]
[null,"項目",null,"リンク先","備考"]
[null,"①　共通項目の入力",null,"―","　 17行から"]
[null,"②　学校対抗戦の入力",null,"―","　 77行から"]
[{"$nulls":3},"―"]
[null,"③　男子個人対抗戦の入力",null,"―","　101行から"]
[null,"④　女子個人対抗戦の入力",null,"―","　127行から"]
[null,"⑤　各シートの印刷",null,"学校対抗戦参加申込書","　該当する申込書を３部印刷\n　必要な押印（校長印）し、専門委員長にお送りください。"]
[]
[{"$nulls":3},"男子個人対抗戦参加申込書"]
[{"$nulls":3},"女子個人対抗戦参加申込書"]
[null,"※　②～⑤は対象のみ入力してください。"]
[]
[]
[null,"共通項目"]
[]
[null,"分類","項目","入力項目","入力例","備考（説明）",3,null,null,2]
[null,"作成日","月",null,6,"（例）6月8日\n　各申込書の高体連会長印の日にちは，　記入してください"]
[null,null,"日",null,8]
[null,"都道府県","都道府県名",null,"佐賀県","プルダウンより選択してください",{"$f":"IF(D22=\"\",\"\",VLOOKUP(D22,$B$220:$D$269,$G$19,FALSE))","v":""},null,null,{"$f":"IF(D22=\"\",\"\",VLOOKUP(D22,$B$220:$D$269,$J$19,FALSE))","v":""}]
[null,"学校","学校名",null,"佐賀商業","プルダウンより選択してください"]
[null,null,"（ふりがな）",{"$f":"VLOOKUP($D$23,[5]学校名入力_20240302!$E$3:$H$319,$G$24,FALSE)","v":{"$error":"#N/A"}},"さがしょうぎょう","自動で表示されます",3]
[null,null,"正式名称",{"$f":"VLOOKUP($D$23,[5]学校名入力_20240302!$E$3:$H$319,$G$25,FALSE)","v":{"$error":"#N/A"}},"佐賀県立佐賀商業高等学校","自動で表示されます",4]
[null,null,"略称",{"$f":"VLOOKUP($D$23,[5]学校名入力_20240302!$E$3:$H$319,$G$26,FALSE)","v":{"$error":"#N/A"}},"佐賀商","自動で表示されます(Timer表示に使用)",2]
[null,null,"郵便番号",null,"840","（例）840-8570"]
[{"$nulls":4},"8570"]
[null,null,"住所",null,"佐賀市城内1-5-9"]
[null,null,"電話番号",null,"0952","（例）0952-24-2111\n上段：市外局番\n中段：市内局番(前半部分)\n下段：加入者番号(後半部分)"]
[{"$nulls":4},"24"]
[{"$nulls":4},"2111"]
[null,null,"FAX番号",null,"0952","（例）0952-25-0753\n上段：市外局番\n中段：市内局番(前半部分)\n下段：加入者番号(後半部分)"]
[{"$nulls":4},"25"]
[{"$nulls":4},"0753"]
[null,"学校長名","苗字",null,"佐賀"]
[null,null,"名前",null,"太郎"]
[null,"都道府県\n高体連会長名","苗字",null,"総体"]
[null,null,"名前",null,"次郎"]
[null,"監督\n（学校対抗・男子個人）","（みょうじ ふりがな）",null,"すずき"]
[null,null,"苗字",null,"鈴木"]
[null,null,"（なまえ ふりがな）",null,"いちろう"]
[null,null,"名前",null,"一朗"]
[null,null,"協会登録番号",null,"JWF24-00123","下五桁のみ入力してください"]
[null,null,"緊急連絡先",null,"080","（例）080-1234-5678\n上段：市外局番\n中段：市内局番(前半部分)\n下段：加入者番号(後半部分)"]
[{"$nulls":4},"1234"]
[{"$nulls":4},"5678"]
[null,"監督\n（女子個人）","（みょうじ ふりがな）",null,"すずき"]
[null,null,"苗字",null,"鈴木"]
[null,null,"（なまえ ふりがな）",null,"はなこ"]
[null,null,"名前",null,"花子"]
[null,null,"協会登録番号",null,"JWF24-00123","下五桁のみ入力してください"]
[null,null,"緊急連絡先",null,"080","（例）080-1234-5678\n上段：市外局番\n中段：市内局番(前半部分)\n下段：加入者番号(後半部分)"]
[{"$nulls":4},"1234"]
[{"$nulls":4},"5678"]
{"$rows_empty":10}
[null,"引率責任者","（しめい ふりがな）",null,"すずき いちろう"]
[null,null,"氏名",null,"鈴木 一朗"]
[null,null,"緊急 携帯番号",null,"080-1234-5678"]
[null,null,"緊急 MailAdress",null,"Wrestling＠gmail.com"]
{"$rows_empty":7}
[null,"学校対抗戦"]
[]
[null,"正員　階級",null,"氏名",null,"ふりがな",{"$nulls":3},"生年月日",null,null,"高体連番号","学年"]
[{"$nulls":7},"がっこうふりがな","学校名","平成","月","日"]
["（記入例）",{"v":51,"d":"51kg"},"正員","佐賀","三郎","さが","さぶろう",null,null,19,12,12,1002,{"v":1,"d":"1年"}]
[null,{"v":51,"d":"51kg"},"正員",{"$nulls":11},{"$f":"IF(F82<>\"\",1,\"\")","v":""}]
[null,{"v":55,"d":"55kg"},"正員",{"$nulls":11},""]
[null,{"v":60,"d":"60kg"},"正員",{"$nulls":11},""]
[null,{"v":65,"d":"65kg"},"正員",{"$nulls":11},""]
[null,{"v":71,"d":"71kg"},"正員",{"$nulls":11},""]
[null,{"v":80,"d":"80kg"},"正員",{"$nulls":11},""]
[null,{"v":125,"d":"125kg"},"正員",{"$nulls":11},""]
[]
[null,"補員　階級",null,"氏名",null,"ふりがな",{"$nulls":3},"生年月日",null,null,"高体連番号","学年"]
[{"$nulls":7},"がっこうふりがな","学校名","平成","月","日"]
["（記入例）",{"v":51,"d":"51kg"},"補員","佐賀","史郎","さが","しろう",null,null,19,12,13,1003,{"v":1,"d":"1年"}]
[{"$f":"IF(O93=\"\",\"\",7+SUM(O93:O93))","v":""},{"v":51,"d":"51kg"},"補員",{"$nulls":11},{"$f":"IF(F93<>\"\",1,\"\")","v":""}]
[{"$f":"IF(O94=\"\",\"\",7+SUM(O93:O94))","v":""},{"v":55,"d":"55kg"},"補員",{"$nulls":11},""]
[{"$f":"IF(O95=\"\",\"\",7+SUM(O93:O95))","v":""},{"v":60,"d":"60kg"},"補員",{"$nulls":11},""]
[{"$f":"IF(O96=\"\",\"\",7+SUM(O93:O96))","v":""},{"v":65,"d":"65kg"},"補員",{"$nulls":11},""]
[{"$f":"IF(O97=\"\",\"\",7+SUM(O93:O97))","v":""},{"v":71,"d":"71kg"},"補員",{"$nulls":11},{"$f":"IF(F97<>\"\",1,\"\")","v":""}]
[{"$f":"IF(O98=\"\",\"\",7+SUM(O93:O98))","v":""},{"v":80,"d":"80kg"},"補員",{"$nulls":11},""]
[{"$f":"IF(O99=\"\",\"\",7+SUM(O93:O99))","v":""},{"v":125,"d":"125kg"},"補員",{"$nulls":11},""]
[]
[null,"男子個人対抗戦"]
[]
[null,"県大会１位選手",null,"氏名",null,"ふりがな",{"$nulls":3},"生年月日",null,null,"高体連番号","学年"]
[{"$nulls":7},"がっこうふりがな","学校名","平成","月","日"]
["（記入例）",{"v":51,"d":"51kg"},"１位","嬉野","太郎","うれしの","たろう",null,null,19,12,10,1000,{"v":1,"d":"1年"}]
[null,{"v":51,"d":"51kg"},"１位",{"$nulls":11},{"$f":"IF(F106<>\"\",1,\"\")","v":""}]
[null,{"v":55,"d":"55kg"},"１位",{"$nulls":11},""]
[null,{"v":60,"d":"60kg"},"１位",{"$nulls":11},""]
[null,{"v":65,"d":"65kg"},"１位",{"$nulls":11},""]
[null,{"v":71,"d":"71kg"},"１位",{"$nulls":11},""]
[null,{"v":80,"d":"80kg"},"１位",{"$nulls":11},""]
[null,{"v":92,"d":"92kg"},"１位",{"$nulls":11},""]
[null,{"v":125,"d":"125kg"},"１位",{"$nulls":11},""]
[]
[null,"県大会２位選手",null,"氏名",null,"ふりがな",{"$nulls":3},"生年月日",null,null,"高体連番号","学年"]
[{"$nulls":7},"がっこうふりがな","学校名","平成","月","日"]
["（記入例）",{"v":51,"d":"51kg"},"２位","嬉野","次郎","うれしの","じろう",null,null,19,12,11,1001,{"v":1,"d":"1年"}]
[null,{"v":51,"d":"51kg"},"２位",{"$nulls":11},{"$f":"IF(F118<>\"\",1,\"\")","v":""}]
[null,{"v":55,"d":"55kg"},"２位",{"$nulls":11},""]
[null,{"v":60,"d":"60kg"},"２位",{"$nulls":11},""]
[null,{"v":65,"d":"65kg"},"２位",{"$nulls":11},""]
[null,{"v":71,"d":"71kg"},"２位",{"$nulls":11},""]
[null,{"v":80,"d":"80kg"},"２位",{"$nulls":11},""]
[null,{"v":92,"d":"92kg"},"２位",{"$nulls":11},""]
[null,{"v":125,"d":"125kg"},"２位",{"$nulls":11},""]
[]
[null,"女子個人対抗戦"]
[]
[null,"階級・県大会順位",null,"氏名",null,"ふりがな",{"$nulls":3},"生年月日",null,null,"高体連番号","学年"]
[{"$nulls":7},"がっこうふりがな","学校名","平成","月","日"]
["（記入例）",{"v":51,"d":"51kg"},1,"九州","花子","きゅうしゅう","はなこ",null,null,19,12,14,1004,{"v":1,"d":"1年"},{"$f":"IF(F131<>\"\",1,\"\")","v":1}]
[null,"(選択)",{"$nulls":12},""]
[null,"(選択)",{"$nulls":12},""]
[null,"(選択)",{"$nulls":12},""]
[null,"(選択)",{"$nulls":12},""]
[null,"(選択)",{"$nulls":12},""]
[null,"(選択)",{"$nulls":12},""]
[null,"(選択)",{"$nulls":12},""]
[null,"(選択)",{"$nulls":12},""]
[null,"(選択)",{"$nulls":12},""]
[null,"(選択)",{"$nulls":12},""]
[null,"(選択)",{"$nulls":12},""]
[null,"(選択)",{"$nulls":12},""]
[null,"(選択)",{"$nulls":12},""]
[null,"(選択)",{"$nulls":12},""]
[null,"(選択)",{"$nulls":12},""]
[null,"(選択)",{"$nulls":12},""]
{"$rows_empty":72}
[null,"(選択)",0,"　","(選択)",{"$nulls":3},"(選択)"]
[null,"北海道",1,"北海道",1,{"$nulls":3},1]
[null,"青森県",2,"東北",2,{"$nulls":3},2]
[null,"岩手県",3,"東北",3,{"$nulls":3},3]
[null,"宮城県",4,"東北"]
[null,"秋田県",5,"東北"]
[null,"山形県",6,"東北","女子の階級"]
[null,"福島県",7,"東北","(選択)"]
[null,"茨城県",8,"関東",47]
[null,"栃木県",9,"関東",50]
[null,"群馬県",10,"関東",53]
[null,"埼玉県",11,"関東",57]
[null,"千葉県",12,"関東",62]
[null,"東京都",13,"関東",68]
[null,"神奈川県",14,"関東",74]
[null,"山梨県",15,"関東"]
[null,"新潟県",16,"北信越"]
[null,"富山県",17,"北信越"]
[null,"石川県",18,"北信越"]
[null,"福井県",19,"北信越"]
[null,"長野県",20,"北信越"]
[null,"岐阜県",21,"東海"]
[null,"静岡県",22,"東海"]
[null,"愛知県",23,"東海"]
[null,"三重県",24,"東海"]
[null,"滋賀県",25,"近畿"]
[null,"京都府",26,"近畿"]
[null,"大阪府",27,"近畿"]
[null,"兵庫県",28,"近畿"]
[null,"奈良県",29,"近畿"]
[null,"和歌山県",30,"近畿"]
[null,"鳥取県",31,"中国"]
[null,"島根県",32,"中国"]
[null,"岡山県",33,"中国"]
[null,"広島県",34,"中国"]
[null,"山口県",35,"中国"]
[null,"徳島県",36,"四国"]
[null,"香川県",37,"四国"]
[null,"愛媛県",38,"四国"]
[null,"高知県",39,"四国"]
[null,"福岡県",40,"九州"]
[null,"佐賀県",41,"九州"]
[null,"長崎県",42,"九州"]
[null,"熊本県",43,"九州"]
[null,"大分県",44,"九州"]
[null,"宮崎県",45,"九州"]
[null,"鹿児島県",46,"九州"]
[null,"沖縄県",47,"九州"]
[null,"開催権２",48]
[null,"--",49]

{"sheet":"学校対抗戦参加申込書","index":1,"n_rows":161,"n_cols":34,"rows_kept":161,"merged":[[0,4,1,19],[0,25,2,27],[0,28,2,31],[1,20,1,24],[2,4,3,19],[2,20,3,24],[3,25,5,27],[3,28,5,31],[4,4,5,18],[7,33,7,37],[9,33,13,44],[11,11,11,12],[11,14,11,15],[13,2,13,4],[13,7,13,11],[13,12,13,15],[14,2,14,3],[14,5,14,6],[14,8,14,9],[14,10,14,20],[14,24,14,25],[14,27,14,28],[14,30,14,31],[15,2,15,3],[15,4,15,17],[15,18,15,20],[15,24,15,25],[15,27,15,28],[15,30,15,31],[16,2,16,3],[16,7,16,17],[17,5,17,10],[18,4,18,10],[18,11,18,12],[18,14,18,15],[20,11,20,13],[20,14,20,17],[20,18,20,28],[22,2,26,3],[22,4,26,7],[22,8,22,10],[22,11,22,15],[22,16,26,16],[22,17,26,17],[22,18,26,18],[22,19,22,20],[22,21,22,23],[22,24,22,25],[22,26,22,27],[22,28,22,29],[22,30,22,31],[23,8,25,10],[23,11,25,15],[23,19,25,20],[23,21,25,23],[23,24,25,25],[23,26,25,27],[23,28,25,29],[23,30,25,31],[26,8,26,10],[26,11,26,15],[26,19,26,20],[26,21,26,25],[26,26,26,27],[26,28,26,31],[28,2,28,5],[28,6,28,13],[28,14,28,16],[28,17,28,26],[28,27,28,31],[29,2,49,2],[29,3,31,5],[29,6,29,10],[29,11,29,13],[29,14,31,16],[29,27,30,30],[30,6,31,10],[30,11,31,13],[30,17,30,18],[30,24,30,25],[31,28,31,29],[32,3,34,5],[32,6,32,10],[32,11,32,13],[32,14,34,16],[32,27,33,30],[33,6,34,10],[33,11,34,13],[33,17,33,18],[33,24,33,25],[34,28,34,29],[35,3,37,5],[35,6,35,10],[35,11,35,13],[35,14,37,16],[35,27,36,30],[36,6,37,10],[36,11,37,13],[36,17,36,18],[36,24,36,25],[37,28,37,29],[38,3,40,5],[38,6,38,10],[38,11,38,13],[38,14,40,16],[38,27,39,30],[39,6,40,10],[39,11,40,13],[39,17,39,18],[39,24,39,25],[40,28,40,29],[41,3,43,5],[41,6,41,10],[41,11,41,13],[41,14,43,16],[41,27,42,30],[42,6,43,10],[42,11,43,13],[42,17,42,18],[42,24,42,25],[43,28,43,29],[44,3,46,5],[44,6,44,10],[44,11,44,13],[44,14,46,16],[44,27,45,30],[45,6,46,10],[45,11,46,13],[45,17,45,18],[45,24,45,25],[46,28,46,29],[47,3,49,5],[47,6,47,10],[47,11,47,13],[47,14,49,16],[47,27,48,30],[48,6,49,10],[48,11,49,13],[48,17,48,18],[48,24,48,25],[49,28,49,29],[51,2,52,5],[51,9,51,11],[51,14,52,16],[51,17,52,26],[51,27,52,31],[52,9,52,11],[53,2,73,2],[53,3,55,5],[53,6,53,10],[53,11,53,13],[53,14,55,16],[53,27,54,30],[53,32,57,36],[54,6,55,10],[54,11,55,13],[54,17,54,18],[54,24,54,25],[55,28,55,29],[56,3,58,5],[56,6,56,10],[56,11,56,13],[56,14,58,16],[56,27,57,30],[57,6,58,10],[57,11,58,13],[57,17,57,18],[57,24,57,25],[58,28,58,29],[59,3,61,5],[59,6,59,10],[59,11,59,13],[59,14,61,16],[59,27,60,30],[60,6,61,10],[60,11,61,13],[60,17,60,18],[60,24,60,25],[61,28,61,29],[62,3,64,5],[62,6,62,10],[62,11,62,13],[62,14,64,16],[62,27,63,30],[63,6,64,10],[63,11,64,13],[63,17,63,18],[63,24,63,25],[64,28,64,29],[65,3,67,5],[65,6,65,10],[65,11,65,13],[65,14,67,16],[65,27,66,30],[66,6,67,10],[66,11,67,13],[66,17,66,18],[66,24,66,25],[67,28,67,29],[68,3,70,5],[68,6,68,10],[68,11,68,13],[68,14,70,16],[68,27,69,30],[69,6,70,10],[69,11,70,13],[69,17,69,18],[69,24,69,25],[70,28,70,29],[71,3,73,5],[71,6,71,10],[71,11,71,13],[71,14,73,16],[71,27,72,30],[72,6,73,10],[72,11,73,13],[72,17,72,18],[72,24,72,25],[73,28,73,29]]}
[{"$nulls":4},"令和６年度全九州高等学校総合体育大会レスリング競技大会",{"$nulls":20},"会場地",null,null,"佐賀"]
[{"$nulls":20},"出場認定書"]
[{"$nulls":4},"（SAGA2024国スポレスリング競技リハーサル大会）",{"$nulls":15},"参加申込書"]
[{"$nulls":25},"競技種目",null,null,"レスリング"]
[{"$nulls":4},"（学校対抗戦）"]
[]
[]
[null,null,"令和６年度　全九州高等学校体育大会会長　様",{"$nulls":30},"【申込の手順に戻る】"]
[]
[{"$nulls":3},"下記の者は本校在学生徒で、標記大会に出場する資格を保証し、出場を認めます。",{"$nulls":29},"押印した参加申込書（3部）とそのデータ（未使用シートは削除しない）を各都道府県高体連レスリング専門部に提出する"]
[]
[{"$nulls":4},"令和６年(2024年)",{"$nulls":6},{"$f":"IF(入力シート!$D$20=\"\",\"\",入力シート!$D$20)","v":""},null,"月",{"$f":"IF(入力シート!$D$21=\"\",\"\",入力シート!$D$21)","v":""},null,"日"]
[]
[null,null,"都道府県名",{"$nulls":4},{"$f":"IF(入力シート!$D$22=\"\",\"\",入力シート!$D$22)","v":""},{"$nulls":4},{"$f":"IF(H14=\"\",\"\",VLOOKUP(H14,$F$113:$G$161,2,FALSE))","v":""}]
[null,null,"学校\n所在地",null,"〒",{"$f":"IF(入力シート!$D$27=\"\",\"\",入力シート!$D$27)","v":""},null,"-",{"$f":"IF(入力シート!$D$28=\"\",\"\",入力シート!$D$28)","v":""},null,{"$f":"IF(入力シート!$D$29=\"\",\"\",入力シート!$D$29)","v":""},{"$nulls":11},"電話",null,{"$f":"IF(入力シート!$D$30=\"\",\"\",入力シート!$D$30)","v":""},null,"－",{"$f":"IF(入力シート!$D$31=\"\",\"\",入力シート!$D$31)","v":""},null,"－",{"$f":"IF(入力シート!$D$32=\"\",\"\",入力シート!$D$32)","v":""}]
[null,null,"学校名",null,{"$f":"IF(入力シート!$D$25=\"\",\"\",入力シート!$D$25)","v":{"$error":"#N/A"}},{"$nulls":17},"FAX",null,{"$f":"IF(入力シート!$D$33=\"\",\"\",入力シート!$D$33)","v":""},null,"－",{"$f":"IF(入力シート!$D$34=\"\",\"\",入力シート!$D$34)","v":""},null,"－",{"$f":"IF(入力シート!$D$35=\"\",\"\",入力シート!$D$35)","v":""}]
[null,null,"校長名",{"$nulls":4},{"$f":"IF(入力シート!$D$36=\"\",\"\",入力シート!$D$36&\"　\"&入力シート!$D$37)","v":""},{"$nulls":10},"印"]
[null,null,"下記の者は、",null,null,{"$f":"H14","v":""},{"$nulls":5},"代表として、標記大会に出場することを認め、参加申込みをいたします。"]
[{"$nulls":4},"令和６年(2024年)",{"$nulls":8},"月",null,null,"日"]
[]
[{"$nulls":11},{"$f":"H14","v":""},null,null,"高体連会長",{"$nulls":3},{"$f":"IF(入力シート!$D$38=\"\",\"\",入力シート!$D$38&\"　\"&入力シート!$D$39)","v":""},{"$nulls":10},"印"]
[]
[null,null,"都道府県名",null,{"$f":"H14","v":""},{"$nulls":3},"ふりがな",null,null,{"$f":"IF(入力シート!$D$24=\"\",\"\",入力シート!$D$24&\"こうとうがっこう\")","v":{"$error":"#N/A"}},{"$nulls":4},"出場",{"$f":"IF(入力シート!$F$77=\"\",\"\",入力シート!$F$77)","v":""},"回目","ふりがな",null,{"$f":"IF(入力シート!$D$40=\"\",\"\",入力シート!$D$40)","v":""},null,null,{"$f":"IF(入力シート!$D$42=\"\",\"\",入力シート!$D$42)","v":""},null,"ふりがな",null,{"$f":"IF(入力シート!$D$56=\"\",\"\",入力シート!$D$56)","v":""},null,{"$f":"IF(入力シート!$D$58=\"\",\"\",入力シート!$D$58)","v":""}]
[{"$nulls":8},"学校名",null,null,{"$f":"IF(入力シート!$D$25=\"\",\"\",入力シート!$D$25)","v":{"$error":"#N/A"}},{"$nulls":7},"監督名",null,{"$f":"IF(入力シート!$D$41=\"\",\"\",入力シート!$D$41)","v":""},null,null,{"$f":"IF(入力シート!$D$43=\"\",\"\",入力シート!$D$43)","v":""},null,"コーチ名",null,{"$f":"IF(入力シート!$D$57=\"\",\"\",入力シート!$D$57)","v":""},null,{"$f":"IF(入力シート!$D$59=\"\",\"\",入力シート!$D$59)","v":""}]
[]
[]
[{"$nulls":8},"引率責任者",null,null,{"$f":"入力シート!D67","v":0},{"$nulls":7},"日本協会番号",null,{"$f":"IF(入力シート!$D$44=\"\",\"\",入力シート!$D$44)","v":""},{"$nulls":4},"日本協会番号",null,{"$f":"IF(入力シート!$D$60=\"\",\"\",入力シート!$D$60)","v":""}]
[]
["氏生","ふ学","級",{"$nulls":3},"氏　名",{"$nulls":7},"学年",null,null,"生　年　月　日",{"$nulls":9},"高体連登録番号"]
[null,1,"正員","51㎏",null,null,{"$f":"IF(入力シート!$F$82=\"\",\"\",入力シート!$F$82)","v":""},{"$nulls":4},{"$f":"IF(入力シート!$G$82=\"\",\"\",入力シート!$G$82)","v":""},null,null,{"$f":"IF(入力シート!$N$82=\"\",\"\",入力シート!$N$82)","v":""},{"$nulls":12},{"$f":"IF(入力シート!$D$22=\"\",\"\",入力シート!$D$22)","v":""}]
[1,{"$nulls":5},{"$f":"IF(入力シート!$D$82=\"\",\"\",入力シート!$D$82)","v":""},{"$nulls":4},{"$f":"IF(入力シート!$E$82=\"\",\"\",入力シート!$E$82)","v":""},{"$nulls":5},"平成",null,{"$f":"IF(入力シート!$J$82=\"\",\"\",入力シート!$J$82)","v":""},"・",null,{"$f":"IF(入力シート!$K$82=\"\",\"\",入力シート!$K$82)","v":""},"・",{"$f":"IF(入力シート!$L$82=\"\",\"\",入力シート!$L$82)","v":""}]
[{"$nulls":27},"第",{"$f":"IF(入力シート!$M$82=\"\",\"\",入力シート!$M$82)","v":""},null,null,"号"]
[null,2,null,"55㎏",null,null,{"$f":"IF(入力シート!$F$83=\"\",\"\",入力シート!$F$83)","v":""},{"$nulls":4},{"$f":"IF(入力シート!$G$83=\"\",\"\",入力シート!$G$83)","v":""},null,null,{"$f":"IF(入力シート!$N$83=\"\",\"\",入力シート!$N$83)","v":""},{"$nulls":12},{"$f":"IF(入力シート!$D$22=\"\",\"\",入力シート!$D$22)","v":""}]
[2,{"$nulls":5},{"$f":"IF(入力シート!$D$83=\"\",\"\",入力シート!$D$83)","v":""},{"$nulls":4},{"$f":"IF(入力シート!$E$83=\"\",\"\",入力シート!$E$83)","v":""},{"$nulls":5},"平成",null,{"$f":"IF(入力シート!$J$83=\"\",\"\",入力シート!$J$83)","v":""},"・",null,{"$f":"IF(入力シート!$K$83=\"\",\"\",入力シート!$K$83)","v":""},"・",{"$f":"IF(入力シート!$L$83=\"\",\"\",入力シート!$L$83)","v":""}]
[{"$nulls":27},"第",{"$f":"IF(入力シート!$M$83=\"\",\"\",入力シート!$M$83)","v":""},null,null,"号"]
[null,3,null,"60㎏",null,null,{"$f":"IF(入力シート!$F$84=\"\",\"\",入力シート!$F$84)","v":""},{"$nulls":4},{"$f":"IF(入力シート!$G$84=\"\",\"\",入力シート!$G$84)","v":""},null,null,{"$f":"IF(入力シート!$N$84=\"\",\"\",入力シート!$N$84)","v":""},{"$nulls":12},{"$f":"IF(入力シート!$D$22=\"\",\"\",入力シート!$D$22)","v":""}]
[3,{"$nulls":5},{"$f":"IF(入力シート!$D$84=\"\",\"\",入力シート!$D$84)","v":""},{"$nulls":4},{"$f":"IF(入力シート!$E$84=\"\",\"\",入力シート!$E$84)","v":""},{"$nulls":5},"平成",null,{"$f":"IF(入力シート!$J$84=\"\",\"\",入力シート!$J$84)","v":""},"・",null,{"$f":"IF(入力シート!$K$84=\"\",\"\",入力シート!$K$84)","v":""},"・",{"$f":"IF(入力シート!$L$84=\"\",\"\",入力シート!$L$84)","v":""}]
[{"$nulls":27},"第",{"$f":"IF(入力シート!$M$84=\"\",\"\",入力シート!$M$84)","v":""},null,null,"号"]
[null,4,null,"65㎏",null,null,{"$f":"IF(入力シート!$F$85=\"\",\"\",入力シート!$F$85)","v":""},{"$nulls":4},{"$f":"IF(入力シート!$G$85=\"\",\"\",入力シート!$G$85)","v":""},null,null,{"$f":"IF(入力シート!$N$85=\"\",\"\",入力シート!$N$85)","v":""},{"$nulls":12},{"$f":"IF(入力シート!$D$22=\"\",\"\",入力シート!$D$22)","v":""}]
[4,{"$nulls":5},{"$f":"IF(入力シート!$D$85=\"\",\"\",入力シート!$D$85)","v":""},{"$nulls":4},{"$f":"IF(入力シート!$E$85=\"\",\"\",入力シート!$E$85)","v":""},{"$nulls":5},"平成",null,{"$f":"IF(入力シート!$J$85=\"\",\"\",入力シート!$J$85)","v":""},"・",null,{"$f":"IF(入力シート!$K$85=\"\",\"\",入力シート!$K$85)","v":""},"・",{"$f":"IF(入力シート!$L$85=\"\",\"\",入力シート!$L$85)","v":""}]
[{"$nulls":27},"第",{"$f":"IF(入力シート!$M$85=\"\",\"\",入力シート!$M$85)","v":""},null,null,"号"]
[null,5,null,"71㎏",null,null,{"$f":"IF(入力シート!$F$86=\"\",\"\",入力シート!$F$86)","v":""},{"$nulls":4},{"$f":"IF(入力シート!$G$86=\"\",\"\",入力シート!$G$86)","v":""},null,null,{"$f":"IF(入力シート!$N$86=\"\",\"\",入力シート!$N$86)","v":""},{"$nulls":12},{"$f":"IF(入力シート!$D$22=\"\",\"\",入力シート!$D$22)","v":""}]
[5,{"$nulls":5},{"$f":"IF(入力シート!$D$86=\"\",\"\",入力シート!$D$86)","v":""},{"$nulls":4},{"$f":"IF(入力シート!$E$86=\"\",\"\",入力シート!$E$86)","v":""},{"$nulls":5},"平成",null,{"$f":"IF(入力シート!$J$86=\"\",\"\",入力シート!$J$86)","v":""},"・",null,{"$f":"IF(入力シート!$K$86=\"\",\"\",入力シート!$K$86)","v":""},"・",{"$f":"IF(入力シート!$L$86=\"\",\"\",入力シート!$L$86)","v":""}]
[{"$nulls":27},"第",{"$f":"IF(入力シート!$M$86=\"\",\"\",入力シート!$M$86)","v":""},null,null,"号"]
[null,6,null,"80㎏",null,null,{"$f":"IF(入力シート!$F$87=\"\",\"\",入力シート!$F$87)","v":""},{"$nulls":4},{"$f":"IF(入力シート!$G$87=\"\",\"\",入力シート!$G$87)","v":""},null,null,{"$f":"IF(入力シート!$N$87=\"\",\"\",入力シート!$N$87)","v":""},{"$nulls":12},{"$f":"IF(入力シート!$D$22=\"\",\"\",入力シート!$D$22)","v":""}]
[6,{"$nulls":5},{"$f":"IF(入力シート!$D$87=\"\",\"\",入力シート!$D$87)","v":""},{"$nulls":4},{"$f":"IF(入力シート!$E$87=\"\",\"\",入力シート!$E$87)","v":""},{"$nulls":5},"平成",null,{"$f":"IF(入力シート!$J$87=\"\",\"\",入力シート!$J$87)","v":""},"・",null,{"$f":"IF(入力シート!$K$87=\"\",\"\",入力シート!$K$87)","v":""},"・",{"$f":"IF(入力シート!$L$87=\"\",\"\",入力シート!$L$87)","v":""}]
[{"$nulls":27},"第",{"$f":"IF(入力シート!$M$87=\"\",\"\",入力シート!$M$87)","v":""},null,null,"号"]
[null,7,null,"125㎏",null,null,{"$f":"IF(入力シート!$F$88=\"\",\"\",入力シート!$F$88)","v":""},{"$nulls":4},{"$f":"IF(入力シート!$G$88=\"\",\"\",入力シート!$G$88)","v":""},null,null,{"$f":"IF(入力シート!$N$88=\"\",\"\",入力シート!$N$88)","v":""},{"$nulls":12},{"$f":"IF(入力シート!$D$22=\"\",\"\",入力シート!$D$22)","v":""}]
[7,{"$nulls":5},{"$f":"IF(入力シート!$D$88=\"\",\"\",入力シート!$D$88)","v":""},{"$nulls":4},{"$f":"IF(入力シート!$E$88=\"\",\"\",入力シート!$E$88)","v":""},{"$nulls":5},"平成",null,{"$f":"IF(入力シート!$J$88=\"\",\"\",入力シート!$J$88)","v":""},"・",null,{"$f":"IF(入力シート!$K$88=\"\",\"\",入力シート!$K$88)","v":""},"・",{"$f":"IF(入力シート!$L$88=\"\",\"\",入力シート!$L$88)","v":""}]
[{"$nulls":27},"第",{"$f":"IF(入力シート!$M$88=\"\",\"\",入力シート!$M$88)","v":""},null,null,"号"]
[]
[null,null,"級",{"$nulls":6},"ふりがな",{"$nulls":4},"学年",null,null,"生　年　月　日",{"$nulls":9},"高体連登録番号"]
[{"$nulls":9},"氏名"]
[null,8,"補員","51㎏",null,null,{"$f":"IF(入力シート!$F$93=\"\",\"\",入力シート!$F$93)","v":""},{"$nulls":4},{"$f":"IF(入力シート!$G$93=\"\",\"\",入力シート!$G$93)","v":""},null,null,{"$f":"IF(入力シート!$N$93=\"\",\"\",入力シート!$N$93)","v":""},{"$nulls":12},{"$f":"IF(入力シート!$D$22=\"\",\"\",入力シート!$D$22)","v":""}]
[8,{"$nulls":5},{"$f":"IF(入力シート!$D$93=\"\",\"\",入力シート!$D$93)","v":""},{"$nulls":4},{"$f":"IF(入力シート!$E$93=\"\",\"\",入力シート!$E$93)","v":""},{"$nulls":5},"平成",null,{"$f":"IF(入力シート!$J$93=\"\",\"\",入力シート!$J$93)","v":""},"・",null,{"$f":"IF(入力シート!$K$93=\"\",\"\",入力シート!$K$93)","v":""},"・",{"$f":"IF(入力シート!$L$93=\"\",\"\",入力シート!$L$93)","v":""}]
[{"$nulls":27},"第",{"$f":"IF(入力シート!$M$93=\"\",\"\",入力シート!$M$93)","v":""},null,null,"号"]
[null,9,null,"55㎏",null,null,{"$f":"IF(入力シート!$F$94=\"\",\"\",入力シート!$F$94)","v":""},{"$nulls":4},{"$f":"IF(入力シート!$G$94=\"\",\"\",入力シート!$G$94)","v":""},null,null,{"$f":"IF(入力シート!$N$94=\"\",\"\",入力シート!$N$94)","v":""},{"$nulls":12},{"$f":"IF(入力シート!$D$22=\"\",\"\",入力シート!$D$22)","v":""}]
[9,{"$nulls":5},{"$f":"IF(入力シート!$D$94=\"\",\"\",入力シート!$D$94)","v":""},{"$nulls":4},{"$f":"IF(入力シート!$E$94=\"\",\"\",入力シート!$E$94)","v":""},{"$nulls":5},"平成",null,{"$f":"IF(入力シート!$J$94=\"\",\"\",入力シート!$J$94)","v":""},"・",null,{"$f":"IF(入力シート!$K$94=\"\",\"\",入力シート!$K$94)","v":""},"・",{"$f":"IF(入力シート!$L$94=\"\",\"\",入力シート!$L$94)","v":""}]
[{"$nulls":27},"第",{"$f":"IF(入力シート!$M$94=\"\",\"\",入力シート!$M$94)","v":""},null,null,"号"]
[null,10,null,"60㎏",null,null,{"$f":"IF(入力シート!$F$95=\"\",\"\",入力シート!$F$95)","v":""},{"$nulls":4},{"$f":"IF(入力シート!$G$95=\"\",\"\",入力シート!$G$95)","v":""},null,null,{"$f":"IF(入力シート!$N$95=\"\",\"\",入力シート!$N$95)","v":""},{"$nulls":12},{"$f":"IF(入力シート!$D$22=\"\",\"\",入力シート!$D$22)","v":""}]
[10,{"$nulls":5},{"$f":"IF(入力シート!$D$95=\"\",\"\",入力シート!$D$95)","v":""},{"$nulls":4},{"$f":"IF(入力シート!$E$95=\"\",\"\",入力シート!$E$95)","v":""},{"$nulls":5},"平成",null,{"$f":"IF(入力シート!$J$95=\"\",\"\",入力シート!$J$95)","v":""},"・",null,{"$f":"IF(入力シート!$K$95=\"\",\"\",入力シート!$K$95)","v":""},"・",{"$f":"IF(入力シート!$L$95=\"\",\"\",入力シート!$L$95)","v":""}]
[{"$nulls":27},"第",{"$f":"IF(入力シート!$M$95=\"\",\"\",入力シート!$M$95)","v":""},null,null,"号"]
[null,11,null,"65㎏",null,null,{"$f":"IF(入力シート!$F$96=\"\",\"\",入力シート!$F$96)","v":""},{"$nulls":4},{"$f":"IF(入力シート!$G$96=\"\",\"\",入力シート!$G$96)","v":""},null,null,{"$f":"IF(入力シート!$N$96=\"\",\"\",入力シート!$N$96)","v":""},{"$nulls":12},{"$f":"IF(入力シート!$D$22=\"\",\"\",入力シート!$D$22)","v":""}]
[11,{"$nulls":5},{"$f":"IF(入力シート!$D$96=\"\",\"\",入力シート!$D$96)","v":""},{"$nulls":4},{"$f":"IF(入力シート!$E$96=\"\",\"\",入力シート!$E$96)","v":""},{"$nulls":5},"平成",null,{"$f":"IF(入力シート!$J$96=\"\",\"\",入力シート!$J$96)","v":""},"・",null,{"$f":"IF(入力シート!$K$96=\"\",\"\",入力シート!$K$96)","v":""},"・",{"$f":"IF(入力シート!$L$96=\"\",\"\",入力シート!$L$96)","v":""}]
[{"$nulls":27},"第",{"$f":"IF(入力シート!$M$96=\"\",\"\",入力シート!$M$96)","v":""},null,null,"号"]
[null,12,null,"71㎏",null,null,{"$f":"IF(入力シート!$F$97=\"\",\"\",入力シート!$F$97)","v":""},{"$nulls":4},{"$f":"IF(入力シート!$G$97=\"\",\"\",入力シート!$G$97)","v":""},null,null,{"$f":"IF(入力シート!$N$97=\"\",\"\",入力シート!$N$97)","v":""},{"$nulls":12},{"$f":"IF(入力シート!$D$22=\"\",\"\",入力シート!$D$22)","v":""}]
[12,{"$nulls":5},{"$f":"IF(入力シート!$D$97=\"\",\"\",入力シート!$D$97)","v":""},{"$nulls":4},{"$f":"IF(入力シート!$E$97=\"\",\"\",入力シート!$E$97)","v":""},{"$nulls":5},"平成",null,{"$f":"IF(入力シート!$J$97=\"\",\"\",入力シート!$J$97)","v":""},"・",null,{"$f":"IF(入力シート!$K$97=\"\",\"\",入力シート!$K$97)","v":""},"・",{"$f":"IF(入力シート!$L$97=\"\",\"\",入力シート!$L$97)","v":""}]
[{"$nulls":27},"第",{"$f":"IF(入力シート!$M$97=\"\",\"\",入力シート!$M$97)","v":""},null,null,"号"]
[null,13,null,"80㎏",null,null,{"$f":"IF(入力シート!$F$98=\"\",\"\",入力シート!$F$98)","v":""},{"$nulls":4},{"$f":"IF(入力シート!$G$98=\"\",\"\",入力シート!$G$98)","v":""},null,null,{"$f":"IF(入力シート!$N$98=\"\",\"\",入力シート!$N$98)","v":""},{"$nulls":12},{"$f":"IF(入力シート!$D$22=\"\",\"\",入力シート!$D$22)","v":""}]
[13,{"$nulls":5},{"$f":"IF(入力シート!$D$98=\"\",\"\",入力シート!$D$98)","v":""},{"$nulls":4},{"$f":"IF(入力シート!$E$98=\"\",\"\",入力シート!$E$98)","v":""},{"$nulls":5},"平成",null,{"$f":"IF(入力シート!$J$98=\"\",\"\",入力シート!$J$98)","v":""},"・",null,{"$f":"IF(入力シート!$K$98=\"\",\"\",入力シート!$K$98)","v":""},"・",{"$f":"IF(入力シート!$L$98=\"\",\"\",入力シート!$L$98)","v":""}]
[{"$nulls":27},"第",{"$f":"IF(入力シート!$M$98=\"\",\"\",入力シート!$M$98)","v":""},null,null,"号"]
[null,14,null,"125㎏",null,null,{"$f":"IF(入力シート!$F$99=\"\",\"\",入力シート!$F$99)","v":""},{"$nulls":4},{"$f":"IF(入力シート!$G$99=\"\",\"\",入力シート!$G$99)","v":""},null,null,{"$f":"IF(入力シート!$N$99=\"\",\"\",入力シート!$N$99)","v":""},{"$nulls":12},{"$f":"IF(入力シート!$D$22=\"\",\"\",入力シート!$D$22)","v":""}]
[14,{"$nulls":5},{"$f":"IF(入力シート!$D$99=\"\",\"\",入力シート!$D$99)","v":""},{"$nulls":4},{"$f":"IF(入力シート!$E$99=\"\",\"\",入力シート!$E$99)","v":""},{"$nulls":5},"平成",null,{"$f":"IF(入力シート!$J$99=\"\",\"\",入力シート!$J$99)","v":""},"・",null,{"$f":"IF(入力シート!$K$99=\"\",\"\",入力シート!$K$99)","v":""},"・",{"$f":"IF(入力シート!$L$99=\"\",\"\",入力シート!$L$99)","v":""}]
[{"$nulls":27},"第",{"$f":"IF(入力シート!$M$99=\"\",\"\",入力シート!$M$99)","v":""},null,null,"号"]
[]
[null,null,"参加料振込通知書（写し）は貼付台紙（ダウンロードした大会参加料明細書内に添付）に貼り付けて提出して下さい。"]
{"$rows_empty":32}
[null,null,{"$f":"M14","v":""}]
[null,null,{"$f":"VLOOKUP(H14,$C$113:$E$161,3,FALSE)","v":{"$error":"#N/A"}}]
[]
[]
[null,null,"(選択)","50㎏",0,"(選択)","　",null,1]
[null,null,"北海道","55㎏",1,"北海道","北海道",null,2]
[null,null,"青森県","60㎏",2,"青森県","東北",null,3]
[null,null,"岩手県","66㎏",3,"岩手県","東北"]
[null,null,"宮城県","74㎏",4,"宮城県","東北",null,"(選択)"]
[null,null,"秋田県","84㎏",5,"秋田県","東北"]
[null,null,"山形県","120㎏",6,"山形県","東北"]
[null,null,"福島県",null,7,"福島県","東北"]
[null,null,"茨城県",null,8,"茨城県","関東"]
[null,null,"栃木県",null,9,"栃木県","関東"]
[null,null,"群馬県",null,10,"群馬県","関東"]
[null,null,"埼玉県",null,11,"埼玉県","関東"]
[null,null,"千葉県",null,12,"千葉県","関東"]
[null,null,"東京都",null,13,"東京都","関東"]
[null,null,"神奈川県",null,14,"神奈川県","関東"]
[null,null,"山梨県",null,15,"山梨県","関東"]
[null,null,"新潟県",null,16,"新潟県","北信越"]
[null,null,"富山県",null,17,"富山県","北信越"]
[null,null,"石川県",null,18,"石川県","北信越"]
[null,null,"福井県",null,19,"福井県","北信越"]
[null,null,"長野県",null,20,"長野県","北信越"]
[null,null,"岐阜県",null,21,"岐阜県","東海"]
[null,null,"静岡県",null,22,"静岡県","東海"]
[null,null,"愛知県",null,23,"愛知県","東海"]
[null,null,"三重県",null,24,"三重県","東海"]
[null,null,"滋賀県",null,25,"滋賀県","近畿"]
[null,null,"京都府",null,26,"京都府","近畿"]
[null,null,"大阪府",null,27,"大阪府","近畿"]
[null,null,"兵庫県",null,28,"兵庫県","近畿"]
[null,null,"奈良県",null,29,"奈良県","近畿"]
[null,null,"和歌山県",null,30,"和歌山県","近畿"]
[null,null,"鳥取県",null,31,"鳥取県","中国"]
[null,null,"島根県",null,32,"島根県","中国"]
[null,null,"岡山県",null,33,"岡山県","中国"]
[null,null,"広島県",null,34,"広島県","中国"]
[null,null,"山口県",null,35,"山口県","中国"]
[null,null,"徳島県",null,36,"徳島県","四国"]
[null,null,"香川県",null,37,"香川県","四国"]
[null,null,"愛媛県",null,38,"愛媛県","四国"]
[null,null,"高知県",null,39,"高知県","四国"]
[null,null,"福岡県",null,40,"福岡県","九州"]
[null,null,"佐賀県",null,41,"佐賀県","九州"]
[null,null,"長崎県",null,42,"長崎県","九州"]
[null,null,"熊本県",null,43,"熊本県","九州"]
[null,null,"大分県",null,44,"大分県","九州"]
[null,null,"宮崎県",null,45,"宮崎県","九州"]
[null,null,"鹿児島県",null,46,"鹿児島県","九州"]
[null,null,"沖縄県",null,47,"沖縄県","九州"]
[null,null,"高知県","　",48,"高知県","四国"]

{"sheet":"男子個人対抗戦参加申込書","index":2,"n_rows":152,"n_cols":58,"rows_kept":152,"merged":[[0,44,0,47],[0,48,0,53],[1,1,3,23],[1,28,2,39],[1,44,1,47],[1,48,1,53],[2,57,2,64],[3,43,3,53],[4,43,5,53],[4,57,9,73],[5,5,5,11],[7,0,7,2],[7,3,7,12],[7,13,7,15],[7,16,7,18],[7,19,7,21],[7,22,7,24],[7,25,7,27],[7,28,7,30],[7,31,8,33],[7,34,8,53],[8,0,10,2],[8,3,9,12],[8,13,9,15],[8,16,9,18],[8,19,9,21],[8,22,9,24],[8,25,9,27],[8,28,9,30],[9,31,9,33],[9,34,9,35],[9,37,9,38],[9,40,9,42],[9,43,9,44],[9,45,9,46],[9,48,9,49],[9,51,9,53],[10,3,10,5],[10,6,10,12],[10,13,10,15],[10,16,10,21],[10,22,10,24],[10,25,10,30],[10,45,10,46],[10,48,10,49],[10,51,10,53],[11,25,11,28],[12,5,12,28],[12,29,12,52],[13,5,13,12],[13,29,13,36],[14,2,16,4],[14,5,14,8],[14,9,14,12],[14,13,16,15],[14,16,14,18],[14,25,15,28],[14,29,14,32],[14,33,14,36],[14,37,16,39],[14,40,14,42],[14,49,15,52],[15,5,16,8],[15,9,16,12],[15,16,15,18],[15,20,15,21],[15,23,15,24],[15,29,16,32],[15,33,16,36],[15,40,15,42],[15,44,15,45],[15,47,15,48],[16,26,16,27],[16,50,16,51],[17,2,19,4],[17,5,17,8],[17,9,17,12],[17,13,19,15],[17,16,17,18],[17,25,18,28],[17,29,17,32],[17,33,17,36],[17,37,19,39],[17,40,17,42],[17,49,18,52],[18,5,19,8],[18,9,19,12],[18,16,18,18],[18,20,18,21],[18,23,18,24],[18,29,19,32],[18,33,19,36],[18,40,18,42],[18,44,18,45],[18,47,18,48],[19,26,19,27],[19,50,19,51],[20,2,22,4],[20,5,20,8],[20,9,20,12],[20,13,22,15],[20,16,20,18],[20,25,21,28],[20,29,20,32],[20,33,20,36],[20,37,22,39],[20,40,20,42],[20,49,21,52],[21,5,22,8],[21,9,22,12],[21,16,21,18],[21,20,21,21],[21,23,21,24],[21,29,22,32],[21,33,22,36],[21,40,21,42],[21,44,21,45],[21,47,21,48],[22,26,22,27],[22,50,22,51],[23,2,25,4],[23,5,23,8],[23,9,23,12],[23,13,25,15],[23,16,23,18],[23,25,24,28],[23,29,23,32],[23,33,23,36],[23,37,25,39],[23,40,23,42],[23,49,24,52],[24,5,25,8],[24,9,25,12],[24,16,24,18],[24,20,24,21],[24,23,24,24],[24,29,25,32],[24,33,25,36],[24,40,24,42],[24,44,24,45],[24,47,24,48],[25,26,25,27],[25,50,25,51],[26,2,28,4],[26,5,26,8],[26,9,26,12],[26,13,28,15],[26,16,26,18],[26,25,27,28],[26,29,26,32],[26,33,26,36],[26,37,28,39],[26,40,26,42],[26,49,27,52],[27,5,28,8],[27,9,28,12],[27,16,27,18],[27,20,27,21],[27,23,27,24],[27,29,28,32],[27,33,28,36],[27,40,27,42],[27,44,27,45],[27,47,27,48],[28,26,28,27],[28,50,28,51],[29,2,31,4],[29,5,29,8],[29,9,29,12],[29,13,31,15],[29,16,29,18],[29,25,30,28],[29,29,29,32],[29,33,29,36],[29,37,31,39],[29,40,29,42],[29,49,30,52],[30,5,31,8],[30,9,31,12],[30,16,30,18],[30,20,30,21],[30,23,30,24],[30,29,31,32],[30,33,31,36],[30,40,30,42],[30,44,30,45],[30,47,30,48],[31,26,31,27],[31,50,31,51],[32,2,34,4],[32,5,32,8],[32,9,32,12],[32,13,34,15],[32,16,32,18],[32,25,33,28],[32,29,32,32],[32,33,32,36],[32,37,34,39],[32,40,32,42],[32,49,33,52],[33,5,34,8],[33,9,34,12],[33,16,33,18],[33,20,33,21],[33,23,33,24],[33,29,34,32],[33,33,34,36],[33,40,33,42],[33,44,33,45],[33,47,33,48],[34,26,34,27],[34,50,34,51],[35,2,37,4],[35,5,35,8],[35,9,35,12],[35,13,37,15],[35,16,35,18],[35,25,36,28],[35,29,35,32],[35,33,35,36],[35,37,37,39],[35,40,35,42],[35,49,36,52],[36,5,37,8],[36,9,37,12],[36,16,36,18],[36,20,36,21],[36,23,36,24],[36,29,37,32],[36,33,37,36],[36,40,36,42],[36,44,36,45],[36,47,36,48],[37,26,37,27],[37,50,37,51],[39,10,39,11],[39,13,39,14],[39,16,39,32],[39,33,39,35],[39,36,39,44],[41,6,41,9],[42,10,42,11],[42,13,42,14],[42,17,42,27],[42,28,42,35],[42,36,42,44]]}
[{"$nulls":44},"会場地",{"$nulls":3},"佐賀"]
[null,"令和６年度全九州高等学校総合体育大会レスリング競技大会\n（SAGA2024国スポレスリング競技リハーサル大会）",{"$nulls":26},"男子個人対抗戦　参加申込書",{"$nulls":15},"競技種目",{"$nulls":3},"レスリング"]
[{"$nulls":57},"【申込の手順に戻る】"]
[{"$nulls":43},"都道府県名"]
[{"$nulls":43},{"$f":"IF(入力シート!$D$22=\"\",\"\",入力シート!$D$22)","v":""},{"$nulls":13},"押印した参加申込書（3部）とそのデータ（未使用シートは削除しない）を各都道府県高体連レスリング専門部に提出する"]
[{"$nulls":5},"男子個人対抗戦"]
[]
["ふりがな",null,null,{"$f":"IF(入力シート!$D$24=\"\",\"\",入力シート!$D$24&\"こうとうがっこう\")","v":{"$error":"#N/A"}},{"$nulls":9},"ふりがな",null,null,{"$f":"IF(入力シート!$D$40=\"\",\"\",入力シート!$D$40)","v":""},null,null,{"$f":"IF(入力シート!$D$42=\"\",\"\",入力シート!$D$42)","v":""},null,null,"ふりがな",null,null,{"$f":"IF(入力シート!$D$56=\"\",\"\",入力シート!$D$56)","v":""},null,null,{"$f":"IF(入力シート!$D$58=\"\",\"\",入力シート!$D$58)","v":""},null,null,"所在地",null,null,{"$f":"IF(入力シート!$D$29=\"\",\"\",入力シート!$D$29)","v":""}]
["学校名",null,null,{"$f":"IF(入力シート!$D$25=\"\",\"\",入力シート!$D$25)","v":{"$error":"#N/A"}},{"$nulls":9},"監督名",null,null,{"$f":"IF(入力シート!$D$41=\"\",\"\",入力シート!$D$41)","v":""},null,null,{"$f":"IF(入力シート!$D$43=\"\",\"\",入力シート!$D$43)","v":""},null,null,"コーチ名",null,null,{"$f":"IF(入力シート!$D$57=\"\",\"\",入力シート!$D$57)","v":""},null,null,{"$f":"IF(入力シート!$D$59=\"\",\"\",入力シート!$D$59)","v":""}]
[{"$nulls":31},"電話",null,null,{"$f":"IF(入力シート!$D$30=\"\",\"\",入力シート!$D$30)","v":""},null,"－",{"$f":"IF(入力シート!$D$31=\"\",\"\",入力シート!$D$31)","v":""},null,"－",{"$f":"IF(入力シート!$D$32=\"\",\"\",入力シート!$D$32)","v":""},null,null,"FAX",null,{"$f":"IF(入力シート!$D$33=\"\",\"\",入力シート!$D$33)","v":""},null,"－",{"$f":"IF(入力シート!$D$34=\"\",\"\",入力シート!$D$34)","v":""},null,"－",{"$f":"IF(入力シート!$D$35=\"\",\"\",入力シート!$D$35)","v":""}]
[{"$nulls":3},"引率責任者",null,null,{"$f":"入力シート!D67","v":0},{"$nulls":6},"日本協会番号",null,null,{"$f":"IF(入力シート!$D$44=\"\",\"\",入力シート!$D$44)","v":""},{"$nulls":5},"日本協会番号",null,null,{"$f":"IF(入力シート!$D$60=\"\",\"\",入力シート!$D$60)","v":""},{"$nulls":14},"緊急連絡先",{"$nulls":4},{"$f":"IF(入力シート!$D$45=\"\",\"\",入力シート!$D$45)","v":""},null,"－",{"$f":"IF(入力シート!$D$46=\"\",\"\",入力シート!$D$46)","v":""},null,"－",{"$f":"IF(入力シート!$D$47=\"\",\"\",入力シート!$D$47)","v":""}]
[]
[{"$nulls":5},"県大会１位選手",{"$nulls":23},"県大会２位選手"]
[{"$nulls":5},"氏　名",{"$nulls":7},"学年",null,null,"生年月日",{"$nulls":8},"高体連登録番号",{"$nulls":3},"氏　名",{"$nulls":7},"学年",null,null,"生年月日",{"$nulls":8},"高体連登録番号"]
[null,null,"51ｋｇ",null,null,{"$f":"IF(入力シート!$F$106=\"\",\"\",入力シート!$F$106)","v":""},{"$nulls":3},{"$f":"IF(入力シート!$G$106=\"\",\"\",入力シート!$G$106)","v":""},{"$nulls":3},{"$f":"IF(入力シート!$N$106=\"\",\"\",入力シート!$N$106)","v":""},null,null,"平成",{"$nulls":8},{"$f":"IF(入力シート!$D$22=\"\",\"\",入力シート!$D$22)","v":""},{"$nulls":3},{"$f":"IF(入力シート!$F$118=\"\",\"\",入力シート!$F$118)","v":""},{"$nulls":3},{"$f":"IF(入力シート!$G$118=\"\",\"\",入力シート!$G$118)","v":""},{"$nulls":3},{"$f":"IF(入力シート!$N$118=\"\",\"\",入力シート!$N$118)","v":""},null,null,"平成",{"$nulls":8},{"$f":"IF(入力シート!$D$22=\"\",\"\",入力シート!$D$22)","v":""}]
[{"$nulls":5},{"$f":"IF(入力シート!$D$106=\"\",\"\",入力シート!$D$106)","v":""},{"$nulls":3},{"$f":"IF(入力シート!$E$106=\"\",\"\",入力シート!$E$106)","v":""},{"$nulls":6},{"$f":"IF(入力シート!$J$106=\"\",\"\",入力シート!$J$106)","v":""},null,null,"・",{"$f":"IF(入力シート!$K$106=\"\",\"\",入力シート!$K$106)","v":""},null,"・",{"$f":"IF(入力シート!$L$106=\"\",\"\",入力シート!$L$106)","v":""},{"$nulls":5},{"$f":"IF(入力シート!$D$118=\"\",\"\",入力シート!$D$118)","v":""},{"$nulls":3},{"$f":"IF(入力シート!$E$118=\"\",\"\",入力シート!$E$118)","v":""},{"$nulls":6},{"$f":"IF(入力シート!$J$118=\"\",\"\",入力シート!$J$118)","v":""},null,null,"・",{"$f":"IF(入力シート!$K$118=\"\",\"\",入力シート!$K$118)","v":""},null,"・",{"$f":"IF(入力シート!$L$118=\"\",\"\",入力シート!$L$118)","v":""}]
[{"$nulls":25},"第",{"$f":"IF(入力シート!$M$106=\"\",\"\",入力シート!$M$106)","v":""},null,"号",{"$nulls":20},"第",{"$f":"IF(入力シート!$M$118=\"\",\"\",入力シート!$M$118)","v":""},null,"号"]
[null,null,"55ｋｇ",null,null,{"$f":"IF(入力シート!$F$107=\"\",\"\",入力シート!$F$107)","v":""},{"$nulls":3},{"$f":"IF(入力シート!$G$107=\"\",\"\",入力シート!$G$107)","v":""},{"$nulls":3},{"$f":"IF(入力シート!$N$107=\"\",\"\",入力シート!$N$107)","v":""},null,null,"平成",{"$nulls":8},{"$f":"IF(入力シート!$D$22=\"\",\"\",入力シート!$D$22)","v":""},{"$nulls":3},{"$f":"IF(入力シート!$F$119=\"\",\"\",入力シート!$F$119)","v":""},{"$nulls":3},{"$f":"IF(入力シート!$G$119=\"\",\"\",入力シート!$G$119)","v":""},{"$nulls":3},{"$f":"IF(入力シート!$N$119=\"\",\"\",入力シート!$N$119)","v":""},null,null,"平成",{"$nulls":8},{"$f":"IF(入力シート!$D$22=\"\",\"\",入力シート!$D$22)","v":""}]
[{"$nulls":5},{"$f":"IF(入力シート!$D$107=\"\",\"\",入力シート!$D$107)","v":""},{"$nulls":3},{"$f":"IF(入力シート!$E$107=\"\",\"\",入力シート!$E$107)","v":""},{"$nulls":6},{"$f":"IF(入力シート!$J$107=\"\",\"\",入力シート!$J$107)","v":""},null,null,"・",{"$f":"IF(入力シート!$K$107=\"\",\"\",入力シート!$K$107)","v":""},null,"・",{"$f":"IF(入力シート!$L$107=\"\",\"\",入力シート!$L$107)","v":""},{"$nulls":5},{"$f":"IF(入力シート!$D$119=\"\",\"\",入力シート!$D$119)","v":""},{"$nulls":3},{"$f":"IF(入力シート!$E$119=\"\",\"\",入力シート!$E$119)","v":""},{"$nulls":6},{"$f":"IF(入力シート!$J$119=\"\",\"\",入力シート!$J$119)","v":""},null,null,"・",{"$f":"IF(入力シート!$K$119=\"\",\"\",入力シート!$K$119)","v":""},null,"・",{"$f":"IF(入力シート!$L$119=\"\",\"\",入力シート!$L$119)","v":""}]
[{"$nulls":25},"第",{"$f":"IF(入力シート!$M$107=\"\",\"\",入力シート!$M$107)","v":""},null,"号",{"$nulls":20},"第",{"$f":"IF(入力シート!$M$119=\"\",\"\",入力シート!$M$119)","v":""},null,"号"]
[null,null,"60ｋｇ",null,null,{"$f":"IF(入力シート!$F$108=\"\",\"\",入力シート!$F$108)","v":""},{"$nulls":3},{"$f":"IF(入力シート!$G$108=\"\",\"\",入力シート!$G$108)","v":""},{"$nulls":3},{"$f":"IF(入力シート!$N$108=\"\",\"\",入力シート!$N$108)","v":""},null,null,"平成",{"$nulls":8},{"$f":"IF(入力シート!$D$22=\"\",\"\",入力シート!$D$22)","v":""},{"$nulls":3},{"$f":"IF(入力シート!$F$120=\"\",\"\",入力シート!$F$120)","v":""},{"$nulls":3},{"$f":"IF(入力シート!$G$120=\"\",\"\",入力シート!$G$120)","v":""},{"$nulls":3},{"$f":"IF(入力シート!$N$120=\"\",\"\",入力シート!$N$120)","v":""},null,null,"平成",{"$nulls":8},{"$f":"IF(入力シート!$D$22=\"\",\"\",入力シート!$D$22)","v":""}]
[{"$nulls":5},{"$f":"IF(入力シート!$D$108=\"\",\"\",入力シート!$D$108)","v":""},{"$nulls":3},{"$f":"IF(入力シート!$E$108=\"\",\"\",入力シート!$E$108)","v":""},{"$nulls":6},{"$f":"IF(入力シート!$J$108=\"\",\"\",入力シート!$J$108)","v":""},null,null,"・",{"$f":"IF(入力シート!$K$108=\"\",\"\",入力シート!$K$108)","v":""},null,"・",{"$f":"IF(入力シート!$L$108=\"\",\"\",入力シート!$L$108)","v":""},{"$nulls":5},{"$f":"IF(入力シート!$D$120=\"\",\"\",入力シート!$D$120)","v":""},{"$nulls":3},{"$f":"IF(入力シート!$E$120=\"\",\"\",入力シート!$E$120)","v":""},{"$nulls":6},{"$f":"IF(入力シート!$J$120=\"\",\"\",入力シート!$J$120)","v":""},null,null,"・",{"$f":"IF(入力シート!$K$120=\"\",\"\",入力シート!$K$120)","v":""},null,"・",{"$f":"IF(入力シート!$L$120=\"\",\"\",入力シート!$L$120)","v":""}]
[{"$nulls":25},"第",{"$f":"IF(入力シート!$M$108=\"\",\"\",入力シート!$M$108)","v":""},null,"号",{"$nulls":20},"第",{"$f":"IF(入力シート!$M$120=\"\",\"\",入力シート!$M$120)","v":""},null,"号"]
[null,null,"65ｋｇ",null,null,{"$f":"IF(入力シート!$F$109=\"\",\"\",入力シート!$F$109)","v":""},{"$nulls":3},{"$f":"IF(入力シート!$G$109=\"\",\"\",入力シート!$G$109)","v":""},{"$nulls":3},{"$f":"IF(入力シート!$N$109=\"\",\"\",入力シート!$N$109)","v":""},null,null,"平成",{"$nulls":8},{"$f":"IF(入力シート!$D$22=\"\",\"\",入力シート!$D$22)","v":""},{"$nulls":3},{"$f":"IF(入力シート!$F$121=\"\",\"\",入力シート!$F$121)","v":""},{"$nulls":3},{"$f":"IF(入力シート!$G$121=\"\",\"\",入力シート!$G$121)","v":""},{"$nulls":3},{"$f":"IF(入力シート!$N$121=\"\",\"\",入力シート!$N$121)","v":""},null,null,"平成",{"$nulls":8},{"$f":"IF(入力シート!$D$22=\"\",\"\",入力シート!$D$22)","v":""}]
[{"$nulls":5},{"$f":"IF(入力シート!$D$109=\"\",\"\",入力シート!$D$109)","v":""},{"$nulls":3},{"$f":"IF(入力シート!$E$109=\"\",\"\",入力シート!$E$109)","v":""},{"$nulls":6},{"$f":"IF(入力シート!$J$109=\"\",\"\",入力シート!$J$109)","v":""},null,null,"・",{"$f":"IF(入力シート!$K$109=\"\",\"\",入力シート!$K$109)","v":""},null,"・",{"$f":"IF(入力シート!$L$109=\"\",\"\",入力シート!$L$109)","v":""},{"$nulls":5},{"$f":"IF(入力シート!$D$121=\"\",\"\",入力シート!$D$121)","v":""},{"$nulls":3},{"$f":"IF(入力シート!$E$121=\"\",\"\",入力シート!$E$121)","v":""},{"$nulls":6},{"$f":"IF(入力シート!$J$121=\"\",\"\",入力シート!$J$121)","v":""},null,null,"・",{"$f":"IF(入力シート!$K$121=\"\",\"\",入力シート!$K$121)","v":""},null,"・",{"$f":"IF(入力シート!$L$121=\"\",\"\",入力シート!$L$121)","v":""}]
[{"$nulls":25},"第",{"$f":"IF(入力シート!$M$109=\"\",\"\",入力シート!$M$109)","v":""},null,"号",{"$nulls":20},"第",{"$f":"IF(入力シート!$M$121=\"\",\"\",入力シート!$M$121)","v":""},null,"号"]
[null,null,"71ｋｇ",null,null,{"$f":"IF(入力シート!$F$110=\"\",\"\",入力シート!$F$110)","v":""},{"$nulls":3},{"$f":"IF(入力シート!$G$110=\"\",\"\",入力シート!$G$110)","v":""},{"$nulls":3},{"$f":"IF(入力シート!$N$110=\"\",\"\",入力シート!$N$110)","v":""},null,null,"平成",{"$nulls":8},{"$f":"IF(入力シート!$D$22=\"\",\"\",入力シート!$D$22)","v":""},{"$nulls":3},{"$f":"IF(入力シート!$F$122=\"\",\"\",入力シート!$F$122)","v":""},{"$nulls":3},{"$f":"IF(入力シート!$G$122=\"\",\"\",入力シート!$G$122)","v":""},{"$nulls":3},{"$f":"IF(入力シート!$N$122=\"\",\"\",入力シート!$N$122)","v":""},null,null,"平成",{"$nulls":8},{"$f":"IF(入力シート!$D$22=\"\",\"\",入力シート!$D$22)","v":""}]
[{"$nulls":5},{"$f":"IF(入力シート!$D$110=\"\",\"\",入力シート!$D$110)","v":""},{"$nulls":3},{"$f":"IF(入力シート!$E$110=\"\",\"\",入力シート!$E$110)","v":""},{"$nulls":6},{"$f":"IF(入力シート!$J$110=\"\",\"\",入力シート!$J$110)","v":""},null,null,"・",{"$f":"IF(入力シート!$K$110=\"\",\"\",入力シート!$K$110)","v":""},null,"・",{"$f":"IF(入力シート!$L$110=\"\",\"\",入力シート!$L$110)","v":""},{"$nulls":5},{"$f":"IF(入力シート!$D$122=\"\",\"\",入力シート!$D$122)","v":""},{"$nulls":3},{"$f":"IF(入力シート!$E$122=\"\",\"\",入力シート!$E$122)","v":""},{"$nulls":6},{"$f":"IF(入力シート!$J$122=\"\",\"\",入力シート!$J$122)","v":""},null,null,"・",{"$f":"IF(入力シート!$K$122=\"\",\"\",入力シート!$K$122)","v":""},null,"・",{"$f":"IF(入力シート!$L$122=\"\",\"\",入力シート!$L$122)","v":""}]
[{"$nulls":25},"第",{"$f":"IF(入力シート!$M$110=\"\",\"\",入力シート!$M$110)","v":""},null,"号",{"$nulls":20},"第",{"$f":"IF(入力シート!$M$122=\"\",\"\",入力シート!$M$122)","v":""},null,"号"]
[null,null,"80ｋｇ",null,null,{"$f":"IF(入力シート!$F$111=\"\",\"\",入力シート!$F$111)","v":""},{"$nulls":3},{"$f":"IF(入力シート!$G$111=\"\",\"\",入力シート!$G$111)","v":""},{"$nulls":3},{"$f":"IF(入力シート!$N$111=\"\",\"\",入力シート!$N$111)","v":""},null,null,"平成",{"$nulls":8},{"$f":"IF(入力シート!$D$22=\"\",\"\",入力シート!$D$22)","v":""},{"$nulls":3},{"$f":"IF(入力シート!$F$123=\"\",\"\",入力シート!$F$123)","v":""},{"$nulls":3},{"$f":"IF(入力シート!$G$123=\"\",\"\",入力シート!$G$123)","v":""},{"$nulls":3},{"$f":"IF(入力シート!$N$123=\"\",\"\",入力シート!$N$123)","v":""},null,null,"平成",{"$nulls":8},{"$f":"IF(入力シート!$D$22=\"\",\"\",入力シート!$D$22)","v":""}]
[{"$nulls":5},{"$f":"IF(入力シート!$D$111=\"\",\"\",入力シート!$D$111)","v":""},{"$nulls":3},{"$f":"IF(入力シート!$E$111=\"\",\"\",入力シート!$E$111)","v":""},{"$nulls":6},{"$f":"IF(入力シート!$J$111=\"\",\"\",入力シート!$J$111)","v":""},null,null,"・",{"$f":"IF(入力シート!$K$111=\"\",\"\",入力シート!$K$111)","v":""},null,"・",{"$f":"IF(入力シート!$L$111=\"\",\"\",入力シート!$L$111)","v":""},{"$nulls":5},{"$f":"IF(入力シート!$D$123=\"\",\"\",入力シート!$D$123)","v":""},{"$nulls":3},{"$f":"IF(入力シート!$E$123=\"\",\"\",入力シート!$E$123)","v":""},{"$nulls":6},{"$f":"IF(入力シート!$J$123=\"\",\"\",入力シート!$J$123)","v":""},null,null,"・",{"$f":"IF(入力シート!$K$123=\"\",\"\",入力シート!$K$123)","v":""},null,"・",{"$f":"IF(入力シート!$L$123=\"\",\"\",入力シート!$L$123)","v":""}]
[{"$nulls":25},"第",{"$f":"IF(入力シート!$M$111=\"\",\"\",入力シート!$M$111)","v":""},null,"号",{"$nulls":20},"第",{"$f":"IF(入力シート!$M$123=\"\",\"\",入力シート!$M$123)","v":""},null,"号"]
[null,null,"92ｋｇ",null,null,{"$f":"IF(入力シート!$F$112=\"\",\"\",入力シート!$F$112)","v":""},{"$nulls":3},{"$f":"IF(入力シート!$G$112=\"\",\"\",入力シート!$G$112)","v":""},{"$nulls":3},{"$f":"IF(入力シート!$N$112=\"\",\"\",入力シート!$N$112)","v":""},null,null,"平成",{"$nulls":8},{"$f":"IF(入力シート!$D$22=\"\",\"\",入力シート!$D$22)","v":""},{"$nulls":3},{"$f":"IF(入力シート!$F$124=\"\",\"\",入力シート!$F$124)","v":""},{"$nulls":3},{"$f":"IF(入力シート!$G$124=\"\",\"\",入力シート!$G$124)","v":""},{"$nulls":3},{"$f":"IF(入力シート!$N$124=\"\",\"\",入力シート!$N$124)","v":""},null,null,"平成",{"$nulls":8},{"$f":"IF(入力シート!$D$22=\"\",\"\",入力シート!$D$22)","v":""}]
[{"$nulls":5},{"$f":"IF(入力シート!$D$112=\"\",\"\",入力シート!$D$112)","v":""},{"$nulls":3},{"$f":"IF(入力シート!$E$112=\"\",\"\",入力シート!$E$112)","v":""},{"$nulls":6},{"$f":"IF(入力シート!$J$112=\"\",\"\",入力シート!$J$112)","v":""},null,null,"・",{"$f":"IF(入力シート!$K$112=\"\",\"\",入力シート!$K$112)","v":""},null,"・",{"$f":"IF(入力シート!$L$112=\"\",\"\",入力シート!$L$112)","v":""},{"$nulls":5},{"$f":"IF(入力シート!$D$124=\"\",\"\",入力シート!$D$124)","v":""},{"$nulls":3},{"$f":"IF(入力シート!$E$124=\"\",\"\",入力シート!$E$124)","v":""},{"$nulls":6},{"$f":"IF(入力シート!$J$124=\"\",\"\",入力シート!$J$124)","v":""},null,null,"・",{"$f":"IF(入力シート!$K$124=\"\",\"\",入力シート!$K$124)","v":""},null,"・",{"$f":"IF(入力シート!$L$124=\"\",\"\",入力シート!$L$124)","v":""}]
[{"$nulls":25},"第",{"$f":"IF(入力シート!$M$112=\"\",\"\",入力シート!$M$112)","v":""},null,"号",{"$nulls":20},"第",{"$f":"IF(入力シート!$M$124=\"\",\"\",入力シート!$M$124)","v":""},null,"号"]
[null,null,"125ｋｇ",null,null,{"$f":"IF(入力シート!$F$113=\"\",\"\",入力シート!$F$113)","v":""},{"$nulls":3},{"$f":"IF(入力シート!$G$113=\"\",\"\",入力シート!$G$113)","v":""},{"$nulls":3},{"$f":"IF(入力シート!$N$113=\"\",\"\",入力シート!$N$113)","v":""},null,null,"平成",{"$nulls":8},{"$f":"IF(入力シート!$D$22=\"\",\"\",入力シート!$D$22)","v":""},{"$nulls":3},{"$f":"IF(入力シート!$F$125=\"\",\"\",入力シート!$F$125)","v":""},{"$nulls":3},{"$f":"IF(入力シート!$G$125=\"\",\"\",入力シート!$G$125)","v":""},{"$nulls":3},{"$f":"IF(入力シート!$N$125=\"\",\"\",入力シート!$N$125)","v":""},null,null,"平成",{"$nulls":8},{"$f":"IF(入力シート!$D$22=\"\",\"\",入力シート!$D$22)","v":""}]
[{"$nulls":5},{"$f":"IF(入力シート!$D$113=\"\",\"\",入力シート!$D$113)","v":""},{"$nulls":3},{"$f":"IF(入力シート!$E$113=\"\",\"\",入力シート!$E$113)","v":""},{"$nulls":6},{"$f":"IF(入力シート!$J$113=\"\",\"\",入力シート!$J$113)","v":""},null,null,"・",{"$f":"IF(入力シート!$K$113=\"\",\"\",入力シート!$K$113)","v":""},null,"・",{"$f":"IF(入力シート!$L$113=\"\",\"\",入力シート!$L$113)","v":""},{"$nulls":5},{"$f":"IF(入力シート!$D$125=\"\",\"\",入力シート!$D$125)","v":""},{"$nulls":3},{"$f":"IF(入力シート!$E$125=\"\",\"\",入力シート!$E$125)","v":""},{"$nulls":6},{"$f":"IF(入力シート!$J$125=\"\",\"\",入力シート!$J$125)","v":""},null,null,"・",{"$f":"IF(入力シート!$K$125=\"\",\"\",入力シート!$K$125)","v":""},null,"・",{"$f":"IF(入力シート!$L$125=\"\",\"\",入力シート!$L$125)","v":""}]
[{"$nulls":25},"第",{"$f":"IF(入力シート!$M$113=\"\",\"\",入力シート!$M$113)","v":""},null,"号",{"$nulls":20},"第",{"$f":"IF(入力シート!$M$125=\"\",\"\",入力シート!$M$125)","v":""},null,"号"]
[null,"上記の者は、本校在学生徒で標記大会に出場することを認め、参加申込みいたします。"]
[{"$nulls":4},"令和６年(2024年)",{"$nulls":5},{"$f":"IF(入力シート!$D$20=\"\",\"\",入力シート!$D$20)","v":""},null,"月",{"$f":"IF(入力シート!$D$21=\"\",\"\",入力シート!$D$21)","v":""},null,"日",{"$f":"$D$9","v":{"$error":"#N/A"}},{"$nulls":16},"学校長",null,null,{"$f":"IF(入力シート!$D$36=\"\",\"\",入力シート!$D$36&\"　\"&入力シート!$D$37)","v":""},{"$nulls":8},"印"]
[]
[null,"上記の者は、",{"$nulls":4},{"$f":"AR5","v":""},{"$nulls":3},"代表として標記大会に参加することを認め、参加申込みをいたします。"]
[{"$nulls":4},"令和６年(2024年)",{"$nulls":7},"月",null,null,"日",null,{"$f":"IF($AR$5=\"\",\"\",$AR$5)","v":""},{"$nulls":10},"高等学校体育連盟会長",{"$nulls":7},{"$f":"IF(入力シート!$D$38=\"\",\"\",入力シート!$D$38&\"　\"&入力シート!$D$39)","v":""},{"$nulls":8},"印"]
[]
[]
[{"$nulls":4},"参加料振込通知書（写し）は貼付台紙（ダウンロードした大会参加料明細書内に添付）に貼り付けて提出して下さい。"]
{"$rows_empty":54}
[{"$f":"VLOOKUP(AR5,$A$104:$G$151,5,FALSE)","v":{"$error":"#N/A"}}]
[{"$f":"VLOOKUP(AR5,$A$104:$G$151,4,FALSE)","v":{"$error":"#N/A"}}]
[]
["(選択)",null,null,0,"　",null,"(選択)"]
["北海道",null,null,1,"北海道",null,1]
["青森県",null,null,2,"東北",null,2]
["岩手県",null,null,3,"東北",null,3]
["宮城県",null,null,4,"東北"]
["秋田県",null,null,5,"東北"]
["山形県",null,null,6,"東北"]
["福島県",null,null,7,"東北"]
["茨城県",null,null,8,"関東"]
["栃木県",null,null,9,"関東"]
["群馬県",null,null,10,"関東"]
["埼玉県",null,null,11,"関東"]
["千葉県",null,null,12,"関東"]
["東京都",null,null,13,"関東"]
["神奈川県",null,null,14,"関東"]
["山梨県",null,null,15,"関東"]
["新潟県",null,null,16,"北信越"]
["富山県",null,null,17,"北信越"]
["石川県",null,null,18,"北信越"]
["福井県",null,null,19,"北信越"]
["長野県",null,null,20,"北信越"]
["岐阜県",null,null,21,"東海"]
["静岡県",null,null,22,"東海"]
["愛知県",null,null,23,"東海"]
["三重県",null,null,24,"東海"]
["滋賀県",null,null,25,"近畿"]
["京都府",null,null,26,"近畿"]
["大阪府",null,null,27,"近畿"]
["兵庫県",null,null,28,"近畿"]
["奈良県",null,null,29,"近畿"]
["和歌山県",null,null,30,"近畿"]
["鳥取県",null,null,31,"中国"]
["島根県",null,null,32,"中国"]
["岡山県",null,null,33,"中国"]
["広島県",null,null,34,"中国"]
["山口県",null,null,35,"中国"]
["徳島県",null,null,36,"四国"]
["香川県",null,null,37,"四国"]
["愛媛県",null,null,38,"四国"]
["高知県",null,null,39,"四国"]
["福岡県",null,null,40,"九州"]
["佐賀県",null,null,41,"九州"]
["長崎県",null,null,42,"九州"]
["熊本県",null,null,43,"九州"]
["大分県",null,null,44,"九州"]
["宮崎県",null,null,45,"九州"]
["鹿児島県",null,null,46,"九州"]
["沖縄県",null,null,47,"九州"]
["高知県",null,null,48,"四国"]

{"sheet":"女子個人対抗戦参加申込書","index":3,"n_rows":151,"n_cols":62,"rows_kept":151,"merged":[[0,49,0,52],[0,53,0,58],[1,2,2,27],[1,30,2,45],[1,49,1,52],[1,53,1,58],[3,48,3,58],[4,48,5,58],[4,61,4,63],[5,5,5,11],[7,0,7,2],[7,3,7,12],[7,13,7,15],[7,16,7,19],[7,20,7,23],[7,24,7,26],[7,27,7,30],[7,31,7,34],[7,35,8,37],[7,38,8,58],[8,0,10,2],[8,3,9,12],[8,13,9,15],[8,16,9,19],[8,20,9,23],[8,24,9,26],[8,27,9,30],[8,31,9,34],[9,35,9,37],[9,38,9,39],[9,41,9,42],[9,44,9,46],[9,47,9,48],[9,49,9,50],[9,52,9,53],[9,55,9,57],[10,3,10,5],[10,6,10,12],[10,13,10,15],[10,16,10,23],[10,24,10,26],[10,27,10,34],[10,49,10,50],[10,52,10,53],[10,55,10,57],[12,3,12,6],[12,7,12,14],[12,15,12,17],[12,18,12,26],[12,27,12,30],[12,31,12,34],[12,35,12,42],[12,43,12,45],[12,46,12,54],[12,55,12,58],[13,3,15,4],[13,5,15,6],[13,7,13,10],[13,11,13,14],[13,15,15,17],[13,18,13,20],[13,27,13,30],[13,31,15,32],[13,33,15,34],[13,35,13,38],[13,39,13,42],[13,43,15,45],[13,46,13,48],[13,55,13,58],[13,60,17,61],[14,7,15,10],[14,11,15,14],[14,18,14,20],[14,22,14,23],[14,25,14,26],[14,27,15,27],[14,28,15,29],[14,30,15,30],[14,35,15,38],[14,39,15,42],[14,46,14,48],[14,50,14,51],[14,53,14,54],[14,55,15,55],[14,56,15,57],[14,58,15,58],[16,3,18,4],[16,5,18,6],[16,7,16,10],[16,11,16,14],[16,15,18,17],[16,18,16,20],[16,27,16,30],[16,31,18,32],[16,33,18,34],[16,35,16,38],[16,39,16,42],[16,43,18,45],[16,46,16,48],[16,55,16,58],[17,7,18,10],[17,11,18,14],[17,18,17,20],[17,22,17,23],[17,25,17,26],[17,27,18,27],[17,28,18,29],[17,30,18,30],[17,35,18,38],[17,39,18,42],[17,46,17,48],[17,50,17,51],[17,53,17,54],[17,55,18,55],[17,56,18,57],[17,58,18,58],[19,3,21,4],[19,5,21,6],[19,7,19,10],[19,11,19,14],[19,15,21,17],[19,18,19,20],[19,27,19,30],[19,31,21,32],[19,33,21,34],[19,35,19,38],[19,39,19,42],[19,43,21,45],[19,46,19,48],[19,55,19,58],[20,7,21,10],[20,11,21,14],[20,18,20,20],[20,22,20,23],[20,25,20,26],[20,27,21,27],[20,28,21,29],[20,30,21,30],[20,35,21,38],[20,39,21,42],[20,46,20,48],[20,50,20,51],[20,53,20,54],[20,55,21,55],[20,56,21,57],[20,58,21,58],[22,3,24,4],[22,5,24,6],[22,7,22,10],[22,11,22,14],[22,15,24,17],[22,18,22,20],[22,27,22,30],[22,31,24,32],[22,33,24,34],[22,35,22,38],[22,39,22,42],[22,43,24,45],[22,46,22,48],[22,55,22,58],[23,7,24,10],[23,11,24,14],[23,18,23,20],[23,22,23,23],[23,25,23,26],[23,27,24,27],[23,28,24,29],[23,30,24,30],[23,35,24,38],[23,39,24,42],[23,46,23,48],[23,50,23,51],[23,53,23,54],[23,55,24,55],[23,56,24,57],[23,58,24,58],[25,3,27,4],[25,5,27,6],[25,7,25,10],[25,11,25,14],[25,15,27,17],[25,18,25,20],[25,27,25,30],[25,31,27,32],[25,33,27,34],[25,35,25,38],[25,39,25,42],[25,43,27,45],[25,46,25,48],[25,55,25,58],[26,7,27,10],[26,11,27,14],[26,18,26,20],[26,22,26,23],[26,25,26,26],[26,27,27,27],[26,28,27,29],[26,30,27,30],[26,35,27,38],[26,39,27,42],[26,46,26,48],[26,50,26,51],[26,53,26,54],[26,55,27,55],[26,56,27,57],[26,58,27,58],[28,3,30,4],[28,5,30,6],[28,7,28,10],[28,11,28,14],[28,15,30,17],[28,18,28,20],[28,27,28,30],[28,31,30,32],[28,33,30,34],[28,35,28,38],[28,39,28,42],[28,43,30,45],[28,46,28,48],[28,55,28,58],[29,7,30,10],[29,11,30,14],[29,18,29,20],[29,22,29,23],[29,25,29,26],[29,27,30,27],[29,28,30,29],[29,30,30,30],[29,35,30,38],[29,39,30,42],[29,46,29,48],[29,50,29,51],[29,53,29,54],[29,55,30,55],[29,56,30,57],[29,58,30,58],[31,3,33,4],[31,5,33,6],[31,7,31,10],[31,11,31,14],[31,15,33,17],[31,18,31,20],[31,27,31,30],[31,31,33,32],[31,33,33,34],[31,35,31,38],[31,39,31,42],[31,43,33,45],[31,46,31,48],[31,55,31,58],[32,7,33,10],[32,11,33,14],[32,18,32,20],[32,22,32,23],[32,25,32,26],[32,27,33,27],[32,28,33,29],[32,30,33,30],[32,35,33,38],[32,39,33,42],[32,46,32,48],[32,50,32,51],[32,53,32,54],[32,55,33,55],[32,56,33,57],[32,58,33,58],[34,3,36,4],[34,5,36,6],[34,7,34,10],[34,11,34,14],[34,15,36,17],[34,18,34,20],[34,27,34,30],[34,31,36,32],[34,33,36,34],[34,35,34,38],[34,39,34,42],[34,43,36,45],[34,46,34,48],[34,55,34,58],[35,7,36,10],[35,11,36,14],[35,18,35,20],[35,22,35,23],[35,25,35,26],[35,27,36,27],[35,28,36,29],[35,30,36,30],[35,35,36,38],[35,39,36,42],[35,46,35,48],[35,50,35,51],[35,53,35,54],[35,55,36,55],[35,56,36,57],[35,58,36,58],[38,11,38,12],[38,14,38,15],[38,17,38,36],[38,37,38,39],[38,40,38,48],[40,6,40,9],[41,11,41,12],[41,14,41,15],[41,17,41,30],[41,31,41,39],[41,40,41,48]]}
[{"$nulls":49},"会　場　地",{"$nulls":3},"佐賀"]
[null,null,"令和６年度全九州高等学校総合体育大会レスリング競技大会\n（SAGA2024国スポレスリング競技リハーサル大会）",{"$nulls":27},"女子個人対抗戦　参加申込書",{"$nulls":18},"競技種目",{"$nulls":3},"レスリング"]
[]
[{"$nulls":48},"都道府県名"]
[{"$nulls":48},{"$f":"IF(入力シート!$D$22=\"\",\"\",入力シート!$D$22)","v":""},{"$nulls":12},"【申込の手順に戻る】"]
[{"$nulls":5},"女子個人対抗戦"]
[]
["ふりがな",null,null,{"$f":"IF(入力シート!$D$24=\"\",\"\",入力シート!$D$24&\"こうとうがっこう\")","v":{"$error":"#N/A"}},{"$nulls":9},"ふりがな",null,null,{"$f":"IF(入力シート!$D$48=\"\",\"\",入力シート!$D$48)","v":""},{"$nulls":3},{"$f":"IF(入力シート!$D$50=\"\",\"\",入力シート!$D$50)","v":""},{"$nulls":3},"ふりがな",null,null,{"$f":"IF(入力シート!$D$61=\"\",\"\",入力シート!$D$61)","v":""},{"$nulls":3},{"$f":"IF(入力シート!$D$63=\"\",\"\",入力シート!$D$63)","v":""},{"$nulls":3},"所在地",null,null,{"$f":"IF(入力シート!$D$29=\"\",\"\",入力シート!$D$29)","v":""}]
["学校名",null,null,{"$f":"IF(入力シート!$D$25=\"\",\"\",入力シート!$D$25)","v":{"$error":"#N/A"}},{"$nulls":9},"監督名",null,null,{"$f":"IF(入力シート!$D$49=\"\",\"\",入力シート!$D$49)","v":""},{"$nulls":3},{"$f":"IF(入力シート!$D$51=\"\",\"\",入力シート!$D$51)","v":""},{"$nulls":3},"コーチ名",null,null,{"$f":"IF(入力シート!$D$62=\"\",\"\",入力シート!$D$62)","v":""},{"$nulls":3},{"$f":"IF(入力シート!$D$64=\"\",\"\",入力シート!$D$64)","v":""}]
[{"$nulls":35},"電話",null,null,{"$f":"IF(入力シート!$D$30=\"\",\"\",入力シート!$D$30)","v":""},null,"－",{"$f":"IF(入力シート!$D$31=\"\",\"\",入力シート!$D$31)","v":""},null,"－",{"$f":"IF(入力シート!$D$32=\"\",\"\",入力シート!$D$32)","v":""},null,null,"FAX",null,{"$f":"IF(入力シート!$D$33=\"\",\"\",入力シート!$D$33)","v":""},null,"－",{"$f":"IF(入力シート!$D$34=\"\",\"\",入力シート!$D$34)","v":""},null,"－",{"$f":"IF(入力シート!$D$35=\"\",\"\",入力シート!$D$35)","v":""}]
[{"$nulls":3},"引率責任者",null,null,{"$f":"入力シート!D67","v":0},{"$nulls":6},"日本協会番号",null,null,{"$f":"IF(入力シート!$D$52=\"\",\"\",入力シート!$D$52)","v":""},{"$nulls":7},"日本協会番号",null,null,{"$f":"IF(入力シート!$D$65=\"\",\"\",入力シート!$D$65)","v":""},{"$nulls":16},"緊急連絡先",{"$nulls":4},{"$f":"IF(入力シート!$D$53=\"\",\"\",入力シート!$D$53)","v":""},null,"－",{"$f":"IF(入力シート!$D$54=\"\",\"\",入力シート!$D$54)","v":""},null,"－",{"$f":"IF(入力シート!$D$55=\"\",\"\",入力シート!$D$55)","v":""}]
[]
[{"$nulls":3},"級",{"$nulls":3},"氏　名",{"$nulls":7},"学年",null,null,"生　年　月　日",{"$nulls":8},"高体連登録番号",{"$nulls":3},"級",{"$nulls":3},"氏　名",{"$nulls":7},"学年",null,null,"生　年　月　日",{"$nulls":8},"高体連登録番号"]
[{"$nulls":3},{"$f":"IF(入力シート!$B$132=\"(選択)\",\"\",入力シート!$B$132)","v":""},null,"ｋｇ",null,{"$f":"IF(入力シート!$F$132=\"\",\"\",入力シート!$F$132)","v":""},{"$nulls":3},{"$f":"IF(入力シート!$G$132=\"\",\"\",入力シート!$G$132)","v":""},{"$nulls":3},{"$f":"IF(入力シート!$N$132=\"\",\"\",入力シート!$N$132)","v":""},null,null,"平成",{"$nulls":8},{"$f":"IF(入力シート!$D$22=\"\",\"\",入力シート!$D$22)","v":""},{"$nulls":3},{"$f":"IF(入力シート!$B$140=\"(選択)\",\"\",入力シート!$B$140)","v":""},null,"ｋｇ",null,{"$f":"IF(入力シート!$F$140=\"\",\"\",入力シート!$F$140)","v":""},{"$nulls":3},{"$f":"IF(入力シート!$G$140=\"\",\"\",入力シート!$G$140)","v":""},{"$nulls":3},{"$f":"IF(入力シート!$N$140=\"\",\"\",入力シート!$N$140)","v":""},null,null,"平成",{"$nulls":8},{"$f":"IF(入力シート!$D$22=\"\",\"\",入力シート!$D$22)","v":""},{"$nulls":4},"押印した参加申込書（3部）とそのデータ（未使用シートは削除しない）を各都道府県高体連レスリング専門部に提出する"]
[{"$nulls":7},{"$f":"IF(入力シート!$D$132=\"\",\"\",入力シート!$D$132)","v":""},{"$nulls":3},{"$f":"IF(入力シート!$E$132=\"\",\"\",入力シート!$E$132)","v":""},{"$nulls":6},{"$f":"IF(入力シート!$J$132=\"\",\"\",入力シート!$J$132)","v":""},null,null,"・",{"$f":"IF(入力シート!$K$132=\"\",\"\",入力シート!$K$132)","v":""},null,"・",{"$f":"IF(入力シート!$L$132=\"\",\"\",入力シート!$L$132)","v":""},null,"第",{"$f":"IF(入力シート!$M$132=\"\",\"\",入力シート!$M$132)","v":""},null,"号",{"$nulls":4},{"$f":"IF(入力シート!$D$140=\"\",\"\",入力シート!$D$140)","v":""},{"$nulls":3},{"$f":"IF(入力シート!$E$140=\"\",\"\",入力シート!$E$140)","v":""},{"$nulls":6},{"$f":"IF(入力シート!$J$140=\"\",\"\",入力シート!$J$140)","v":""},null,null,"・",{"$f":"IF(入力シート!$K$140=\"\",\"\",入力シート!$K$140)","v":""},null,"・",{"$f":"IF(入力シート!$L$140=\"\",\"\",入力シート!$L$140)","v":""},null,"第",{"$f":"IF(入力シート!$M$140=\"\",\"\",入力シート!$M$140)","v":""},null,"号"]
[]
[{"$nulls":3},{"$f":"IF(入力シート!$B$133=\"(選択)\",\"\",入力シート!$B$133)","v":""},null,"ｋｇ",null,{"$f":"IF(入力シート!$F$133=\"\",\"\",入力シート!$F$133)","v":""},{"$nulls":3},{"$f":"IF(入力シート!$G$133=\"\",\"\",入力シート!$G$133)","v":""},{"$nulls":3},{"$f":"IF(入力シート!$N$133=\"\",\"\",入力シート!$N$133)","v":""},null,null,"平成",{"$nulls":8},{"$f":"IF(入力シート!$D$22=\"\",\"\",入力シート!$D$22)","v":""},{"$nulls":3},{"$f":"IF(入力シート!$B$141=\"(選択)\",\"\",入力シート!$B$141)","v":""},null,"ｋｇ",null,{"$f":"IF(入力シート!$F$141=\"\",\"\",入力シート!$F$141)","v":""},{"$nulls":3},{"$f":"IF(入力シート!$G$141=\"\",\"\",入力シート!$G$141)","v":""},{"$nulls":3},{"$f":"IF(入力シート!$N$141=\"\",\"\",入力シート!$N$141)","v":""},null,null,"平成",{"$nulls":8},{"$f":"IF(入力シート!$D$22=\"\",\"\",入力シート!$D$22)","v":""}]
[{"$nulls":7},{"$f":"IF(入力シート!$D$133=\"\",\"\",入力シート!$D$133)","v":""},{"$nulls":3},{"$f":"IF(入力シート!$E$133=\"\",\"\",入力シート!$E$133)","v":""},{"$nulls":6},{"$f":"IF(入力シート!$J$133=\"\",\"\",入力シート!$J$133)","v":""},null,null,"・",{"$f":"IF(入力シート!$K$133=\"\",\"\",入力シート!$K$133)","v":""},null,"・",{"$f":"IF(入力シート!$L$133=\"\",\"\",入力シート!$L$133)","v":""},null,"第",{"$f":"IF(入力シート!$M$133=\"\",\"\",入力シート!$M$133)","v":""},null,"号",{"$nulls":4},{"$f":"IF(入力シート!$D$141=\"\",\"\",入力シート!$D$141)","v":""},{"$nulls":3},{"$f":"IF(入力シート!$E$141=\"\",\"\",入力シート!$E$141)","v":""},{"$nulls":6},{"$f":"IF(入力シート!$J$141=\"\",\"\",入力シート!$J$141)","v":""},null,null,"・",{"$f":"IF(入力シート!$K$141=\"\",\"\",入力シート!$K$141)","v":""},null,"・",{"$f":"IF(入力シート!$L$141=\"\",\"\",入力シート!$L$141)","v":""},null,"第",{"$f":"IF(入力シート!$M$141=\"\",\"\",入力シート!$M$141)","v":""},null,"号"]
[]
[{"$nulls":3},{"$f":"IF(入力シート!$B$134=\"(選択)\",\"\",入力シート!$B$134)","v":""},null,"ｋｇ",null,{"$f":"IF(入力シート!$F$134=\"\",\"\",入力シート!$F$134)","v":""},{"$nulls":3},{"$f":"IF(入力シート!$G$134=\"\",\"\",入力シート!$G$134)","v":""},{"$nulls":3},{"$f":"IF(入力シート!$N$134=\"\",\"\",入力シート!$N$134)","v":""},null,null,"平成",{"$nulls":8},{"$f":"IF(入力シート!$D$22=\"\",\"\",入力シート!$D$22)","v":""},{"$nulls":3},{"$f":"IF(入力シート!$B$142=\"(選択)\",\"\",入力シート!$B$142)","v":""},null,"ｋｇ",null,{"$f":"IF(入力シート!$F$142=\"\",\"\",入力シート!$F$142)","v":""},{"$nulls":3},{"$f":"IF(入力シート!$G$142=\"\",\"\",入力シート!$G$142)","v":""},{"$nulls":3},{"$f":"IF(入力シート!$N$142=\"\",\"\",入力シート!$N$142)","v":""},null,null,"平成",{"$nulls":8},{"$f":"IF(入力シート!$D$22=\"\",\"\",入力シート!$D$22)","v":""}]
[{"$nulls":7},{"$f":"IF(入力シート!$D$134=\"\",\"\",入力シート!$D$134)","v":""},{"$nulls":3},{"$f":"IF(入力シート!$E$134=\"\",\"\",入力シート!$E$134)","v":""},{"$nulls":6},{"$f":"IF(入力シート!$J$134=\"\",\"\",入力シート!$J$134)","v":""},null,null,"・",{"$f":"IF(入力シート!$K$134=\"\",\"\",入力シート!$K$134)","v":""},null,"・",{"$f":"IF(入力シート!$L$134=\"\",\"\",入力シート!$L$134)","v":""},null,"第",{"$f":"IF(入力シート!$M$134=\"\",\"\",入力シート!$M$134)","v":""},null,"号",{"$nulls":4},{"$f":"IF(入力シート!$D$142=\"\",\"\",入力シート!$D$142)","v":""},{"$nulls":3},{"$f":"IF(入力シート!$E$142=\"\",\"\",入力シート!$E$142)","v":""},{"$nulls":6},{"$f":"IF(入力シート!$J$142=\"\",\"\",入力シート!$J$142)","v":""},null,null,"・",{"$f":"IF(入力シート!$K$142=\"\",\"\",入力シート!$K$142)","v":""},null,"・",{"$f":"IF(入力シート!$L$142=\"\",\"\",入力シート!$L$142)","v":""},null,"第",{"$f":"IF(入力シート!$M$142=\"\",\"\",入力シート!$M$142)","v":""},null,"号"]
[]
[{"$nulls":3},{"$f":"IF(入力シート!$B$135=\"(選択)\",\"\",入力シート!$B$135)","v":""},null,"ｋｇ",null,{"$f":"IF(入力シート!$F$135=\"\",\"\",入力シート!$F$135)","v":""},{"$nulls":3},{"$f":"IF(入力シート!$G$135=\"\",\"\",入力シート!$G$135)","v":""},{"$nulls":3},{"$f":"IF(入力シート!$N$135=\"\",\"\",入力シート!$N$135)","v":""},null,null,"平成",{"$nulls":8},{"$f":"IF(入力シート!$D$22=\"\",\"\",入力シート!$D$22)","v":""},{"$nulls":3},{"$f":"IF(入力シート!$B$143=\"(選択)\",\"\",入力シート!$B$143)","v":""},null,"ｋｇ",null,{"$f":"IF(入力シート!$F$143=\"\",\"\",入力シート!$F$143)","v":""},{"$nulls":3},{"$f":"IF(入力シート!$G$143=\"\",\"\",入力シート!$G$143)","v":""},{"$nulls":3},{"$f":"IF(入力シート!$N$143=\"\",\"\",入力シート!$N$143)","v":""},null,null,"平成",{"$nulls":8},{"$f":"IF(入力シート!$D$22=\"\",\"\",入力シート!$D$22)","v":""}]
[{"$nulls":7},{"$f":"IF(入力シート!$D$135=\"\",\"\",入力シート!$D$135)","v":""},{"$nulls":3},{"$f":"IF(入力シート!$E$135=\"\",\"\",入力シート!$E$135)","v":""},{"$nulls":6},{"$f":"IF(入力シート!$J$135=\"\",\"\",入力シート!$J$135)","v":""},null,null,"・",{"$f":"IF(入力シート!$K$135=\"\",\"\",入力シート!$K$135)","v":""},null,"・",{"$f":"IF(入力シート!$L$135=\"\",\"\",入力シート!$L$135)","v":""},null,"第",{"$f":"IF(入力シート!$M$135=\"\",\"\",入力シート!$M$135)","v":""},null,"号",{"$nulls":4},{"$f":"IF(入力シート!$D$143=\"\",\"\",入力シート!$D$143)","v":""},{"$nulls":3},{"$f":"IF(入力シート!$E$143=\"\",\"\",入力シート!$E$143)","v":""},{"$nulls":6},{"$f":"IF(入力シート!$J$143=\"\",\"\",入力シート!$J$143)","v":""},null,null,"・",{"$f":"IF(入力シート!$K$143=\"\",\"\",入力シート!$K$143)","v":""},null,"・",{"$f":"IF(入力シート!$L$143=\"\",\"\",入力シート!$L$143)","v":""},null,"第",{"$f":"IF(入力シート!$M$143=\"\",\"\",入力シート!$M$143)","v":""},null,"号"]
[]
[{"$nulls":3},{"$f":"IF(入力シート!$B$136=\"(選択)\",\"\",入力シート!$B$136)","v":""},null,"ｋｇ",null,{"$f":"IF(入力シート!$F$136=\"\",\"\",入力シート!$F$136)","v":""},{"$nulls":3},{"$f":"IF(入力シート!$G$136=\"\",\"\",入力シート!$G$136)","v":""},{"$nulls":3},{"$f":"IF(入力シート!$N$136=\"\",\"\",入力シート!$N$136)","v":""},null,null,"平成",{"$nulls":8},{"$f":"IF(入力シート!$D$22=\"\",\"\",入力シート!$D$22)","v":""},{"$nulls":3},{"$f":"IF(入力シート!$B$144=\"(選択)\",\"\",入力シート!$B$144)","v":""},null,"ｋｇ",null,{"$f":"IF(入力シート!$F$144=\"\",\"\",入力シート!$F$144)","v":""},{"$nulls":3},{"$f":"IF(入力シート!$G$144=\"\",\"\",入力シート!$G$144)","v":""},{"$nulls":3},{"$f":"IF(入力シート!$N$144=\"\",\"\",入力シート!$N$144)","v":""},null,null,"平成",{"$nulls":8},{"$f":"IF(入力シート!$D$22=\"\",\"\",入力シート!$D$22)","v":""}]
[{"$nulls":7},{"$f":"IF(入力シート!$D$136=\"\",\"\",入力シート!$D$136)","v":""},{"$nulls":3},{"$f":"IF(入力シート!$E$136=\"\",\"\",入力シート!$E$136)","v":""},{"$nulls":6},{"$f":"IF(入力シート!$J$136=\"\",\"\",入力シート!$J$136)","v":""},null,null,"・",{"$f":"IF(入力シート!$K$136=\"\",\"\",入力シート!$K$136)","v":""},null,"・",{"$f":"IF(入力シート!$L$136=\"\",\"\",入力シート!$L$136)","v":""},null,"第",{"$f":"IF(入力シート!$M$136=\"\",\"\",入力シート!$M$136)","v":""},null,"号",{"$nulls":4},{"$f":"IF(入力シート!$D$144=\"\",\"\",入力シート!$D$144)","v":""},{"$nulls":3},{"$f":"IF(入力シート!$E$144=\"\",\"\",入力シート!$E$144)","v":""},{"$nulls":6},{"$f":"IF(入力シート!$J$144=\"\",\"\",入力シート!$J$144)","v":""},null,null,"・",{"$f":"IF(入力シート!$K$144=\"\",\"\",入力シート!$K$144)","v":""},null,"・",{"$f":"IF(入力シート!$L$144=\"\",\"\",入力シート!$L$144)","v":""},null,"第",{"$f":"IF(入力シート!$M$144=\"\",\"\",入力シート!$M$144)","v":""},null,"号"]
[]
[{"$nulls":3},{"$f":"IF(入力シート!$B$137=\"(選択)\",\"\",入力シート!$B$137)","v":""},null,"ｋｇ",null,{"$f":"IF(入力シート!$F$137=\"\",\"\",入力シート!$F$137)","v":""},{"$nulls":3},{"$f":"IF(入力シート!$G$137=\"\",\"\",入力シート!$G$137)","v":""},{"$nulls":3},{"$f":"IF(入力シート!$N$137=\"\",\"\",入力シート!$N$137)","v":""},null,null,"平成",{"$nulls":8},{"$f":"IF(入力シート!$D$22=\"\",\"\",入力シート!$D$22)","v":""},{"$nulls":3},{"$f":"IF(入力シート!$B$145=\"(選択)\",\"\",入力シート!$B$145)","v":""},null,"ｋｇ",null,{"$f":"IF(入力シート!$F$145=\"\",\"\",入力シート!$F$145)","v":""},{"$nulls":3},{"$f":"IF(入力シート!$G$145=\"\",\"\",入力シート!$G$145)","v":""},{"$nulls":3},{"$f":"IF(入力シート!$N$145=\"\",\"\",入力シート!$N$145)","v":""},null,null,"平成",{"$nulls":8},{"$f":"IF(入力シート!$D$22=\"\",\"\",入力シート!$D$22)","v":""}]
[{"$nulls":7},{"$f":"IF(入力シート!$D$137=\"\",\"\",入力シート!$D$137)","v":""},{"$nulls":3},{"$f":"IF(入力シート!$E$137=\"\",\"\",入力シート!$E$137)","v":""},{"$nulls":6},{"$f":"IF(入力シート!$J$137=\"\",\"\",入力シート!$J$137)","v":""},null,null,"・",{"$f":"IF(入力シート!$K$137=\"\",\"\",入力シート!$K$137)","v":""},null,"・",{"$f":"IF(入力シート!$L$137=\"\",\"\",入力シート!$L$137)","v":""},null,"第",{"$f":"IF(入力シート!$M$137=\"\",\"\",入力シート!$M$137)","v":""},null,"号",{"$nulls":4},{"$f":"IF(入力シート!$D$145=\"\",\"\",入力シート!$D$145)","v":""},{"$nulls":3},{"$f":"IF(入力シート!$E$145=\"\",\"\",入力シート!$E$145)","v":""},{"$nulls":6},{"$f":"IF(入力シート!$J$145=\"\",\"\",入力シート!$J$145)","v":""},null,null,"・",{"$f":"IF(入力シート!$K$145=\"\",\"\",入力シート!$K$145)","v":""},null,"・",{"$f":"IF(入力シート!$L$145=\"\",\"\",入力シート!$L$145)","v":""},null,"第",{"$f":"IF(入力シート!$M$145=\"\",\"\",入力シート!$M$145)","v":""},null,"号"]
[]
[{"$nulls":3},{"$f":"IF(入力シート!$B$138=\"(選択)\",\"\",入力シート!$B$138)","v":""},null,"ｋｇ",null,{"$f":"IF(入力シート!$F$138=\"\",\"\",入力シート!$F$138)","v":""},{"$nulls":3},{"$f":"IF(入力シート!$G$138=\"\",\"\",入力シート!$G$138)","v":""},{"$nulls":3},{"$f":"IF(入力シート!$N$138=\"\",\"\",入力シート!$N$138)","v":""},null,null,"平成",{"$nulls":8},{"$f":"IF(入力シート!$D$22=\"\",\"\",入力シート!$D$22)","v":""},{"$nulls":3},{"$f":"IF(入力シート!$B$146=\"(選択)\",\"\",入力シート!$B$146)","v":""},null,"ｋｇ",null,{"$f":"IF(入力シート!$F$146=\"\",\"\",入力シート!$F$146)","v":""},{"$nulls":3},{"$f":"IF(入力シート!$G$146=\"\",\"\",入力シート!$G$146)","v":""},{"$nulls":3},{"$f":"IF(入力シート!$N$146=\"\",\"\",入力シート!$N$146)","v":""},null,null,"平成",{"$nulls":8},{"$f":"IF(入力シート!$D$22=\"\",\"\",入力シート!$D$22)","v":""}]
[{"$nulls":7},{"$f":"IF(入力シート!$D$138=\"\",\"\",入力シート!$D$138)","v":""},{"$nulls":3},{"$f":"IF(入力シート!$E$138=\"\",\"\",入力シート!$E$138)","v":""},{"$nulls":6},{"$f":"IF(入力シート!$J$138=\"\",\"\",入力シート!$J$138)","v":""},null,null,"・",{"$f":"IF(入力シート!$K$138=\"\",\"\",入力シート!$K$138)","v":""},null,"・",{"$f":"IF(入力シート!$L$138=\"\",\"\",入力シート!$L$138)","v":""},null,"第",{"$f":"IF(入力シート!$M$138=\"\",\"\",入力シート!$M$138)","v":""},null,"号",{"$nulls":4},{"$f":"IF(入力シート!$D$146=\"\",\"\",入力シート!$D$146)","v":""},{"$nulls":3},{"$f":"IF(入力シート!$E$146=\"\",\"\",入力シート!$E$146)","v":""},{"$nulls":6},{"$f":"IF(入力シート!$J$146=\"\",\"\",入力シート!$J$146)","v":""},null,null,"・",{"$f":"IF(入力シート!$K$146=\"\",\"\",入力シート!$K$146)","v":""},null,"・",{"$f":"IF(入力シート!$L$146=\"\",\"\",入力シート!$L$146)","v":""},null,"第",{"$f":"IF(入力シート!$M$146=\"\",\"\",入力シート!$M$146)","v":""},null,"号"]
[]
[{"$nulls":3},{"$f":"IF(入力シート!$B$139=\"(選択)\",\"\",入力シート!$B$139)","v":""},null,"ｋｇ",null,{"$f":"IF(入力シート!$F$139=\"\",\"\",入力シート!$F$139)","v":""},{"$nulls":3},{"$f":"IF(入力シート!$G$139=\"\",\"\",入力シート!$G$139)","v":""},{"$nulls":3},{"$f":"IF(入力シート!$N$139=\"\",\"\",入力シート!$N$139)","v":""},null,null,"平成",{"$nulls":8},{"$f":"IF(入力シート!$D$22=\"\",\"\",入力シート!$D$22)","v":""},{"$nulls":3},{"$f":"IF(入力シート!$B$147=\"(選択)\",\"\",入力シート!$B$147)","v":""},null,"ｋｇ",null,{"$f":"IF(入力シート!$F$147=\"\",\"\",入力シート!$F$147)","v":""},{"$nulls":3},{"$f":"IF(入力シート!$G$147=\"\",\"\",入力シート!$G$147)","v":""},{"$nulls":3},{"$f":"IF(入力シート!$N$147=\"\",\"\",入力シート!$N$147)","v":""},null,null,"平成",{"$nulls":8},{"$f":"IF(入力シート!$D$22=\"\",\"\",入力シート!$D$22)","v":""}]
[{"$nulls":7},{"$f":"IF(入力シート!$D$139=\"\",\"\",入力シート!$D$139)","v":""},{"$nulls":3},{"$f":"IF(入力シート!$E$139=\"\",\"\",入力シート!$E$139)","v":""},{"$nulls":6},{"$f":"IF(入力シート!$J$139=\"\",\"\",入力シート!$J$139)","v":""},null,null,"・",{"$f":"IF(入力シート!$K$139=\"\",\"\",入力シート!$K$139)","v":""},null,"・",{"$f":"IF(入力シート!$L$139=\"\",\"\",入力シート!$L$139)","v":""},null,"第",{"$f":"IF(入力シート!$M$139=\"\",\"\",入力シート!$M$139)","v":""},null,"号",{"$nulls":4},{"$f":"IF(入力シート!$D$147=\"\",\"\",入力シート!$D$147)","v":""},{"$nulls":3},{"$f":"IF(入力シート!$E$147=\"\",\"\",入力シート!$E$147)","v":""},{"$nulls":6},{"$f":"IF(入力シート!$J$147=\"\",\"\",入力シート!$J$147)","v":""},null,null,"・",{"$f":"IF(入力シート!$K$147=\"\",\"\",入力シート!$K$147)","v":""},null,"・",{"$f":"IF(入力シート!$L$147=\"\",\"\",入力シート!$L$147)","v":""},null,"第",{"$f":"IF(入力シート!$M$147=\"\",\"\",入力シート!$M$147)","v":""},null,"号"]
[]
[null,"上記の者は、本校在学生徒で標記大会に出場することを認め、参加申込みいたします。"]
[{"$nulls":4},"令和６年(2024年)",{"$nulls":6},{"$f":"IF(入力シート!$D$20=\"\",\"\",入力シート!$D$20)","v":""},null,"月",{"$f":"IF(入力シート!$D$21=\"\",\"\",入力シート!$D$21)","v":""},null,"日",{"$f":"$D$9","v":{"$error":"#N/A"}},{"$nulls":19},"学校長",null,null,{"$f":"IF(入力シート!$D$36=\"\",\"\",入力シート!$D$36&\"　\"&入力シート!$D$37)","v":""},{"$nulls":8},"印"]
[]
[null,"上記の者は、",{"$nulls":4},{"$f":"AW5","v":""},{"$nulls":3},"代表として標記大会に参加することを認め、参加申込みをいたします。"]
[{"$nulls":4},"令和６年(2024年)",{"$nulls":8},"月",null,null,"日",{"$f":"IF($AW$5=\"\",\"\",$AW$5)","v":""},{"$nulls":13},"高等学校体育連盟会長",{"$nulls":8},{"$f":"IF(入力シート!$D$38=\"\",\"\",入力シート!$D$38&\"　\"&入力シート!$D$39)","v":""},{"$nulls":8},"印"]
[]
[]
[{"$nulls":4},"参加料振込通知書（写し）は貼付台紙（ダウンロードした大会参加料明細書内に添付）に貼り付けて提出してください。"]
{"$rows_empty":55}
[{"$f":"VLOOKUP($AW$5,$A$104:$E$151,5,FALSE)","v":{"$error":"#N/A"}}]
[{"$f":"VLOOKUP($AW$5,$A$104:$E$151,4,FALSE)","v":{"$error":"#N/A"}}]
[]
["(選択)",null,null,0,"　","(選択)",null,null,1]
["北海道",null,null,1,"北海道",47,null,null,2]
["青森県",null,null,2,"東北",50,null,null,3]
["岩手県",null,null,3,"東北",53]
["宮城県",null,null,4,"東北",57]
["秋田県",null,null,5,"東北",62]
["山形県",null,null,6,"東北",68]
["福島県",null,null,7,"東北",74]
["茨城県",null,null,8,"関東"]
["栃木県",null,null,9,"関東"]
["群馬県",null,null,10,"関東"]
["埼玉県",null,null,11,"関東"]
["千葉県",null,null,12,"関東"]
["東京都",null,null,13,"関東"]
["神奈川県",null,null,14,"関東"]
["山梨県",null,null,15,"関東"]
["新潟県",null,null,16,"北信越"]
["富山県",null,null,17,"北信越"]
["石川県",null,null,18,"北信越"]
["福井県",null,null,19,"北信越"]
["長野県",null,null,20,"北信越"]
["岐阜県",null,null,21,"東海"]
["静岡県",null,null,22,"東海"]
["愛知県",null,null,23,"東海"]
["三重県",null,null,24,"東海"]
["滋賀県",null,null,25,"近畿"]
["京都府",null,null,26,"近畿"]
["大阪府",null,null,27,"近畿"]
["兵庫県",null,null,28,"近畿"]
["奈良県",null,null,29,"近畿"]
["和歌山県",null,null,30,"近畿"]
["鳥取県",null,null,31,"中国"]
["島根県",null,null,32,"中国"]
["岡山県",null,null,33,"中国"]
["広島県",null,null,34,"中国"]
["山口県",null,null,35,"中国"]
["徳島県",null,null,36,"四国"]
["香川県",null,null,37,"四国"]
["愛媛県",null,null,38,"四国"]
["高知県",null,null,39,"四国"]
["福岡県",null,null,40,"九州"]
["佐賀県",null,null,41,"九州"]
["長崎県",null,null,42,"九州"]
["熊本県",null,null,43,"九州"]
["大分県",null,null,44,"九州"]
["宮崎県",null,null,45,"九州"]
["鹿児島県",null,null,46,"九州"]
["沖縄県",null,null,47,"九州"]

{"sheet":"データ(削除しないで)","index":4,"n_rows":53,"n_cols":29,"rows_kept":53,"merged":[[0,1,0,4],[2,0,3,0],[3,23,3,24],[3,25,3,26],[35,0,36,0],[36,23,36,24],[36,25,36,26],[54,9,54,10],[54,13,54,14],[54,22,54,23],[54,26,54,28]]}
[null,"このシートは、何もしないでください"]
[]
[null,"（男子 個人・団体）"]
[null,"ID","No","No（県番号）","名前","なまえ","都道府県","学校名","がっこうめい","正副","階級","学年","抽選",null,"正副","kg","ブロック","正式名称","監督","生年月日","高体連番号","コーチ",null,"名前",null,"なまえ",null,"学校名","監督 ふり"]
[1,null,null,{"$f":"入力シート!$J$22","v":""},{"$f":"X5&\" \"&Y5","v":"-- --"},{"$f":"Z5&\" \"&AA5","v":"-- --"},{"$f":"入力シート!$D$22","v":0},{"$f":"入力シート!$D$23","v":0},{"$f":"入力シート!$D$24","v":{"$error":"#N/A"}},1,51,{"$f":"IF(入力シート!$N$134=\"\",\"--\",入力シート!$N$134)","v":"--"},null,null,1,"51kg",{"$f":"入力シート!$G$22","v":""},{"$f":"IF(入力シート!$D$25=0,\"--\",入力シート!$D$25)","v":{"$error":"#N/A"}},{"$f":"IF(入力シート!$D$40=\"\",\"\",SUBSTITUTE(SUBSTITUTE(入力シート!$D$41,\"　\",\"\"),\" \",\"\")&\" \"&SUBSTITUTE(SUBSTITUTE(入力シート!$D$43,\"　\",\"\"),\" \",\"\"))","v":""},{"$f":"\"H\"&入力シート!$J$82&\"･\"&入力シート!$K$82&\"･\"&入力シート!$L$82","v":"H･･"},{"$f":"入力シート!$M$82","v":0},{"$f":"IF(入力シート!$D$56=\"\",\"\",SUBSTITUTE(SUBSTITUTE(入力シート!$D$56,\"　\",\"\"),\" \",\"\")&\" \"&SUBSTITUTE(SUBSTITUTE(入力シート!$D$58,\"　\",\"\"),\" \",\"\"))","v":""},null,{"$f":"IF(入力シート!$D$82=\"\",\"--\",SUBSTITUTE(SUBSTITUTE(入力シート!$D$82,\"　\",\"\"),\" \",\"\"))","v":"--"},{"$f":"IF(入力シート!$E$82=\"\",\"--\",SUBSTITUTE(SUBSTITUTE(入力シート!$E$82,\"　\",\"\"),\" \",\"\"))","v":"--"},{"$f":"IF(入力シート!$F$82=\"\",\"--\",SUBSTITUTE(SUBSTITUTE(入力シート!$F$82,\"　\",\"\"),\" \",\"\"))","v":"--"},{"$f":"IF(入力シート!$G$82=\"\",\"--\",SUBSTITUTE(SUBSTITUTE(入力シート!$G$82,\"　\",\"\"),\" \",\"\"))","v":"--"},{"$f":"入力シート!$D$26","v":{"$error":"#N/A"}},{"$f":"入力シート!$D$40&\" \"&入力シート!$D$42","v":" "}]
[2,null,null,{"$f":"入力シート!$J$22","v":""},{"$f":"X6&\" \"&Y6","v":"-- --"},"-- --",{"$f":"入力シート!$D$22","v":0},{"$f":"入力シート!$D$23","v":0},{"$f":"入力シート!$D$24","v":{"$error":"#N/A"}},1,55,{"$f":"IF(入力シート!$N$134=\"\",\"--\",入力シート!$N$134)","v":"--"},null,null,1,"55kg",{"$f":"入力シート!$G$22","v":""},{"$f":"IF(入力シート!$D$25=0,\"--\",入力シート!$D$25)","v":{"$error":"#N/A"}},{"$f":"IF(入力シート!$D$40=\"\",\"\",SUBSTITUTE(SUBSTITUTE(入力シート!$D$41,\"　\",\"\"),\" \",\"\")&\" \"&SUBSTITUTE(SUBSTITUTE(入力シート!$D$43,\"　\",\"\"),\" \",\"\"))","v":""},{"$f":"\"H\"&入力シート!$J$83&\"･\"&入力シート!$K$83&\"･\"&入力シート!$L$83","v":"H･･"},{"$f":"入力シート!$M$83","v":0},{"$f":"IF(入力シート!$D$56=\"\",\"\",SUBSTITUTE(SUBSTITUTE(入力シート!$D$56,\"　\",\"\"),\" \",\"\")&\" \"&SUBSTITUTE(SUBSTITUTE(入力シート!$D$58,\"　\",\"\"),\" \",\"\"))","v":""},null,{"$f":"IF(入力シート!$D$83=\"\",\"--\",SUBSTITUTE(SUBSTITUTE(入力シート!$D$83,\"　\",\"\"),\" \",\"\"))","v":"--"},{"$f":"IF(入力シート!$E$83=\"\",\"--\",SUBSTITUTE(SUBSTITUTE(入力シート!$E$83,\"　\",\"\"),\" \",\"\"))","v":"--"},{"$f":"IF(入力シート!$F$83=\"\",\"--\",SUBSTITUTE(SUBSTITUTE(入力シート!$F$83,\"　\",\"\"),\" \",\"\"))","v":"--"},{"$f":"IF(入力シート!$G$83=\"\",\"--\",SUBSTITUTE(SUBSTITUTE(入力シート!$G$83,\"　\",\"\"),\" \",\"\"))","v":"--"},{"$f":"入力シート!$D$26","v":{"$error":"#N/A"}},{"$f":"入力シート!$D$40&\" \"&入力シート!$D$42","v":" "}]
[3,null,null,{"$f":"入力シート!$J$22","v":""},"-- --","-- --",{"$f":"入力シート!$D$22","v":0},{"$f":"入力シート!$D$23","v":0},{"$f":"入力シート!$D$24","v":{"$error":"#N/A"}},1,60,{"$f":"IF(入力シート!$N$134=\"\",\"--\",入力シート!$N$134)","v":"--"},null,null,1,"60kg",{"$f":"入力シート!$G$22","v":""},{"$f":"IF(入力シート!$D$25=0,\"--\",入力シート!$D$25)","v":{"$error":"#N/A"}},{"$f":"IF(入力シート!$D$40=\"\",\"\",SUBSTITUTE(SUBSTITUTE(入力シート!$D$41,\"　\",\"\"),\" \",\"\")&\" \"&SUBSTITUTE(SUBSTITUTE(入力シート!$D$43,\"　\",\"\"),\" \",\"\"))","v":""},{"$f":"\"H\"&入力シート!$J$84&\"･\"&入力シート!$K$84&\"･\"&入力シート!$L$84","v":"H･･"},{"$f":"入力シート!$M$84","v":0},{"$f":"IF(入力シート!$D$56=\"\",\"\",SUBSTITUTE(SUBSTITUTE(入力シート!$D$56,\"　\",\"\"),\" \",\"\")&\" \"&SUBSTITUTE(SUBSTITUTE(入力シート!$D$58,\"　\",\"\"),\" \",\"\"))","v":""},null,{"$f":"IF(入力シート!$D$84=\"\",\"--\",SUBSTITUTE(SUBSTITUTE(入力シート!$D$84,\"　\",\"\"),\" \",\"\"))","v":"--"},{"$f":"IF(入力シート!$E$84=\"\",\"--\",SUBSTITUTE(SUBSTITUTE(入力シート!$E$84,\"　\",\"\"),\" \",\"\"))","v":"--"},{"$f":"IF(入力シート!$F$84=\"\",\"--\",SUBSTITUTE(SUBSTITUTE(入力シート!$F$84,\"　\",\"\"),\" \",\"\"))","v":"--"},{"$f":"IF(入力シート!$G$84=\"\",\"--\",SUBSTITUTE(SUBSTITUTE(入力シート!$G$84,\"　\",\"\"),\" \",\"\"))","v":"--"},{"$f":"入力シート!$D$26","v":{"$error":"#N/A"}},{"$f":"入力シート!$D$40&\" \"&入力シート!$D$42","v":" "}]
[4,null,null,{"$f":"入力シート!$J$22","v":""},"-- --","-- --",{"$f":"入力シート!$D$22","v":0},{"$f":"入力シート!$D$23","v":0},{"$f":"入力シート!$D$24","v":{"$error":"#N/A"}},1,65,{"$f":"IF(入力シート!$N$134=\"\",\"--\",入力シート!$N$134)","v":"--"},null,null,1,"65kg",{"$f":"入力シート!$G$22","v":""},{"$f":"IF(入力シート!$D$25=0,\"--\",入力シート!$D$25)","v":{"$error":"#N/A"}},{"$f":"IF(入力シート!$D$40=\"\",\"\",SUBSTITUTE(SUBSTITUTE(入力シート!$D$41,\"　\",\"\"),\" \",\"\")&\" \"&SUBSTITUTE(SUBSTITUTE(入力シート!$D$43,\"　\",\"\"),\" \",\"\"))","v":""},{"$f":"\"H\"&入力シート!$J$85&\"･\"&入力シート!$K$85&\"･\"&入力シート!$L$85","v":"H･･"},{"$f":"入力シート!$M$85","v":0},{"$f":"IF(入力シート!$D$56=\"\",\"\",SUBSTITUTE(SUBSTITUTE(入力シート!$D$56,\"　\",\"\"),\" \",\"\")&\" \"&SUBSTITUTE(SUBSTITUTE(入力シート!$D$58,\"　\",\"\"),\" \",\"\"))","v":""},null,{"$f":"IF(入力シート!$D$85=\"\",\"--\",SUBSTITUTE(SUBSTITUTE(入力シート!$D$85,\"　\",\"\"),\" \",\"\"))","v":"--"},{"$f":"IF(入力シート!$E$85=\"\",\"--\",SUBSTITUTE(SUBSTITUTE(入力シート!$E$85,\"　\",\"\"),\" \",\"\"))","v":"--"},{"$f":"IF(入力シート!$F$85=\"\",\"--\",SUBSTITUTE(SUBSTITUTE(入力シート!$F$85,\"　\",\"\"),\" \",\"\"))","v":"--"},{"$f":"IF(入力シート!$G$85=\"\",\"--\",SUBSTITUTE(SUBSTITUTE(入力シート!$G$85,\"　\",\"\"),\" \",\"\"))","v":"--"},{"$f":"入力シート!$D$26","v":{"$error":"#N/A"}},{"$f":"入力シート!$D$40&\" \"&入力シート!$D$42","v":" "}]
[5,null,null,{"$f":"入力シート!$J$22","v":""},"-- --","-- --",{"$f":"入力シート!$D$22","v":0},{"$f":"入力シート!$D$23","v":0},{"$f":"入力シート!$D$24","v":{"$error":"#N/A"}},1,71,{"$f":"IF(入力シート!$N$134=\"\",\"--\",入力シート!$N$134)","v":"--"},null,null,1,"71kg",{"$f":"入力シート!$G$22","v":""},{"$f":"IF(入力シート!$D$25=0,\"--\",入力シート!$D$25)","v":{"$error":"#N/A"}},{"$f":"IF(入力シート!$D$40=\"\",\"\",SUBSTITUTE(SUBSTITUTE(入力シート!$D$41,\"　\",\"\"),\" \",\"\")&\" \"&SUBSTITUTE(SUBSTITUTE(入力シート!$D$43,\"　\",\"\"),\" \",\"\"))","v":""},{"$f":"\"H\"&入力シート!$J$86&\"･\"&入力シート!$K$86&\"･\"&入力シート!$L$86","v":"H･･"},{"$f":"入力シート!$M$86","v":0},{"$f":"IF(入力シート!$D$56=\"\",\"\",SUBSTITUTE(SUBSTITUTE(入力シート!$D$56,\"　\",\"\"),\" \",\"\")&\" \"&SUBSTITUTE(SUBSTITUTE(入力シート!$D$58,\"　\",\"\"),\" \",\"\"))","v":""},null,{"$f":"IF(入力シート!$D$86=\"\",\"--\",SUBSTITUTE(SUBSTITUTE(入力シート!$D$86,\"　\",\"\"),\" \",\"\"))","v":"--"},{"$f":"IF(入力シート!$E$86=\"\",\"--\",SUBSTITUTE(SUBSTITUTE(入力シート!$E$86,\"　\",\"\"),\" \",\"\"))","v":"--"},{"$f":"IF(入力シート!$F$86=\"\",\"--\",SUBSTITUTE(SUBSTITUTE(入力シート!$F$86,\"　\",\"\"),\" \",\"\"))","v":"--"},{"$f":"IF(入力シート!$G$86=\"\",\"--\",SUBSTITUTE(SUBSTITUTE(入力シート!$G$86,\"　\",\"\"),\" \",\"\"))","v":"--"},{"$f":"入力シート!$D$26","v":{"$error":"#N/A"}},{"$f":"入力シート!$D$40&\" \"&入力シート!$D$42","v":" "}]
[6,null,null,{"$f":"入力シート!$J$22","v":""},"-- --","-- --",{"$f":"入力シート!$D$22","v":0},{"$f":"入力シート!$D$23","v":0},{"$f":"入力シート!$D$24","v":{"$error":"#N/A"}},1,80,{"$f":"IF(入力シート!$N$134=\"\",\"--\",入力シート!$N$134)","v":"--"},null,null,1,"80kg",{"$f":"入力シート!$G$22","v":""},{"$f":"IF(入力シート!$D$25=0,\"--\",入力シート!$D$25)","v":{"$error":"#N/A"}},{"$f":"IF(入力シート!$D$40=\"\",\"\",SUBSTITUTE(SUBSTITUTE(入力シート!$D$41,\"　\",\"\"),\" \",\"\")&\" \"&SUBSTITUTE(SUBSTITUTE(入力シート!$D$43,\"　\",\"\"),\" \",\"\"))","v":""},{"$f":"\"H\"&入力シート!$J$87&\"･\"&入力シート!$K$87&\"･\"&入力シート!$L$87","v":"H･･"},{"$f":"入力シート!$M$87","v":0},{"$f":"IF(入力シート!$D$56=\"\",\"\",SUBSTITUTE(SUBSTITUTE(入力シート!$D$56,\"　\",\"\"),\" \",\"\")&\" \"&SUBSTITUTE(SUBSTITUTE(入力シート!$D$58,\"　\",\"\"),\" \",\"\"))","v":""},null,{"$f":"IF(入力シート!$D$87=\"\",\"--\",SUBSTITUTE(SUBSTITUTE(入力シート!$D$87,\"　\",\"\"),\" \",\"\"))","v":"--"},{"$f":"IF(入力シート!$E$87=\"\",\"--\",SUBSTITUTE(SUBSTITUTE(入力シート!$E$87,\"　\",\"\"),\" \",\"\"))","v":"--"},{"$f":"IF(入力シート!$F$87=\"\",\"--\",SUBSTITUTE(SUBSTITUTE(入力シート!$F$87,\"　\",\"\"),\" \",\"\"))","v":"--"},{"$f":"IF(入力シート!$G$87=\"\",\"--\",SUBSTITUTE(SUBSTITUTE(入力シート!$G$87,\"　\",\"\"),\" \",\"\"))","v":"--"},{"$f":"入力シート!$D$26","v":{"$error":"#N/A"}},{"$f":"入力シート!$D$40&\" \"&入力シート!$D$42","v":" "}]
[7,null,null,{"$f":"入力シート!$J$22","v":""},"-- --","-- --",{"$f":"入力シート!$D$22","v":0},{"$f":"入力シート!$D$23","v":0},{"$f":"入力シート!$D$24","v":{"$error":"#N/A"}},1,125,{"$f":"IF(入力シート!$N$134=\"\",\"--\",入力シート!$N$134)","v":"--"},null,null,1,"125kg",{"$f":"入力シート!$G$22","v":""},{"$f":"IF(入力シート!$D$25=0,\"--\",入力シート!$D$25)","v":{"$error":"#N/A"}},{"$f":"IF(入力シート!$D$40=\"\",\"\",SUBSTITUTE(SUBSTITUTE(入力シート!$D$41,\"　\",\"\"),\" \",\"\")&\" \"&SUBSTITUTE(SUBSTITUTE(入力シート!$D$43,\"　\",\"\"),\" \",\"\"))","v":""},{"$f":"\"H\"&入力シート!$J$88&\"･\"&入力シート!$K$88&\"･\"&入力シート!$L$88","v":"H･･"},{"$f":"入力シート!$M$88","v":0},{"$f":"IF(入力シート!$D$56=\"\",\"\",SUBSTITUTE(SUBSTITUTE(入力シート!$D$56,\"　\",\"\"),\" \",\"\")&\" \"&SUBSTITUTE(SUBSTITUTE(入力シート!$D$58,\"　\",\"\"),\" \",\"\"))","v":""},null,{"$f":"IF(入力シート!$D$88=\"\",\"--\",SUBSTITUTE(SUBSTITUTE(入力シート!$D$88,\"　\",\"\"),\" \",\"\"))","v":"--"},{"$f":"IF(入力シート!$E$88=\"\",\"--\",SUBSTITUTE(SUBSTITUTE(入力シート!$E$88,\"　\",\"\"),\" \",\"\"))","v":"--"},{"$f":"IF(入力シート!$F$88=\"\",\"--\",SUBSTITUTE(SUBSTITUTE(入力シート!$F$88,\"　\",\"\"),\" \",\"\"))","v":"--"},{"$f":"IF(入力シート!$G$88=\"\",\"--\",SUBSTITUTE(SUBSTITUTE(入力シート!$G$88,\"　\",\"\"),\" \",\"\"))","v":"--"},{"$f":"入力シート!$D$26","v":{"$error":"#N/A"}},{"$f":"入力シート!$D$40&\" \"&入力シート!$D$42","v":" "}]
[8,null,null,{"$f":"入力シート!$J$22","v":""},"-- --","-- --",{"$f":"入力シート!$D$22","v":0},{"$f":"入力シート!$D$23","v":0},{"$f":"入力シート!$D$24","v":{"$error":"#N/A"}},2,51,{"$f":"IF(入力シート!$N$134=\"\",\"--\",入力シート!$N$134)","v":"--"},null,null,2,"51kg",{"$f":"入力シート!$G$22","v":""},{"$f":"IF(入力シート!$D$25=0,\"--\",入力シート!$D$25)","v":{"$error":"#N/A"}},{"$f":"IF(入力シート!$D$40=\"\",\"\",SUBSTITUTE(SUBSTITUTE(入力シート!$D$41,\"　\",\"\"),\" \",\"\")&\" \"&SUBSTITUTE(SUBSTITUTE(入力シート!$D$43,\"　\",\"\"),\" \",\"\"))","v":""},{"$f":"\"H\"&入力シート!$J$93&\"･\"&入力シート!$K$93&\"･\"&入力シート!$L$93","v":"H･･"},{"$f":"入力シート!$M$93","v":0},{"$f":"IF(入力シート!$D$56=\"\",\"\",SUBSTITUTE(SUBSTITUTE(入力シート!$D$56,\"　\",\"\"),\" \",\"\")&\" \"&SUBSTITUTE(SUBSTITUTE(入力シート!$D$58,\"　\",\"\"),\" \",\"\"))","v":""},null,{"$f":"IF(入力シート!$D$93=\"\",\"--\",SUBSTITUTE(SUBSTITUTE(入力シート!$D$93,\"　\",\"\"),\" \",\"\"))","v":"--"},{"$f":"IF(入力シート!$E$93=\"\",\"--\",SUBSTITUTE(SUBSTITUTE(入力シート!$E$93,\"　\",\"\"),\" \",\"\"))","v":"--"},{"$f":"IF(入力シート!$F$93=\"\",\"--\",SUBSTITUTE(SUBSTITUTE(入力シート!$F$93,\"　\",\"\"),\" \",\"\"))","v":"--"},{"$f":"IF(入力シート!$G$93=\"\",\"--\",SUBSTITUTE(SUBSTITUTE(入力シート!$G$93,\"　\",\"\"),\" \",\"\"))","v":"--"},{"$f":"入力シート!$D$26","v":{"$error":"#N/A"}},{"$f":"入力シート!$D$40&\" \"&入力シート!$D$42","v":" "}]
[9,null,null,{"$f":"入力シート!$J$22","v":""},"-- --","-- --",{"$f":"入力シート!$D$22","v":0},{"$f":"入力シート!$D$23","v":0},{"$f":"入力シート!$D$24","v":{"$error":"#N/A"}},2,55,{"$f":"IF(入力シート!$N$134=\"\",\"--\",入力シート!$N$134)","v":"--"},null,null,2,"55kg",{"$f":"入力シート!$G$22","v":""},{"$f":"IF(入力シート!$D$25=0,\"--\",入力シート!$D$25)","v":{"$error":"#N/A"}},{"$f":"IF(入力シート!$D$40=\"\",\"\",SUBSTITUTE(SUBSTITUTE(入力シート!$D$41,\"　\",\"\"),\" \",\"\")&\" \"&SUBSTITUTE(SUBSTITUTE(入力シート!$D$43,\"　\",\"\"),\" \",\"\"))","v":""},{"$f":"\"H\"&入力シート!$J$94&\"･\"&入力シート!$K$94&\"･\"&入力シート!$L$94","v":"H･･"},{"$f":"入力シート!$M$94","v":0},{"$f":"IF(入力シート!$D$56=\"\",\"\",SUBSTITUTE(SUBSTITUTE(入力シート!$D$56,\"　\",\"\"),\" \",\"\")&\" \"&SUBSTITUTE(SUBSTITUTE(入力シート!$D$58,\"　\",\"\"),\" \",\"\"))","v":""},null,{"$f":"IF(入力シート!$D$94=\"\",\"--\",SUBSTITUTE(SUBSTITUTE(入力シート!$D$94,\"　\",\"\"),\" \",\"\"))","v":"--"},{"$f":"IF(入力シート!$E$94=\"\",\"--\",SUBSTITUTE(SUBSTITUTE(入力シート!$E$94,\"　\",\"\"),\" \",\"\"))","v":"--"},{"$f":"IF(入力シート!$F$94=\"\",\"--\",SUBSTITUTE(SUBSTITUTE(入力シート!$F$94,\"　\",\"\"),\" \",\"\"))","v":"--"},{"$f":"IF(入力シート!$G$94=\"\",\"--\",SUBSTITUTE(SUBSTITUTE(入力シート!$G$94,\"　\",\"\"),\" \",\"\"))","v":"--"},{"$f":"入力シート!$D$26","v":{"$error":"#N/A"}},{"$f":"入力シート!$D$40&\" \"&入力シート!$D$42","v":" "}]
[10,null,null,{"$f":"入力シート!$J$22","v":""},"-- --","-- --",{"$f":"入力シート!$D$22","v":0},{"$f":"入力シート!$D$23","v":0},{"$f":"入力シート!$D$24","v":{"$error":"#N/A"}},2,60,{"$f":"IF(入力シート!$N$134=\"\",\"--\",入力シート!$N$134)","v":"--"},null,null,2,"60kg",{"$f":"入力シート!$G$22","v":""},{"$f":"IF(入力シート!$D$25=0,\"--\",入力シート!$D$25)","v":{"$error":"#N/A"}},{"$f":"IF(入力シート!$D$40=\"\",\"\",SUBSTITUTE(SUBSTITUTE(入力シート!$D$41,\"　\",\"\"),\" \",\"\")&\" \"&SUBSTITUTE(SUBSTITUTE(入力シート!$D$43,\"　\",\"\"),\" \",\"\"))","v":""},{"$f":"\"H\"&入力シート!$J$95&\"･\"&入力シート!$K$95&\"･\"&入力シート!$L$95","v":"H･･"},{"$f":"入力シート!$M$95","v":0},{"$f":"IF(入力シート!$D$56=\"\",\"\",SUBSTITUTE(SUBSTITUTE(入力シート!$D$56,\"　\",\"\"),\" \",\"\")&\" \"&SUBSTITUTE(SUBSTITUTE(入力シート!$D$58,\"　\",\"\"),\" \",\"\"))","v":""},null,{"$f":"IF(入力シート!$D$95=\"\",\"--\",SUBSTITUTE(SUBSTITUTE(入力シート!$D$95,\"　\",\"\"),\" \",\"\"))","v":"--"},{"$f":"IF(入力シート!$E$95=\"\",\"--\",SUBSTITUTE(SUBSTITUTE(入力シート!$E$95,\"　\",\"\"),\" \",\"\"))","v":"--"},{"$f":"IF(入力シート!$F$95=\"\",\"--\",SUBSTITUTE(SUBSTITUTE(入力シート!$F$95,\"　\",\"\"),\" \",\"\"))","v":"--"},{"$f":"IF(入力シート!$G$95=\"\",\"--\",SUBSTITUTE(SUBSTITUTE(入力シート!$G$95,\"　\",\"\"),\" \",\"\"))","v":"--"},{"$f":"入力シート!$D$26","v":{"$error":"#N/A"}},{"$f":"入力シート!$D$40&\" \"&入力シート!$D$42","v":" "}]
[11,null,null,{"$f":"入力シート!$J$22","v":""},"-- --","-- --",{"$f":"入力シート!$D$22","v":0},{"$f":"入力シート!$D$23","v":0},{"$f":"入力シート!$D$24","v":{"$error":"#N/A"}},2,65,{"$f":"IF(入力シート!$N$134=\"\",\"--\",入力シート!$N$134)","v":"--"},null,null,2,"65kg",{"$f":"入力シート!$G$22","v":""},{"$f":"IF(入力シート!$D$25=0,\"--\",入力シート!$D$25)","v":{"$error":"#N/A"}},{"$f":"IF(入力シート!$D$40=\"\",\"\",SUBSTITUTE(SUBSTITUTE(入力シート!$D$41,\"　\",\"\"),\" \",\"\")&\" \"&SUBSTITUTE(SUBSTITUTE(入力シート!$D$43,\"　\",\"\"),\" \",\"\"))","v":""},{"$f":"\"H\"&入力シート!$J$96&\"･\"&入力シート!$K$96&\"･\"&入力シート!$L$96","v":"H･･"},{"$f":"入力シート!$M$96","v":0},{"$f":"IF(入力シート!$D$56=\"\",\"\",SUBSTITUTE(SUBSTITUTE(入力シート!$D$56,\"　\",\"\"),\" \",\"\")&\" \"&SUBSTITUTE(SUBSTITUTE(入力シート!$D$58,\"　\",\"\"),\" \",\"\"))","v":""},null,{"$f":"IF(入力シート!$D$96=\"\",\"--\",SUBSTITUTE(SUBSTITUTE(入力シート!$D$96,\"　\",\"\"),\" \",\"\"))","v":"--"},{"$f":"IF(入力シート!$E$96=\"\",\"--\",SUBSTITUTE(SUBSTITUTE(入力シート!$E$96,\"　\",\"\"),\" \",\"\"))","v":"--"},{"$f":"IF(入力シート!$F$96=\"\",\"--\",SUBSTITUTE(SUBSTITUTE(入力シート!$F$96,\"　\",\"\"),\" \",\"\"))","v":"--"},{"$f":"IF(入力シート!$G$96=\"\",\"--\",SUBSTITUTE(SUBSTITUTE(入力シート!$G$96,\"　\",\"\"),\" \",\"\"))","v":"--"},{"$f":"入力シート!$D$26","v":{"$error":"#N/A"}},{"$f":"入力シート!$D$40&\" \"&入力シート!$D$42","v":" "}]
[12,null,null,{"$f":"入力シート!$J$22","v":""},"-- --","-- --",{"$f":"入力シート!$D$22","v":0},{"$f":"入力シート!$D$23","v":0},{"$f":"入力シート!$D$24","v":{"$error":"#N/A"}},2,71,{"$f":"IF(入力シート!$N$134=\"\",\"--\",入力シート!$N$134)","v":"--"},null,null,2,"71kg",{"$f":"入力シート!$G$22","v":""},{"$f":"IF(入力シート!$D$25=0,\"--\",入力シート!$D$25)","v":{"$error":"#N/A"}},{"$f":"IF(入力シート!$D$40=\"\",\"\",SUBSTITUTE(SUBSTITUTE(入力シート!$D$41,\"　\",\"\"),\" \",\"\")&\" \"&SUBSTITUTE(SUBSTITUTE(入力シート!$D$43,\"　\",\"\"),\" \",\"\"))","v":""},{"$f":"\"H\"&入力シート!$J$97&\"･\"&入力シート!$K$97&\"･\"&入力シート!$L$97","v":"H･･"},{"$f":"入力シート!$M$97","v":0},{"$f":"IF(入力シート!$D$56=\"\",\"\",SUBSTITUTE(SUBSTITUTE(入力シート!$D$56,\"　\",\"\"),\" \",\"\")&\" \"&SUBSTITUTE(SUBSTITUTE(入力シート!$D$58,\"　\",\"\"),\" \",\"\"))","v":""},null,{"$f":"IF(入力シート!$D$97=\"\",\"--\",SUBSTITUTE(SUBSTITUTE(入力シート!$D$97,\"　\",\"\"),\" \",\"\"))","v":"--"},{"$f":"IF(入力シート!$E$97=\"\",\"--\",SUBSTITUTE(SUBSTITUTE(入力シート!$E$97,\"　\",\"\"),\" \",\"\"))","v":"--"},{"$f":"IF(入力シート!$F$97=\"\",\"--\",SUBSTITUTE(SUBSTITUTE(入力シート!$F$97,\"　\",\"\"),\" \",\"\"))","v":"--"},{"$f":"IF(入力シート!$G$97=\"\",\"--\",SUBSTITUTE(SUBSTITUTE(入力シート!$G$97,\"　\",\"\"),\" \",\"\"))","v":"--"},{"$f":"入力シート!$D$26","v":{"$error":"#N/A"}},{"$f":"入力シート!$D$40&\" \"&入力シート!$D$42","v":" "}]
[13,null,null,{"$f":"入力シート!$J$22","v":""},"-- --","-- --",{"$f":"入力シート!$D$22","v":0},{"$f":"入力シート!$D$23","v":0},{"$f":"入力シート!$D$24","v":{"$error":"#N/A"}},2,80,{"$f":"IF(入力シート!$N$134=\"\",\"--\",入力シート!$N$134)","v":"--"},null,null,2,"80kg",{"$f":"入力シート!$G$22","v":""},{"$f":"IF(入力シート!$D$25=0,\"--\",入力シート!$D$25)","v":{"$error":"#N/A"}},{"$f":"IF(入力シート!$D$40=\"\",\"\",SUBSTITUTE(SUBSTITUTE(入力シート!$D$41,\"　\",\"\"),\" \",\"\")&\" \"&SUBSTITUTE(SUBSTITUTE(入力シート!$D$43,\"　\",\"\"),\" \",\"\"))","v":""},{"$f":"\"H\"&入力シート!$J$98&\"･\"&入力シート!$K$98&\"･\"&入力シート!$L$98","v":"H･･"},{"$f":"入力シート!$M$98","v":0},{"$f":"IF(入力シート!$D$56=\"\",\"\",SUBSTITUTE(SUBSTITUTE(入力シート!$D$56,\"　\",\"\"),\" \",\"\")&\" \"&SUBSTITUTE(SUBSTITUTE(入力シート!$D$58,\"　\",\"\"),\" \",\"\"))","v":""},null,{"$f":"IF(入力シート!$D$98=\"\",\"--\",SUBSTITUTE(SUBSTITUTE(入力シート!$D$98,\"　\",\"\"),\" \",\"\"))","v":"--"},{"$f":"IF(入力シート!$E$98=\"\",\"--\",SUBSTITUTE(SUBSTITUTE(入力シート!$E$98,\"　\",\"\"),\" \",\"\"))","v":"--"},{"$f":"IF(入力シート!$F$98=\"\",\"--\",SUBSTITUTE(SUBSTITUTE(入力シート!$F$98,\"　\",\"\"),\" \",\"\"))","v":"--"},{"$f":"IF(入力シート!$G$98=\"\",\"--\",SUBSTITUTE(SUBSTITUTE(入力シート!$G$98,\"　\",\"\"),\" \",\"\"))","v":"--"},{"$f":"入力シート!$D$26","v":{"$error":"#N/A"}},{"$f":"入力シート!$D$40&\" \"&入力シート!$D$42","v":" "}]
[14,null,null,{"$f":"入力シート!$J$22","v":""},"-- --","-- --",{"$f":"入力シート!$D$22","v":0},{"$f":"入力シート!$D$23","v":0},{"$f":"入力シート!$D$24","v":{"$error":"#N/A"}},2,125,{"$f":"IF(入力シート!$N$134=\"\",\"--\",入力シート!$N$134)","v":"--"},null,null,2,"125kg",{"$f":"入力シート!$G$22","v":""},{"$f":"IF(入力シート!$D$25=0,\"--\",入力シート!$D$25)","v":{"$error":"#N/A"}},{"$f":"IF(入力シート!$D$40=\"\",\"\",SUBSTITUTE(SUBSTITUTE(入力シート!$D$41,\"　\",\"\"),\" \",\"\")&\" \"&SUBSTITUTE(SUBSTITUTE(入力シート!$D$43,\"　\",\"\"),\" \",\"\"))","v":""},{"$f":"\"H\"&入力シート!$J$99&\"･\"&入力シート!$K$99&\"･\"&入力シート!$L$99","v":"H･･"},{"$f":"入力シート!$M$99","v":0},{"$f":"IF(入力シート!$D$56=\"\",\"\",SUBSTITUTE(SUBSTITUTE(入力シート!$D$56,\"　\",\"\"),\" \",\"\")&\" \"&SUBSTITUTE(SUBSTITUTE(入力シート!$D$58,\"　\",\"\"),\" \",\"\"))","v":""},null,{"$f":"IF(入力シート!$D$99=\"\",\"--\",SUBSTITUTE(SUBSTITUTE(入力シート!$D$99,\"　\",\"\"),\" \",\"\"))","v":"--"},{"$f":"IF(入力シート!$E$99=\"\",\"--\",SUBSTITUTE(SUBSTITUTE(入力シート!$E$99,\"　\",\"\"),\" \",\"\"))","v":"--"},{"$f":"IF(入力シート!$F$99=\"\",\"--\",SUBSTITUTE(SUBSTITUTE(入力シート!$F$99,\"　\",\"\"),\" \",\"\"))","v":"--"},{"$f":"IF(入力シート!$G$99=\"\",\"--\",SUBSTITUTE(SUBSTITUTE(入力シート!$G$99,\"　\",\"\"),\" \",\"\"))","v":"--"},{"$f":"入力シート!$D$26","v":{"$error":"#N/A"}},{"$f":"入力シート!$D$40&\" \"&入力シート!$D$42","v":" "}]
[1,null,null,{"$f":"入力シート!$J$22","v":""},"-- --","-- --",{"$f":"入力シート!$D$22","v":0},{"$f":"入力シート!$D$23","v":0},{"$f":"入力シート!$D$24","v":{"$error":"#N/A"}},1,51,{"$f":"IF(入力シート!$N$134=\"\",\"--\",入力シート!$N$134)","v":"--"},null,null,1,"51kg",{"$f":"入力シート!$G$22","v":""},{"$f":"IF(入力シート!$D$25=0,\"--\",入力シート!$D$25)","v":{"$error":"#N/A"}},{"$f":"IF(入力シート!$D$40=\"\",\"\",SUBSTITUTE(SUBSTITUTE(入力シート!$D$41,\"　\",\"\"),\" \",\"\")&\" \"&SUBSTITUTE(SUBSTITUTE(入力シート!$D$43,\"　\",\"\"),\" \",\"\"))","v":""},{"$f":"\"H\"&入力シート!$J$106&\"･\"&入力シート!$K$106&\"･\"&入力シート!$L$106","v":"H･･"},{"$f":"入力シート!$M$106","v":0},{"$f":"IF(入力シート!$D$56=\"\",\"\",SUBSTITUTE(SUBSTITUTE(入力シート!$D$56,\"　\",\"\"),\" \",\"\")&\" \"&SUBSTITUTE(SUBSTITUTE(入力シート!$D$58,\"　\",\"\"),\" \",\"\"))","v":""},null,{"$f":"IF(入力シート!$D$106=\"\",\"--\",SUBSTITUTE(SUBSTITUTE(入力シート!$D$106,\"　\",\"\"),\" \",\"\"))","v":"--"},{"$f":"IF(入力シート!$E$106=\"\",\"--\",SUBSTITUTE(SUBSTITUTE(入力シート!$E$106,\"　\",\"\"),\" \",\"\"))","v":"--"},{"$f":"IF(入力シート!$F$106=\"\",\"--\",SUBSTITUTE(SUBSTITUTE(入力シート!$F$106,\"　\",\"\"),\" \",\"\"))","v":"--"},{"$f":"IF(入力シート!$G$106=\"\",\"--\",SUBSTITUTE(SUBSTITUTE(入力シート!$G$106,\"　\",\"\"),\" \",\"\"))","v":"--"},{"$f":"入力シート!$D$26","v":{"$error":"#N/A"}},{"$f":"入力シート!$D$40&\" \"&入力シート!$D$42","v":" "}]
[2,null,null,{"$f":"入力シート!$J$22","v":""},"-- --","-- --",{"$f":"入力シート!$D$22","v":0},{"$f":"入力シート!$D$23","v":0},{"$f":"入力シート!$D$24","v":{"$error":"#N/A"}},1,55,{"$f":"IF(入力シート!$N$134=\"\",\"--\",入力シート!$N$134)","v":"--"},null,null,1,"55kg",{"$f":"入力シート!$G$22","v":""},{"$f":"IF(入力シート!$D$25=0,\"--\",入力シート!$D$25)","v":{"$error":"#N/A"}},{"$f":"IF(入力シート!$D$40=\"\",\"\",SUBSTITUTE(SUBSTITUTE(入力シート!$D$41,\"　\",\"\"),\" \",\"\")&\" \"&SUBSTITUTE(SUBSTITUTE(入力シート!$D$43,\"　\",\"\"),\" \",\"\"))","v":""},{"$f":"\"H\"&入力シート!$J$107&\"･\"&入力シート!$K$107&\"･\"&入力シート!$L$107","v":"H･･"},{"$f":"入力シート!$M$107","v":0},{"$f":"IF(入力シート!$D$56=\"\",\"\",SUBSTITUTE(SUBSTITUTE(入力シート!$D$56,\"　\",\"\"),\" \",\"\")&\" \"&SUBSTITUTE(SUBSTITUTE(入力シート!$D$58,\"　\",\"\"),\" \",\"\"))","v":""},null,{"$f":"IF(入力シート!$D$107=\"\",\"--\",SUBSTITUTE(SUBSTITUTE(入力シート!$D$107,\"　\",\"\"),\" \",\"\"))","v":"--"},{"$f":"IF(入力シート!$E$107=\"\",\"--\",SUBSTITUTE(SUBSTITUTE(入力シート!$E$107,\"　\",\"\"),\" \",\"\"))","v":"--"},{"$f":"IF(入力シート!$F$107=\"\",\"--\",SUBSTITUTE(SUBSTITUTE(入力シート!$F$107,\"　\",\"\"),\" \",\"\"))","v":"--"},{"$f":"IF(入力シート!$G$107=\"\",\"--\",SUBSTITUTE(SUBSTITUTE(入力シート!$G$107,\"　\",\"\"),\" \",\"\"))","v":"--"},{"$f":"入力シート!$D$26","v":{"$error":"#N/A"}},{"$f":"入力シート!$D$40&\" \"&入力シート!$D$42","v":" "}]
[3,null,null,{"$f":"入力シート!$J$22","v":""},"-- --","-- --",{"$f":"入力シート!$D$22","v":0},{"$f":"入力シート!$D$23","v":0},{"$f":"入力シート!$D$24","v":{"$error":"#N/A"}},1,60,{"$f":"IF(入力シート!$N$134=\"\",\"--\",入力シート!$N$134)","v":"--"},null,null,1,"60kg",{"$f":"入力シート!$G$22","v":""},{"$f":"IF(入力シート!$D$25=0,\"--\",入力シート!$D$25)","v":{"$error":"#N/A"}},{"$f":"IF(入力シート!$D$40=\"\",\"\",SUBSTITUTE(SUBSTITUTE(入力シート!$D$41,\"　\",\"\"),\" \",\"\")&\" \"&SUBSTITUTE(SUBSTITUTE(入力シート!$D$43,\"　\",\"\"),\" \",\"\"))","v":""},{"$f":"\"H\"&入力シート!$J$108&\"･\"&入力シート!$K$108&\"･\"&入力シート!$L$108","v":"H･･"},{"$f":"入力シート!$M$108","v":0},{"$f":"IF(入力シート!$D$56=\"\",\"\",SUBSTITUTE(SUBSTITUTE(入力シート!$D$56,\"　\",\"\"),\" \",\"\")&\" \"&SUBSTITUTE(SUBSTITUTE(入力シート!$D$58,\"　\",\"\"),\" \",\"\"))","v":""},null,{"$f":"IF(入力シート!$D$108=\"\",\"--\",SUBSTITUTE(SUBSTITUTE(入力シート!$D$108,\"　\",\"\"),\" \",\"\"))","v":"--"},{"$f":"IF(入力シート!$E$108=\"\",\"--\",SUBSTITUTE(SUBSTITUTE(入力シート!$E$108,\"　\",\"\"),\" \",\"\"))","v":"--"},{"$f":"IF(入力シート!$F$108=\"\",\"--\",SUBSTITUTE(SUBSTITUTE(入力シート!$F$108,\"　\",\"\"),\" \",\"\"))","v":"--"},{"$f":"IF(入力シート!$G$108=\"\",\"--\",SUBSTITUTE(SUBSTITUTE(入力シート!$G$108,\"　\",\"\"),\" \",\"\"))","v":"--"},{"$f":"入力シート!$D$26","v":{"$error":"#N/A"}},{"$f":"入力シート!$D$40&\" \"&入力シート!$D$42","v":" "}]
[4,null,null,{"$f":"入力シート!$J$22","v":""},"-- --","-- --",{"$f":"入力シート!$D$22","v":0},{"$f":"入力シート!$D$23","v":0},{"$f":"入力シート!$D$24","v":{"$error":"#N/A"}},1,65,{"$f":"IF(入力シート!$N$134=\"\",\"--\",入力シート!$N$134)","v":"--"},null,null,1,"65kg",{"$f":"入力シート!$G$22","v":""},{"$f":"IF(入力シート!$D$25=0,\"--\",入力シート!$D$25)","v":{"$error":"#N/A"}},{"$f":"IF(入力シート!$D$40=\"\",\"\",SUBSTITUTE(SUBSTITUTE(入力シート!$D$41,\"　\",\"\"),\" \",\"\")&\" \"&SUBSTITUTE(SUBSTITUTE(入力シート!$D$43,\"　\",\"\"),\" \",\"\"))","v":""},{"$f":"\"H\"&入力シート!$J$109&\"･\"&入力シート!$K$109&\"･\"&入力シート!$L$109","v":"H･･"},{"$f":"入力シート!$M$109","v":0},{"$f":"IF(入力シート!$D$56=\"\",\"\",SUBSTITUTE(SUBSTITUTE(入力シート!$D$56,\"　\",\"\"),\" \",\"\")&\" \"&SUBSTITUTE(SUBSTITUTE(入力シート!$D$58,\"　\",\"\"),\" \",\"\"))","v":""},null,{"$f":"IF(入力シート!$D$109=\"\",\"--\",SUBSTITUTE(SUBSTITUTE(入力シート!$D$109,\"　\",\"\"),\" \",\"\"))","v":"--"},{"$f":"IF(入力シート!$E$109=\"\",\"--\",SUBSTITUTE(SUBSTITUTE(入力シート!$E$109,\"　\",\"\"),\" \",\"\"))","v":"--"},{"$f":"IF(入力シート!$F$109=\"\",\"--\",SUBSTITUTE(SUBSTITUTE(入力シート!$F$109,\"　\",\"\"),\" \",\"\"))","v":"--"},{"$f":"IF(入力シート!$G$109=\"\",\"--\",SUBSTITUTE(SUBSTITUTE(入力シート!$G$109,\"　\",\"\"),\" \",\"\"))","v":"--"},{"$f":"入力シート!$D$26","v":{"$error":"#N/A"}},{"$f":"入力シート!$D$40&\" \"&入力シート!$D$42","v":" "}]
[5,null,null,{"$f":"入力シート!$J$22","v":""},"-- --","-- --",{"$f":"入力シート!$D$22","v":0},{"$f":"入力シート!$D$23","v":0},{"$f":"入力シート!$D$24","v":{"$error":"#N/A"}},1,71,{"$f":"IF(入力シート!$N$134=\"\",\"--\",入力シート!$N$134)","v":"--"},null,null,1,"71kg",{"$f":"入力シート!$G$22","v":""},{"$f":"IF(入力シート!$D$25=0,\"--\",入力シート!$D$25)","v":{"$error":"#N/A"}},{"$f":"IF(入力シート!$D$40=\"\",\"\",SUBSTITUTE(SUBSTITUTE(入力シート!$D$41,\"　\",\"\"),\" \",\"\")&\" \"&SUBSTITUTE(SUBSTITUTE(入力シート!$D$43,\"　\",\"\"),\" \",\"\"))","v":""},{"$f":"\"H\"&入力シート!$J$110&\"･\"&入力シート!$K$110&\"･\"&入力シート!$L$110","v":"H･･"},{"$f":"入力シート!$M$110","v":0},{"$f":"IF(入力シート!$D$56=\"\",\"\",SUBSTITUTE(SUBSTITUTE(入力シート!$D$56,\"　\",\"\"),\" \",\"\")&\" \"&SUBSTITUTE(SUBSTITUTE(入力シート!$D$58,\"　\",\"\"),\" \",\"\"))","v":""},null,{"$f":"IF(入力シート!$D$110=\"\",\"--\",SUBSTITUTE(SUBSTITUTE(入力シート!$D$110,\"　\",\"\"),\" \",\"\"))","v":"--"},{"$f":"IF(入力シート!$E$110=\"\",\"--\",SUBSTITUTE(SUBSTITUTE(入力シート!$E$110,\"　\",\"\"),\" \",\"\"))","v":"--"},{"$f":"IF(入力シート!$F$110=\"\",\"--\",SUBSTITUTE(SUBSTITUTE(入力シート!$F$110,\"　\",\"\"),\" \",\"\"))","v":"--"},{"$f":"IF(入力シート!$G$110=\"\",\"--\",SUBSTITUTE(SUBSTITUTE(入力シート!$G$110,\"　\",\"\"),\" \",\"\"))","v":"--"},{"$f":"入力シート!$D$26","v":{"$error":"#N/A"}},{"$f":"入力シート!$D$40&\" \"&入力シート!$D$42","v":" "}]
[6,{"$nulls":3},"-- --","-- --",{"$f":"入力シート!$D$22","v":0},{"$f":"入力シート!$D$23","v":0},{"$f":"入力シート!$D$24","v":{"$error":"#N/A"}},1,80,{"$f":"IF(入力シート!$N$134=\"\",\"--\",入力シート!$N$134)","v":"--"},null,null,1,"80kg",{"$f":"入力シート!$G$22","v":""},{"$f":"IF(入力シート!$D$25=0,\"--\",入力シート!$D$25)","v":{"$error":"#N/A"}},{"$f":"IF(入力シート!$D$40=\"\",\"\",SUBSTITUTE(SUBSTITUTE(入力シート!$D$41,\"　\",\"\"),\" \",\"\")&\" \"&SUBSTITUTE(SUBSTITUTE(入力シート!$D$43,\"　\",\"\"),\" \",\"\"))","v":""},{"$f":"\"H\"&入力シート!$J$111&\"･\"&入力シート!$K$111&\"･\"&入力シート!$L$111","v":"H･･"},{"$f":"入力シート!$M$111","v":0},{"$f":"IF(入力シート!$D$56=\"\",\"\",SUBSTITUTE(SUBSTITUTE(入力シート!$D$56,\"　\",\"\"),\" \",\"\")&\" \"&SUBSTITUTE(SUBSTITUTE(入力シート!$D$58,\"　\",\"\"),\" \",\"\"))","v":""},null,{"$f":"IF(入力シート!$D$111=\"\",\"--\",SUBSTITUTE(SUBSTITUTE(入力シート!$D$111,\"　\",\"\"),\" \",\"\"))","v":"--"},{"$f":"IF(入力シート!$E$111=\"\",\"--\",SUBSTITUTE(SUBSTITUTE(入力シート!$E$111,\"　\",\"\"),\" \",\"\"))","v":"--"},{"$f":"IF(入力シート!$F$111=\"\",\"--\",SUBSTITUTE(SUBSTITUTE(入力シート!$F$111,\"　\",\"\"),\" \",\"\"))","v":"--"},{"$f":"IF(入力シート!$G$111=\"\",\"--\",SUBSTITUTE(SUBSTITUTE(入力シート!$G$111,\"　\",\"\"),\" \",\"\"))","v":"--"},{"$f":"入力シート!$D$26","v":{"$error":"#N/A"}},{"$f":"入力シート!$D$40&\" \"&入力シート!$D$42","v":" "}]
[7,null,null,{"$f":"入力シート!$J$22","v":""},"-- --","-- --",{"$f":"入力シート!$D$22","v":0},{"$f":"入力シート!$D$23","v":0},{"$f":"入力シート!$D$24","v":{"$error":"#N/A"}},1,92,{"$f":"IF(入力シート!$N$134=\"\",\"--\",入力シート!$N$134)","v":"--"},null,null,1,"92kg",{"$f":"入力シート!$G$22","v":""},{"$f":"IF(入力シート!$D$25=0,\"--\",入力シート!$D$25)","v":{"$error":"#N/A"}},{"$f":"IF(入力シート!$D$40=\"\",\"\",SUBSTITUTE(SUBSTITUTE(入力シート!$D$41,\"　\",\"\"),\" \",\"\")&\" \"&SUBSTITUTE(SUBSTITUTE(入力シート!$D$43,\"　\",\"\"),\" \",\"\"))","v":""},{"$f":"\"H\"&入力シート!$J$112&\"･\"&入力シート!$K$112&\"･\"&入力シート!$L$112","v":"H･･"},{"$f":"入力シート!$M$112","v":0},{"$f":"IF(入力シート!$D$56=\"\",\"\",SUBSTITUTE(SUBSTITUTE(入力シート!$D$56,\"　\",\"\"),\" \",\"\")&\" \"&SUBSTITUTE(SUBSTITUTE(入力シート!$D$58,\"　\",\"\"),\" \",\"\"))","v":""},null,{"$f":"IF(入力シート!$D$112=\"\",\"--\",SUBSTITUTE(SUBSTITUTE(入力シート!$D$112,\"　\",\"\"),\" \",\"\"))","v":"--"},{"$f":"IF(入力シート!$E$112=\"\",\"--\",SUBSTITUTE(SUBSTITUTE(入力シート!$E$112,\"　\",\"\"),\" \",\"\"))","v":"--"},{"$f":"IF(入力シート!$F$112=\"\",\"--\",SUBSTITUTE(SUBSTITUTE(入力シート!$F$112,\"　\",\"\"),\" \",\"\"))","v":"--"},{"$f":"IF(入力シート!$G$112=\"\",\"--\",SUBSTITUTE(SUBSTITUTE(入力シート!$G$112,\"　\",\"\"),\" \",\"\"))","v":"--"},{"$f":"入力シート!$D$26","v":{"$error":"#N/A"}},{"$f":"入力シート!$D$40&\" \"&入力シート!$D$42","v":" "}]
[8,null,null,{"$f":"入力シート!$J$22","v":""},"-- --","-- --",{"$f":"入力シート!$D$22","v":0},{"$f":"入力シート!$D$23","v":0},{"$f":"入力シート!$D$24","v":{"$error":"#N/A"}},1,125,{"$f":"IF(入力シート!$N$134=\"\",\"--\",入力シート!$N$134)","v":"--"},null,null,1,"125kg",{"$f":"入力シート!$G$22","v":""},{"$f":"IF(入力シート!$D$25=0,\"--\",入力シート!$D$25)","v":{"$error":"#N/A"}},{"$f":"IF(入力シート!$D$40=\"\",\"\",SUBSTITUTE(SUBSTITUTE(入力シート!$D$41,\"　\",\"\"),\" \",\"\")&\" \"&SUBSTITUTE(SUBSTITUTE(入力シート!$D$43,\"　\",\"\"),\" \",\"\"))","v":""},{"$f":"\"H\"&入力シート!$J$113&\"･\"&入力シート!$K$113&\"･\"&入力シート!$L$113","v":"H･･"},{"$f":"入力シート!$M$113","v":0},{"$f":"IF(入力シート!$D$56=\"\",\"\",SUBSTITUTE(SUBSTITUTE(入力シート!$D$56,\"　\",\"\"),\" \",\"\")&\" \"&SUBSTITUTE(SUBSTITUTE(入力シート!$D$58,\"　\",\"\"),\" \",\"\"))","v":""},null,{"$f":"IF(入力シート!$D$113=\"\",\"--\",SUBSTITUTE(SUBSTITUTE(入力シート!$D$113,\"　\",\"\"),\" \",\"\"))","v":"--"},{"$f":"IF(入力シート!$E$113=\"\",\"--\",SUBSTITUTE(SUBSTITUTE(入力シート!$E$113,\"　\",\"\"),\" \",\"\"))","v":"--"},{"$f":"IF(入力シート!$F$113=\"\",\"--\",SUBSTITUTE(SUBSTITUTE(入力シート!$F$113,\"　\",\"\"),\" \",\"\"))","v":"--"},{"$f":"IF(入力シート!$G$113=\"\",\"--\",SUBSTITUTE(SUBSTITUTE(入力シート!$G$113,\"　\",\"\"),\" \",\"\"))","v":"--"},{"$f":"入力シート!$D$26","v":{"$error":"#N/A"}},{"$f":"入力シート!$D$40&\" \"&入力シート!$D$42","v":" "}]
[1,null,null,{"$f":"入力シート!$J$22","v":""},"-- --","-- --",{"$f":"入力シート!$D$22","v":0},{"$f":"入力シート!$D$23","v":0},{"$f":"入力シート!$D$24","v":{"$error":"#N/A"}},2,51,{"$f":"IF(入力シート!$N$134=\"\",\"--\",入力シート!$N$134)","v":"--"},null,null,2,"51kg",{"$f":"入力シート!$G$22","v":""},{"$f":"IF(入力シート!$D$25=0,\"--\",入力シート!$D$25)","v":{"$error":"#N/A"}},{"$f":"IF(入力シート!$D$40=\"\",\"\",SUBSTITUTE(SUBSTITUTE(入力シート!$D$41,\"　\",\"\"),\" \",\"\")&\" \"&SUBSTITUTE(SUBSTITUTE(入力シート!$D$43,\"　\",\"\"),\" \",\"\"))","v":""},{"$f":"\"H\"&入力シート!$J$118&\"･\"&入力シート!$K$118&\"･\"&入力シート!$L$118","v":"H･･"},{"$f":"入力シート!$M$118","v":0},{"$f":"IF(入力シート!$D$56=\"\",\"\",SUBSTITUTE(SUBSTITUTE(入力シート!$D$56,\"　\",\"\"),\" \",\"\")&\" \"&SUBSTITUTE(SUBSTITUTE(入力シート!$D$58,\"　\",\"\"),\" \",\"\"))","v":""},null,{"$f":"IF(入力シート!$D$118=\"\",\"--\",SUBSTITUTE(SUBSTITUTE(入力シート!$D$118,\"　\",\"\"),\" \",\"\"))","v":"--"},{"$f":"IF(入力シート!$E$118=\"\",\"--\",SUBSTITUTE(SUBSTITUTE(入力シート!$E$118,\"　\",\"\"),\" \",\"\"))","v":"--"},{"$f":"IF(入力シート!$F$118=\"\",\"--\",SUBSTITUTE(SUBSTITUTE(入力シート!$F$118,\"　\",\"\"),\" \",\"\"))","v":"--"},{"$f":"IF(入力シート!$G$118=\"\",\"--\",SUBSTITUTE(SUBSTITUTE(入力シート!$G$118,\"　\",\"\"),\" \",\"\"))","v":"--"},{"$f":"入力シート!$D$26","v":{"$error":"#N/A"}},{"$f":"入力シート!$D$40&\" \"&入力シート!$D$42","v":" "}]
[2,null,null,{"$f":"入力シート!$J$22","v":""},"-- --","-- --",{"$f":"入力シート!$D$22","v":0},{"$f":"入力シート!$D$23","v":0},{"$f":"入力シート!$D$24","v":{"$error":"#N/A"}},2,55,{"$f":"IF(入力シート!$N$134=\"\",\"--\",入力シート!$N$134)","v":"--"},null,null,2,"55kg",{"$f":"入力シート!$G$22","v":""},{"$f":"IF(入力シート!$D$25=0,\"--\",入力シート!$D$25)","v":{"$error":"#N/A"}},{"$f":"IF(入力シート!$D$40=\"\",\"\",SUBSTITUTE(SUBSTITUTE(入力シート!$D$41,\"　\",\"\"),\" \",\"\")&\" \"&SUBSTITUTE(SUBSTITUTE(入力シート!$D$43,\"　\",\"\"),\" \",\"\"))","v":""},{"$f":"\"H\"&入力シート!$J$119&\"･\"&入力シート!$K$119&\"･\"&入力シート!$L$119","v":"H･･"},{"$f":"入力シート!$M$119","v":0},{"$f":"IF(入力シート!$D$56=\"\",\"\",SUBSTITUTE(SUBSTITUTE(入力シート!$D$56,\"　\",\"\"),\" \",\"\")&\" \"&SUBSTITUTE(SUBSTITUTE(入力シート!$D$58,\"　\",\"\"),\" \",\"\"))","v":""},null,{"$f":"IF(入力シート!$D$119=\"\",\"--\",SUBSTITUTE(SUBSTITUTE(入力シート!$D$119,\"　\",\"\"),\" \",\"\"))","v":"--"},{"$f":"IF(入力シート!$E$119=\"\",\"--\",SUBSTITUTE(SUBSTITUTE(入力シート!$E$119,\"　\",\"\"),\" \",\"\"))","v":"--"},{"$f":"IF(入力シート!$F$119=\"\",\"--\",SUBSTITUTE(SUBSTITUTE(入力シート!$F$119,\"　\",\"\"),\" \",\"\"))","v":"--"},{"$f":"IF(入力シート!$G$119=\"\",\"--\",SUBSTITUTE(SUBSTITUTE(入力シート!$G$119,\"　\",\"\"),\" \",\"\"))","v":"--"},{"$f":"入力シート!$D$26","v":{"$error":"#N/A"}},{"$f":"入力シート!$D$40&\" \"&入力シート!$D$42","v":" "}]
[3,null,null,{"$f":"入力シート!$J$22","v":""},"-- --","-- --",{"$f":"入力シート!$D$22","v":0},{"$f":"入力シート!$D$23","v":0},{"$f":"入力シート!$D$24","v":{"$error":"#N/A"}},2,60,{"$f":"IF(入力シート!$N$134=\"\",\"--\",入力シート!$N$134)","v":"--"},null,null,2,"60kg",{"$f":"入力シート!$G$22","v":""},{"$f":"IF(入力シート!$D$25=0,\"--\",入力シート!$D$25)","v":{"$error":"#N/A"}},{"$f":"IF(入力シート!$D$40=\"\",\"\",SUBSTITUTE(SUBSTITUTE(入力シート!$D$41,\"　\",\"\"),\" \",\"\")&\" \"&SUBSTITUTE(SUBSTITUTE(入力シート!$D$43,\"　\",\"\"),\" \",\"\"))","v":""},{"$f":"\"H\"&入力シート!$J$120&\"･\"&入力シート!$K$120&\"･\"&入力シート!$L$120","v":"H･･"},{"$f":"入力シート!$M$120","v":0},{"$f":"IF(入力シート!$D$56=\"\",\"\",SUBSTITUTE(SUBSTITUTE(入力シート!$D$56,\"　\",\"\"),\" \",\"\")&\" \"&SUBSTITUTE(SUBSTITUTE(入力シート!$D$58,\"　\",\"\"),\" \",\"\"))","v":""},null,{"$f":"IF(入力シート!$D$120=\"\",\"--\",SUBSTITUTE(SUBSTITUTE(入力シート!$D$120,\"　\",\"\"),\" \",\"\"))","v":"--"},{"$f":"IF(入力シート!$E$120=\"\",\"--\",SUBSTITUTE(SUBSTITUTE(入力シート!$E$120,\"　\",\"\"),\" \",\"\"))","v":"--"},{"$f":"IF(入力シート!$F$120=\"\",\"--\",SUBSTITUTE(SUBSTITUTE(入力シート!$F$120,\"　\",\"\"),\" \",\"\"))","v":"--"},{"$f":"IF(入力シート!$G$120=\"\",\"--\",SUBSTITUTE(SUBSTITUTE(入力シート!$G$120,\"　\",\"\"),\" \",\"\"))","v":"--"},{"$f":"入力シート!$D$26","v":{"$error":"#N/A"}},{"$f":"入力シート!$D$40&\" \"&入力シート!$D$42","v":" "}]
[4,null,null,{"$f":"入力シート!$J$22","v":""},"-- --","-- --",{"$f":"入力シート!$D$22","v":0},{"$f":"入力シート!$D$23","v":0},{"$f":"入力シート!$D$24","v":{"$error":"#N/A"}},2,65,{"$f":"IF(入力シート!$N$134=\"\",\"--\",入力シート!$N$134)","v":"--"},null,null,2,"65kg",{"$f":"入力シート!$G$22","v":""},{"$f":"IF(入力シート!$D$25=0,\"--\",入力シート!$D$25)","v":{"$error":"#N/A"}},{"$f":"IF(入力シート!$D$40=\"\",\"\",SUBSTITUTE(SUBSTITUTE(入力シート!$D$41,\"　\",\"\"),\" \",\"\")&\" \"&SUBSTITUTE(SUBSTITUTE(入力シート!$D$43,\"　\",\"\"),\" \",\"\"))","v":""},{"$f":"\"H\"&入力シート!$J$121&\"･\"&入力シート!$K$121&\"･\"&入力シート!$L$121","v":"H･･"},{"$f":"入力シート!$M$121","v":0},{"$f":"IF(入力シート!$D$56=\"\",\"\",SUBSTITUTE(SUBSTITUTE(入力シート!$D$56,\"　\",\"\"),\" \",\"\")&\" \"&SUBSTITUTE(SUBSTITUTE(入力シート!$D$58,\"　\",\"\"),\" \",\"\"))","v":""},null,{"$f":"IF(入力シート!$D$121=\"\",\"--\",SUBSTITUTE(SUBSTITUTE(入力シート!$D$121,\"　\",\"\"),\" \",\"\"))","v":"--"},{"$f":"IF(入力シート!$E$121=\"\",\"--\",SUBSTITUTE(SUBSTITUTE(入力シート!$E$121,\"　\",\"\"),\" \",\"\"))","v":"--"},{"$f":"IF(入力シート!$F$121=\"\",\"--\",SUBSTITUTE(SUBSTITUTE(入力シート!$F$121,\"　\",\"\"),\" \",\"\"))","v":"--"},{"$f":"IF(入力シート!$G$121=\"\",\"--\",SUBSTITUTE(SUBSTITUTE(入力シート!$G$121,\"　\",\"\"),\" \",\"\"))","v":"--"},{"$f":"入力シート!$D$26","v":{"$error":"#N/A"}},{"$f":"入力シート!$D$40&\" \"&入力シート!$D$42","v":" "}]
[5,null,null,{"$f":"入力シート!$J$22","v":""},"-- --","-- --",{"$f":"入力シート!$D$22","v":0},{"$f":"入力シート!$D$23","v":0},{"$f":"入力シート!$D$24","v":{"$error":"#N/A"}},2,71,{"$f":"IF(入力シート!$N$134=\"\",\"--\",入力シート!$N$134)","v":"--"},null,null,2,"71kg",{"$f":"入力シート!$G$22","v":""},{"$f":"IF(入力シート!$D$25=0,\"--\",入力シート!$D$25)","v":{"$error":"#N/A"}},{"$f":"IF(入力シート!$D$40=\"\",\"\",SUBSTITUTE(SUBSTITUTE(入力シート!$D$41,\"　\",\"\"),\" \",\"\")&\" \"&SUBSTITUTE(SUBSTITUTE(入力シート!$D$43,\"　\",\"\"),\" \",\"\"))","v":""},{"$f":"\"H\"&入力シート!$J$122&\"･\"&入力シート!$K$122&\"･\"&入力シート!$L$122","v":"H･･"},{"$f":"入力シート!$M$122","v":0},{"$f":"IF(入力シート!$D$56=\"\",\"\",SUBSTITUTE(SUBSTITUTE(入力シート!$D$56,\"　\",\"\"),\" \",\"\")&\" \"&SUBSTITUTE(SUBSTITUTE(入力シート!$D$58,\"　\",\"\"),\" \",\"\"))","v":""},null,{"$f":"IF(入力シート!$D$122=\"\",\"--\",SUBSTITUTE(SUBSTITUTE(入力シート!$D$122,\"　\",\"\"),\" \",\"\"))","v":"--"},{"$f":"IF(入力シート!$E$122=\"\",\"--\",SUBSTITUTE(SUBSTITUTE(入力シート!$E$122,\"　\",\"\"),\" \",\"\"))","v":"--"},{"$f":"IF(入力シート!$F$122=\"\",\"--\",SUBSTITUTE(SUBSTITUTE(入力シート!$F$122,\"　\",\"\"),\" \",\"\"))","v":"--"},{"$f":"IF(入力シート!$G$122=\"\",\"--\",SUBSTITUTE(SUBSTITUTE(入力シート!$G$122,\"　\",\"\"),\" \",\"\"))","v":"--"},{"$f":"入力シート!$D$26","v":{"$error":"#N/A"}},{"$f":"入力シート!$D$40&\" \"&入力シート!$D$42","v":" "}]
[6,null,null,{"$f":"入力シート!$J$22","v":""},"-- --","-- --",{"$f":"入力シート!$D$22","v":0},{"$f":"入力シート!$D$23","v":0},{"$f":"入力シート!$D$24","v":{"$error":"#N/A"}},2,80,{"$f":"IF(入力シート!$N$134=\"\",\"--\",入力シート!$N$134)","v":"--"},null,null,2,"80kg",{"$f":"入力シート!$G$22","v":""},{"$f":"IF(入力シート!$D$25=0,\"--\",入力シート!$D$25)","v":{"$error":"#N/A"}},{"$f":"IF(入力シート!$D$40=\"\",\"\",SUBSTITUTE(SUBSTITUTE(入力シート!$D$41,\"　\",\"\"),\" \",\"\")&\" \"&SUBSTITUTE(SUBSTITUTE(入力シート!$D$43,\"　\",\"\"),\" \",\"\"))","v":""},{"$f":"\"H\"&入力シート!$J$123&\"･\"&入力シート!$K$123&\"･\"&入力シート!$L$123","v":"H･･"},{"$f":"入力シート!$M$123","v":0},{"$f":"IF(入力シート!$D$56=\"\",\"\",SUBSTITUTE(SUBSTITUTE(入力シート!$D$56,\"　\",\"\"),\" \",\"\")&\" \"&SUBSTITUTE(SUBSTITUTE(入力シート!$D$58,\"　\",\"\"),\" \",\"\"))","v":""},null,{"$f":"IF(入力シート!$D$123=\"\",\"--\",SUBSTITUTE(SUBSTITUTE(入力シート!$D$123,\"　\",\"\"),\" \",\"\"))","v":"--"},{"$f":"IF(入力シート!$E$123=\"\",\"--\",SUBSTITUTE(SUBSTITUTE(入力シート!$E$123,\"　\",\"\"),\" \",\"\"))","v":"--"},{"$f":"IF(入力シート!$F$123=\"\",\"--\",SUBSTITUTE(SUBSTITUTE(入力シート!$F$123,\"　\",\"\"),\" \",\"\"))","v":"--"},{"$f":"IF(入力シート!$G$123=\"\",\"--\",SUBSTITUTE(SUBSTITUTE(入力シート!$G$123,\"　\",\"\"),\" \",\"\"))","v":"--"},{"$f":"入力シート!$D$26","v":{"$error":"#N/A"}},{"$f":"入力シート!$D$40&\" \"&入力シート!$D$42","v":" "}]
[7,null,null,{"$f":"入力シート!$J$22","v":""},"-- --","-- --",{"$f":"入力シート!$D$22","v":0},{"$f":"入力シート!$D$23","v":0},{"$f":"入力シート!$D$24","v":{"$error":"#N/A"}},2,92,{"$f":"IF(入力シート!$N$134=\"\",\"--\",入力シート!$N$134)","v":"--"},null,null,2,"92kg",{"$f":"入力シート!$G$22","v":""},{"$f":"IF(入力シート!$D$25=0,\"--\",入力シート!$D$25)","v":{"$error":"#N/A"}},{"$f":"IF(入力シート!$D$40=\"\",\"\",SUBSTITUTE(SUBSTITUTE(入力シート!$D$41,\"　\",\"\"),\" \",\"\")&\" \"&SUBSTITUTE(SUBSTITUTE(入力シート!$D$43,\"　\",\"\"),\" \",\"\"))","v":""},{"$f":"\"H\"&入力シート!$J$124&\"･\"&入力シート!$K$124&\"･\"&入力シート!$L$124","v":"H･･"},{"$f":"入力シート!$M$124","v":0},{"$f":"IF(入力シート!$D$56=\"\",\"\",SUBSTITUTE(SUBSTITUTE(入力シート!$D$56,\"　\",\"\"),\" \",\"\")&\" \"&SUBSTITUTE(SUBSTITUTE(入力シート!$D$58,\"　\",\"\"),\" \",\"\"))","v":""},null,{"$f":"IF(入力シート!$D$124=\"\",\"--\",SUBSTITUTE(SUBSTITUTE(入力シート!$D$124,\"　\",\"\"),\" \",\"\"))","v":"--"},{"$f":"IF(入力シート!$E$124=\"\",\"--\",SUBSTITUTE(SUBSTITUTE(入力シート!$E$124,\"　\",\"\"),\" \",\"\"))","v":"--"},{"$f":"IF(入力シート!$F$124=\"\",\"--\",SUBSTITUTE(SUBSTITUTE(入力シート!$F$124,\"　\",\"\"),\" \",\"\"))","v":"--"},{"$f":"IF(入力シート!$G$124=\"\",\"--\",SUBSTITUTE(SUBSTITUTE(入力シート!$G$124,\"　\",\"\"),\" \",\"\"))","v":"--"},{"$f":"入力シート!$D$26","v":{"$error":"#N/A"}},{"$f":"入力シート!$D$40&\" \"&入力シート!$D$42","v":" "}]
[8,null,null,{"$f":"入力シート!$J$22","v":""},"-- --","-- --",{"$f":"入力シート!$D$22","v":0},{"$f":"入力シート!$D$23","v":0},{"$f":"入力シート!$D$24","v":{"$error":"#N/A"}},2,125,{"$f":"IF(入力シート!$N$134=\"\",\"--\",入力シート!$N$134)","v":"--"},null,null,2,"125kg",{"$f":"入力シート!$G$22","v":""},{"$f":"IF(入力シート!$D$25=0,\"--\",入力シート!$D$25)","v":{"$error":"#N/A"}},{"$f":"IF(入力シート!$D$40=\"\",\"\",SUBSTITUTE(SUBSTITUTE(入力シート!$D$41,\"　\",\"\"),\" \",\"\")&\" \"&SUBSTITUTE(SUBSTITUTE(入力シート!$D$43,\"　\",\"\"),\" \",\"\"))","v":""},{"$f":"\"H\"&入力シート!$J$125&\"･\"&入力シート!$K$125&\"･\"&入力シート!$L$125","v":"H･･"},{"$f":"入力シート!$M$125","v":0},{"$f":"IF(入力シート!$D$56=\"\",\"\",SUBSTITUTE(SUBSTITUTE(入力シート!$D$56,\"　\",\"\"),\" \",\"\")&\" \"&SUBSTITUTE(SUBSTITUTE(入力シート!$D$58,\"　\",\"\"),\" \",\"\"))","v":""},null,{"$f":"IF(入力シート!$D$125=\"\",\"--\",SUBSTITUTE(SUBSTITUTE(入力シート!$D$125,\"　\",\"\"),\" \",\"\"))","v":"--"},{"$f":"IF(入力シート!$E$125=\"\",\"--\",SUBSTITUTE(SUBSTITUTE(入力シート!$E$125,\"　\",\"\"),\" \",\"\"))","v":"--"},{"$f":"IF(入力シート!$F$125=\"\",\"--\",SUBSTITUTE(SUBSTITUTE(入力シート!$F$125,\"　\",\"\"),\" \",\"\"))","v":"--"},{"$f":"IF(入力シート!$G$125=\"\",\"--\",SUBSTITUTE(SUBSTITUTE(入力シート!$G$125,\"　\",\"\"),\" \",\"\"))","v":"--"},{"$f":"入力シート!$D$26","v":{"$error":"#N/A"}},{"$f":"入力シート!$D$40&\" \"&入力シート!$D$42","v":" "}]
[]
[null,"(女子個人)"]
[null,"ID","No","No（県番号）","名前","なまえ","都道府県","学校名","がっこうめい","正副","階級","学年","抽選",null,"正副","kg","ブロック","正式名称","監督","生年月日","高体連番号","コーチ",null,"名前",null,"なまえ",null,null,"監督　ふり"]
[1,null,null,{"$f":"入力シート!$J$22","v":""},{"$f":"X38&\" \"&Y38","v":"-- --"},{"$f":"Z38&\" \"&AA38","v":"-- --"},{"$f":"入力シート!$D$22","v":0},{"$f":"入力シート!$D$23","v":0},{"$f":"入力シート!$D$24","v":{"$error":"#N/A"}},1,{"$f":"入力シート!$B$132","v":"(選択)"},{"$f":"IF(入力シート!$N$132=\"\",\"--\",入力シート!$N$132)","v":"--"},null,null,1,{"$f":"K38&\"kg\"","v":"(選択)kg"},{"$f":"入力シート!$G$22","v":""},{"$f":"IF(入力シート!$D$25=0,\"--\",入力シート!$D$25)","v":{"$error":"#N/A"}},{"$f":"IF(入力シート!$D$48=\"\",\"\",SUBSTITUTE(SUBSTITUTE(入力シート!$D$49,\"　\",\"\"),\" \",\"\")&\" \"&SUBSTITUTE(SUBSTITUTE(入力シート!$D$51,\"　\",\"\"),\" \",\"\"))","v":""},{"$f":"\"H\"&入力シート!$J$132&\"･\"&入力シート!$K$132&\"･\"&入力シート!$L$132","v":"H･･"},{"$f":"入力シート!$M$132","v":0},{"$f":"IF(入力シート!$D$61=\"\",\"\",SUBSTITUTE(SUBSTITUTE(入力シート!$D$61,\"　\",\"\"),\" \",\"\")&\" \"&SUBSTITUTE(SUBSTITUTE(入力シート!$D$63,\"　\",\"\"),\" \",\"\"))","v":""},null,{"$f":"IF(入力シート!$D$132=\"\",\"--\",SUBSTITUTE(SUBSTITUTE(入力シート!$D$132,\"　\",\"\"),\" \",\"\"))","v":"--"},{"$f":"IF(入力シート!$E$132=\"\",\"--\",SUBSTITUTE(SUBSTITUTE(入力シート!$E$132,\"　\",\"\"),\" \",\"\"))","v":"--"},{"$f":"IF(入力シート!$F$132=\"\",\"--\",SUBSTITUTE(SUBSTITUTE(入力シート!$F$132,\"　\",\"\"),\" \",\"\"))","v":"--"},{"$f":"IF(入力シート!$G$132=\"\",\"--\",SUBSTITUTE(SUBSTITUTE(入力シート!$G$132,\"　\",\"\"),\" \",\"\"))","v":"--"},{"$f":"入力シート!$D$26","v":{"$error":"#N/A"}},{"$f":"入力シート!$D$48&\"　\"&入力シート!$D$50","v":"　"}]
[2,null,null,{"$f":"入力シート!$J$22","v":""},"-- --","-- --",{"$f":"入力シート!$D$22","v":0},{"$f":"入力シート!$D$23","v":0},{"$f":"入力シート!$D$24","v":{"$error":"#N/A"}},1,{"$f":"入力シート!$B$133","v":"(選択)"},{"$f":"IF(入力シート!$N$133=\"\",\"--\",入力シート!$N$133)","v":"--"},null,null,1,"(選択)kg",{"$f":"入力シート!$G$22","v":""},{"$f":"IF(入力シート!$D$25=0,\"--\",入力シート!$D$25)","v":{"$error":"#N/A"}},{"$f":"IF(入力シート!$D$48=\"\",\"\",SUBSTITUTE(SUBSTITUTE(入力シート!$D$49,\"　\",\"\"),\" \",\"\")&\" \"&SUBSTITUTE(SUBSTITUTE(入力シート!$D$51,\"　\",\"\"),\" \",\"\"))","v":""},{"$f":"\"H\"&入力シート!$J$133&\"･\"&入力シート!$K$133&\"･\"&入力シート!$L$133","v":"H･･"},{"$f":"入力シート!$M$133","v":0},{"$f":"IF(入力シート!$D$61=\"\",\"\",SUBSTITUTE(SUBSTITUTE(入力シート!$D$61,\"　\",\"\"),\" \",\"\")&\" \"&SUBSTITUTE(SUBSTITUTE(入力シート!$D$63,\"　\",\"\"),\" \",\"\"))","v":""},null,{"$f":"IF(入力シート!$D$133=\"\",\"--\",SUBSTITUTE(SUBSTITUTE(入力シート!$D$133,\"　\",\"\"),\" \",\"\"))","v":"--"},{"$f":"IF(入力シート!$E$133=\"\",\"--\",SUBSTITUTE(SUBSTITUTE(入力シート!$E$133,\"　\",\"\"),\" \",\"\"))","v":"--"},{"$f":"IF(入力シート!$F$133=\"\",\"--\",SUBSTITUTE(SUBSTITUTE(入力シート!$F$133,\"　\",\"\"),\" \",\"\"))","v":"--"},{"$f":"IF(入力シート!$G$133=\"\",\"--\",SUBSTITUTE(SUBSTITUTE(入力シート!$G$133,\"　\",\"\"),\" \",\"\"))","v":"--"},{"$f":"入力シート!$D$26","v":{"$error":"#N/A"}},{"$f":"入力シート!$D$48&\"　\"&入力シート!$D$50","v":"　"}]
[3,null,null,{"$f":"入力シート!$J$22","v":""},"-- --","-- --",{"$f":"入力シート!$D$22","v":0},{"$f":"入力シート!$D$23","v":0},{"$f":"入力シート!$D$24","v":{"$error":"#N/A"}},1,{"$f":"入力シート!$B$134","v":"(選択)"},{"$f":"IF(入力シート!$N$134=\"\",\"--\",入力シート!$N$134)","v":"--"},null,null,1,"(選択)kg",{"$f":"入力シート!$G$22","v":""},{"$f":"IF(入力シート!$D$25=0,\"--\",入力シート!$D$25)","v":{"$error":"#N/A"}},{"$f":"IF(入力シート!$D$48=\"\",\"\",SUBSTITUTE(SUBSTITUTE(入力シート!$D$49,\"　\",\"\"),\" \",\"\")&\" \"&SUBSTITUTE(SUBSTITUTE(入力シート!$D$51,\"　\",\"\"),\" \",\"\"))","v":""},{"$f":"\"H\"&入力シート!$J$134&\"･\"&入力シート!$K$134&\"･\"&入力シート!$L$134","v":"H･･"},{"$f":"入力シート!$M$134","v":0},{"$f":"IF(入力シート!$D$61=\"\",\"\",SUBSTITUTE(SUBSTITUTE(入力シート!$D$61,\"　\",\"\"),\" \",\"\")&\" \"&SUBSTITUTE(SUBSTITUTE(入力シート!$D$63,\"　\",\"\"),\" \",\"\"))","v":""},null,{"$f":"IF(入力シート!$D$134=\"\",\"--\",SUBSTITUTE(SUBSTITUTE(入力シート!$D$134,\"　\",\"\"),\" \",\"\"))","v":"--"},{"$f":"IF(入力シート!$E$134=\"\",\"--\",SUBSTITUTE(SUBSTITUTE(入力シート!$E$134,\"　\",\"\"),\" \",\"\"))","v":"--"},{"$f":"IF(入力シート!$F$134=\"\",\"--\",SUBSTITUTE(SUBSTITUTE(入力シート!$F$134,\"　\",\"\"),\" \",\"\"))","v":"--"},{"$f":"IF(入力シート!$G$134=\"\",\"--\",SUBSTITUTE(SUBSTITUTE(入力シート!$G$134,\"　\",\"\"),\" \",\"\"))","v":"--"},{"$f":"入力シート!$D$26","v":{"$error":"#N/A"}},{"$f":"入力シート!$D$48&\"　\"&入力シート!$D$50","v":"　"}]
[4,null,null,{"$f":"入力シート!$J$22","v":""},"-- --","-- --",{"$f":"入力シート!$D$22","v":0},{"$f":"入力シート!$D$23","v":0},{"$f":"入力シート!$D$24","v":{"$error":"#N/A"}},1,{"$f":"入力シート!$B$135","v":"(選択)"},{"$f":"IF(入力シート!$N$135=\"\",\"--\",入力シート!$N$135)","v":"--"},null,null,1,"(選択)kg",{"$f":"入力シート!$G$22","v":""},{"$f":"IF(入力シート!$D$25=0,\"--\",入力シート!$D$25)","v":{"$error":"#N/A"}},{"$f":"IF(入力シート!$D$48=\"\",\"\",SUBSTITUTE(SUBSTITUTE(入力シート!$D$49,\"　\",\"\"),\" \",\"\")&\" \"&SUBSTITUTE(SUBSTITUTE(入力シート!$D$51,\"　\",\"\"),\" \",\"\"))","v":""},{"$f":"\"H\"&入力シート!$J$135&\"･\"&入力シート!$K$135&\"･\"&入力シート!$L$135","v":"H･･"},{"$f":"入力シート!$M$135","v":0},{"$f":"IF(入力シート!$D$61=\"\",\"\",SUBSTITUTE(SUBSTITUTE(入力シート!$D$61,\"　\",\"\"),\" \",\"\")&\" \"&SUBSTITUTE(SUBSTITUTE(入力シート!$D$63,\"　\",\"\"),\" \",\"\"))","v":""},null,{"$f":"IF(入力シート!$D$135=\"\",\"--\",SUBSTITUTE(SUBSTITUTE(入力シート!$D$135,\"　\",\"\"),\" \",\"\"))","v":"--"},{"$f":"IF(入力シート!$E$135=\"\",\"--\",SUBSTITUTE(SUBSTITUTE(入力シート!$E$135,\"　\",\"\"),\" \",\"\"))","v":"--"},{"$f":"IF(入力シート!$F$135=\"\",\"--\",SUBSTITUTE(SUBSTITUTE(入力シート!$F$135,\"　\",\"\"),\" \",\"\"))","v":"--"},{"$f":"IF(入力シート!$G$135=\"\",\"--\",SUBSTITUTE(SUBSTITUTE(入力シート!$G$135,\"　\",\"\"),\" \",\"\"))","v":"--"},{"$f":"入力シート!$D$26","v":{"$error":"#N/A"}},{"$f":"入力シート!$D$48&\"　\"&入力シート!$D$50","v":"　"}]
[5,null,null,{"$f":"入力シート!$J$22","v":""},"-- --","-- --",{"$f":"入力シート!$D$22","v":0},{"$f":"入力シート!$D$23","v":0},{"$f":"入力シート!$D$24","v":{"$error":"#N/A"}},1,{"$f":"入力シート!$B$136","v":"(選択)"},{"$f":"IF(入力シート!$N$136=\"\",\"--\",入力シート!$N$136)","v":"--"},null,null,1,"(選択)kg",{"$f":"入力シート!$G$22","v":""},{"$f":"IF(入力シート!$D$25=0,\"--\",入力シート!$D$25)","v":{"$error":"#N/A"}},{"$f":"IF(入力シート!$D$48=\"\",\"\",SUBSTITUTE(SUBSTITUTE(入力シート!$D$49,\"　\",\"\"),\" \",\"\")&\" \"&SUBSTITUTE(SUBSTITUTE(入力シート!$D$51,\"　\",\"\"),\" \",\"\"))","v":""},{"$f":"\"H\"&入力シート!$J$136&\"･\"&入力シート!$K$136&\"･\"&入力シート!$L$136","v":"H･･"},{"$f":"入力シート!$M$136","v":0},{"$f":"IF(入力シート!$D$61=\"\",\"\",SUBSTITUTE(SUBSTITUTE(入力シート!$D$61,\"　\",\"\"),\" \",\"\")&\" \"&SUBSTITUTE(SUBSTITUTE(入力シート!$D$63,\"　\",\"\"),\" \",\"\"))","v":""},null,{"$f":"IF(入力シート!$D$136=\"\",\"--\",SUBSTITUTE(SUBSTITUTE(入力シート!$D$136,\"　\",\"\"),\" \",\"\"))","v":"--"},{"$f":"IF(入力シート!$E$136=\"\",\"--\",SUBSTITUTE(SUBSTITUTE(入力シート!$E$136,\"　\",\"\"),\" \",\"\"))","v":"--"},{"$f":"IF(入力シート!$F$136=\"\",\"--\",SUBSTITUTE(SUBSTITUTE(入力シート!$F$136,\"　\",\"\"),\" \",\"\"))","v":"--"},{"$f":"IF(入力シート!$G$136=\"\",\"--\",SUBSTITUTE(SUBSTITUTE(入力シート!$G$136,\"　\",\"\"),\" \",\"\"))","v":"--"},{"$f":"入力シート!$D$26","v":{"$error":"#N/A"}},{"$f":"入力シート!$D$48&\"　\"&入力シート!$D$50","v":"　"}]
[6,null,null,{"$f":"入力シート!$J$22","v":""},"-- --","-- --",{"$f":"入力シート!$D$22","v":0},{"$f":"入力シート!$D$23","v":0},{"$f":"入力シート!$D$24","v":{"$error":"#N/A"}},1,{"$f":"入力シート!$B$137","v":"(選択)"},{"$f":"IF(入力シート!$N$137=\"\",\"--\",入力シート!$N$137)","v":"--"},null,null,1,"(選択)kg",{"$f":"入力シート!$G$22","v":""},{"$f":"IF(入力シート!$D$25=0,\"--\",入力シート!$D$25)","v":{"$error":"#N/A"}},{"$f":"IF(入力シート!$D$48=\"\",\"\",SUBSTITUTE(SUBSTITUTE(入力シート!$D$49,\"　\",\"\"),\" \",\"\")&\" \"&SUBSTITUTE(SUBSTITUTE(入力シート!$D$51,\"　\",\"\"),\" \",\"\"))","v":""},{"$f":"\"H\"&入力シート!$J$137&\"･\"&入力シート!$K$137&\"･\"&入力シート!$L$137","v":"H･･"},{"$f":"入力シート!$M$137","v":0},{"$f":"IF(入力シート!$D$61=\"\",\"\",SUBSTITUTE(SUBSTITUTE(入力シート!$D$61,\"　\",\"\"),\" \",\"\")&\" \"&SUBSTITUTE(SUBSTITUTE(入力シート!$D$63,\"　\",\"\"),\" \",\"\"))","v":""},null,{"$f":"IF(入力シート!$D$137=\"\",\"--\",SUBSTITUTE(SUBSTITUTE(入力シート!$D$137,\"　\",\"\"),\" \",\"\"))","v":"--"},{"$f":"IF(入力シート!$E$137=\"\",\"--\",SUBSTITUTE(SUBSTITUTE(入力シート!$E$137,\"　\",\"\"),\" \",\"\"))","v":"--"},{"$f":"IF(入力シート!$F$137=\"\",\"--\",SUBSTITUTE(SUBSTITUTE(入力シート!$F$137,\"　\",\"\"),\" \",\"\"))","v":"--"},{"$f":"IF(入力シート!$G$137=\"\",\"--\",SUBSTITUTE(SUBSTITUTE(入力シート!$G$137,\"　\",\"\"),\" \",\"\"))","v":"--"},{"$f":"入力シート!$D$26","v":{"$error":"#N/A"}},{"$f":"入力シート!$D$48&\"　\"&入力シート!$D$50","v":"　"}]
[7,null,null,{"$f":"入力シート!$J$22","v":""},"-- --","-- --",{"$f":"入力シート!$D$22","v":0},{"$f":"入力シート!$D$23","v":0},{"$f":"入力シート!$D$24","v":{"$error":"#N/A"}},1,{"$f":"入力シート!$B$138","v":"(選択)"},{"$f":"IF(入力シート!$N$138=\"\",\"--\",入力シート!$N$138)","v":"--"},null,null,1,"(選択)kg",{"$f":"入力シート!$G$22","v":""},{"$f":"IF(入力シート!$D$25=0,\"--\",入力シート!$D$25)","v":{"$error":"#N/A"}},{"$f":"IF(入力シート!$D$48=\"\",\"\",SUBSTITUTE(SUBSTITUTE(入力シート!$D$49,\"　\",\"\"),\" \",\"\")&\" \"&SUBSTITUTE(SUBSTITUTE(入力シート!$D$51,\"　\",\"\"),\" \",\"\"))","v":""},{"$f":"\"H\"&入力シート!$J$138&\"･\"&入力シート!$K$138&\"･\"&入力シート!$L$138","v":"H･･"},{"$f":"入力シート!$M$138","v":0},{"$f":"IF(入力シート!$D$61=\"\",\"\",SUBSTITUTE(SUBSTITUTE(入力シート!$D$61,\"　\",\"\"),\" \",\"\")&\" \"&SUBSTITUTE(SUBSTITUTE(入力シート!$D$63,\"　\",\"\"),\" \",\"\"))","v":""},null,{"$f":"IF(入力シート!$D$138=\"\",\"--\",SUBSTITUTE(SUBSTITUTE(入力シート!$D$138,\"　\",\"\"),\" \",\"\"))","v":"--"},{"$f":"IF(入力シート!$E$138=\"\",\"--\",SUBSTITUTE(SUBSTITUTE(入力シート!$E$138,\"　\",\"\"),\" \",\"\"))","v":"--"},{"$f":"IF(入力シート!$F$138=\"\",\"--\",SUBSTITUTE(SUBSTITUTE(入力シート!$F$138,\"　\",\"\"),\" \",\"\"))","v":"--"},{"$f":"IF(入力シート!$G$138=\"\",\"--\",SUBSTITUTE(SUBSTITUTE(入力シート!$G$138,\"　\",\"\"),\" \",\"\"))","v":"--"},{"$f":"入力シート!$D$26","v":{"$error":"#N/A"}},{"$f":"入力シート!$D$48&\"　\"&入力シート!$D$50","v":"　"}]
[8,null,null,{"$f":"入力シート!$J$22","v":""},"-- --","-- --",{"$f":"入力シート!$D$22","v":0},{"$f":"入力シート!$D$23","v":0},{"$f":"入力シート!$D$24","v":{"$error":"#N/A"}},1,{"$f":"入力シート!$B$139","v":"(選択)"},{"$f":"IF(入力シート!$N$139=\"\",\"--\",入力シート!$N$139)","v":"--"},null,null,1,"(選択)kg",{"$f":"入力シート!$G$22","v":""},{"$f":"IF(入力シート!$D$25=0,\"--\",入力シート!$D$25)","v":{"$error":"#N/A"}},{"$f":"IF(入力シート!$D$48=\"\",\"\",SUBSTITUTE(SUBSTITUTE(入力シート!$D$49,\"　\",\"\"),\" \",\"\")&\" \"&SUBSTITUTE(SUBSTITUTE(入力シート!$D$51,\"　\",\"\"),\" \",\"\"))","v":""},{"$f":"\"H\"&入力シート!$J$139&\"･\"&入力シート!$K$139&\"･\"&入力シート!$L$139","v":"H･･"},{"$f":"入力シート!$M$139","v":0},{"$f":"IF(入力シート!$D$61=\"\",\"\",SUBSTITUTE(SUBSTITUTE(入力シート!$D$61,\"　\",\"\"),\" \",\"\")&\" \"&SUBSTITUTE(SUBSTITUTE(入力シート!$D$63,\"　\",\"\"),\" \",\"\"))","v":""},null,{"$f":"IF(入力シート!$D$139=\"\",\"--\",SUBSTITUTE(SUBSTITUTE(入力シート!$D$139,\"　\",\"\"),\" \",\"\"))","v":"--"},{"$f":"IF(入力シート!$E$139=\"\",\"--\",SUBSTITUTE(SUBSTITUTE(入力シート!$E$139,\"　\",\"\"),\" \",\"\"))","v":"--"},{"$f":"IF(入力シート!$F$139=\"\",\"--\",SUBSTITUTE(SUBSTITUTE(入力シート!$F$139,\"　\",\"\"),\" \",\"\"))","v":"--"},{"$f":"IF(入力シート!$G$139=\"\",\"--\",SUBSTITUTE(SUBSTITUTE(入力シート!$G$139,\"　\",\"\"),\" \",\"\"))","v":"--"},{"$f":"入力シート!$D$26","v":{"$error":"#N/A"}},{"$f":"入力シート!$D$48&\"　\"&入力シート!$D$50","v":"　"}]
[9,null,null,{"$f":"入力シート!$J$22","v":""},"-- --","-- --",{"$f":"入力シート!$D$22","v":0},{"$f":"入力シート!$D$23","v":0},{"$f":"入力シート!$D$24","v":{"$error":"#N/A"}},1,{"$f":"入力シート!$B$140","v":"(選択)"},{"$f":"IF(入力シート!$N$140=\"\",\"--\",入力シート!$N$140)","v":"--"},null,null,1,"(選択)kg",{"$f":"入力シート!$G$22","v":""},{"$f":"IF(入力シート!$D$25=0,\"--\",入力シート!$D$25)","v":{"$error":"#N/A"}},{"$f":"IF(入力シート!$D$48=\"\",\"\",SUBSTITUTE(SUBSTITUTE(入力シート!$D$49,\"　\",\"\"),\" \",\"\")&\" \"&SUBSTITUTE(SUBSTITUTE(入力シート!$D$51,\"　\",\"\"),\" \",\"\"))","v":""},{"$f":"\"H\"&入力シート!$J$140&\"･\"&入力シート!$K$140&\"･\"&入力シート!$L$140","v":"H･･"},{"$f":"入力シート!$M$140","v":0},{"$f":"IF(入力シート!$D$61=\"\",\"\",SUBSTITUTE(SUBSTITUTE(入力シート!$D$61,\"　\",\"\"),\" \",\"\")&\" \"&SUBSTITUTE(SUBSTITUTE(入力シート!$D$63,\"　\",\"\"),\" \",\"\"))","v":""},null,{"$f":"IF(入力シート!$D$140=\"\",\"--\",SUBSTITUTE(SUBSTITUTE(入力シート!$D$140,\"　\",\"\"),\" \",\"\"))","v":"--"},{"$f":"IF(入力シート!$E$140=\"\",\"--\",SUBSTITUTE(SUBSTITUTE(入力シート!$E$140,\"　\",\"\"),\" \",\"\"))","v":"--"},{"$f":"IF(入力シート!$F$140=\"\",\"--\",SUBSTITUTE(SUBSTITUTE(入力シート!$F$140,\"　\",\"\"),\" \",\"\"))","v":"--"},{"$f":"IF(入力シート!$G$140=\"\",\"--\",SUBSTITUTE(SUBSTITUTE(入力シート!$G$140,\"　\",\"\"),\" \",\"\"))","v":"--"},{"$f":"入力シート!$D$26","v":{"$error":"#N/A"}},{"$f":"入力シート!$D$48&\"　\"&入力シート!$D$50","v":"　"}]
[10,null,null,{"$f":"入力シート!$J$22","v":""},"-- --","-- --",{"$f":"入力シート!$D$22","v":0},{"$f":"入力シート!$D$23","v":0},{"$f":"入力シート!$D$24","v":{"$error":"#N/A"}},1,{"$f":"入力シート!$B$141","v":"(選択)"},{"$f":"IF(入力シート!$N$141=\"\",\"--\",入力シート!$N$141)","v":"--"},null,null,1,"(選択)kg",{"$f":"入力シート!$G$22","v":""},{"$f":"IF(入力シート!$D$25=0,\"--\",入力シート!$D$25)","v":{"$error":"#N/A"}},{"$f":"IF(入力シート!$D$48=\"\",\"\",SUBSTITUTE(SUBSTITUTE(入力シート!$D$49,\"　\",\"\"),\" \",\"\")&\" \"&SUBSTITUTE(SUBSTITUTE(入力シート!$D$51,\"　\",\"\"),\" \",\"\"))","v":""},{"$f":"\"H\"&入力シート!$J$141&\"･\"&入力シート!$K$141&\"･\"&入力シート!$L$141","v":"H･･"},{"$f":"入力シート!$M$141","v":0},{"$f":"IF(入力シート!$D$61=\"\",\"\",SUBSTITUTE(SUBSTITUTE(入力シート!$D$61,\"　\",\"\"),\" \",\"\")&\" \"&SUBSTITUTE(SUBSTITUTE(入力シート!$D$63,\"　\",\"\"),\" \",\"\"))","v":""},null,{"$f":"IF(入力シート!$D$141=\"\",\"--\",SUBSTITUTE(SUBSTITUTE(入力シート!$D$141,\"　\",\"\"),\" \",\"\"))","v":"--"},{"$f":"IF(入力シート!$E$141=\"\",\"--\",SUBSTITUTE(SUBSTITUTE(入力シート!$E$141,\"　\",\"\"),\" \",\"\"))","v":"--"},{"$f":"IF(入力シート!$F$141=\"\",\"--\",SUBSTITUTE(SUBSTITUTE(入力シート!$F$141,\"　\",\"\"),\" \",\"\"))","v":"--"},{"$f":"IF(入力シート!$G$141=\"\",\"--\",SUBSTITUTE(SUBSTITUTE(入力シート!$G$141,\"　\",\"\"),\" \",\"\"))","v":"--"},{"$f":"入力シート!$D$26","v":{"$error":"#N/A"}},{"$f":"入力シート!$D$48&\"　\"&入力シート!$D$50","v":"　"}]
[11,null,null,{"$f":"入力シート!$J$22","v":""},"-- --","-- --",{"$f":"入力シート!$D$22","v":0},{"$f":"入力シート!$D$23","v":0},{"$f":"入力シート!$D$24","v":{"$error":"#N/A"}},1,{"$f":"入力シート!$B$142","v":"(選択)"},{"$f":"IF(入力シート!$N$142=\"\",\"--\",入力シート!$N$142)","v":"--"},null,null,1,"(選択)kg",{"$f":"入力シート!$G$22","v":""},{"$f":"IF(入力シート!$D$25=0,\"--\",入力シート!$D$25)","v":{"$error":"#N/A"}},{"$f":"IF(入力シート!$D$48=\"\",\"\",SUBSTITUTE(SUBSTITUTE(入力シート!$D$49,\"　\",\"\"),\" \",\"\")&\" \"&SUBSTITUTE(SUBSTITUTE(入力シート!$D$51,\"　\",\"\"),\" \",\"\"))","v":""},{"$f":"\"H\"&入力シート!$J$142&\"･\"&入力シート!$K$142&\"･\"&入力シート!$L$142","v":"H･･"},{"$f":"入力シート!$M$142","v":0},{"$f":"IF(入力シート!$D$61=\"\",\"\",SUBSTITUTE(SUBSTITUTE(入力シート!$D$61,\"　\",\"\"),\" \",\"\")&\" \"&SUBSTITUTE(SUBSTITUTE(入力シート!$D$63,\"　\",\"\"),\" \",\"\"))","v":""},null,{"$f":"IF(入力シート!$D$142=\"\",\"--\",SUBSTITUTE(SUBSTITUTE(入力シート!$D$142,\"　\",\"\"),\" \",\"\"))","v":"--"},{"$f":"IF(入力シート!$E$142=\"\",\"--\",SUBSTITUTE(SUBSTITUTE(入力シート!$E$142,\"　\",\"\"),\" \",\"\"))","v":"--"},{"$f":"IF(入力シート!$F$142=\"\",\"--\",SUBSTITUTE(SUBSTITUTE(入力シート!$F$142,\"　\",\"\"),\" \",\"\"))","v":"--"},{"$f":"IF(入力シート!$G$142=\"\",\"--\",SUBSTITUTE(SUBSTITUTE(入力シート!$G$142,\"　\",\"\"),\" \",\"\"))","v":"--"},{"$f":"入力シート!$D$26","v":{"$error":"#N/A"}},{"$f":"入力シート!$D$48&\"　\"&入力シート!$D$50","v":"　"}]
[12,null,null,{"$f":"入力シート!$J$22","v":""},"-- --","-- --",{"$f":"入力シート!$D$22","v":0},{"$f":"入力シート!$D$23","v":0},{"$f":"入力シート!$D$24","v":{"$error":"#N/A"}},1,{"$f":"入力シート!$B$143","v":"(選択)"},{"$f":"IF(入力シート!$N$143=\"\",\"--\",入力シート!$N$143)","v":"--"},null,null,1,"(選択)kg",{"$f":"入力シート!$G$22","v":""},{"$f":"IF(入力シート!$D$25=0,\"--\",入力シート!$D$25)","v":{"$error":"#N/A"}},{"$f":"IF(入力シート!$D$48=\"\",\"\",SUBSTITUTE(SUBSTITUTE(入力シート!$D$49,\"　\",\"\"),\" \",\"\")&\" \"&SUBSTITUTE(SUBSTITUTE(入力シート!$D$51,\"　\",\"\"),\" \",\"\"))","v":""},{"$f":"\"H\"&入力シート!$J$143&\"･\"&入力シート!$K$143&\"･\"&入力シート!$L$143","v":"H･･"},{"$f":"入力シート!$M$143","v":0},{"$f":"IF(入力シート!$D$61=\"\",\"\",SUBSTITUTE(SUBSTITUTE(入力シート!$D$61,\"　\",\"\"),\" \",\"\")&\" \"&SUBSTITUTE(SUBSTITUTE(入力シート!$D$63,\"　\",\"\"),\" \",\"\"))","v":""},null,{"$f":"IF(入力シート!$D$143=\"\",\"--\",SUBSTITUTE(SUBSTITUTE(入力シート!$D$143,\"　\",\"\"),\" \",\"\"))","v":"--"},{"$f":"IF(入力シート!$E$143=\"\",\"--\",SUBSTITUTE(SUBSTITUTE(入力シート!$E$143,\"　\",\"\"),\" \",\"\"))","v":"--"},{"$f":"IF(入力シート!$F$143=\"\",\"--\",SUBSTITUTE(SUBSTITUTE(入力シート!$F$143,\"　\",\"\"),\" \",\"\"))","v":"--"},{"$f":"IF(入力シート!$G$143=\"\",\"--\",SUBSTITUTE(SUBSTITUTE(入力シート!$G$143,\"　\",\"\"),\" \",\"\"))","v":"--"},{"$f":"入力シート!$D$26","v":{"$error":"#N/A"}},{"$f":"入力シート!$D$48&\"　\"&入力シート!$D$50","v":"　"}]
[13,null,null,{"$f":"入力シート!$J$22","v":""},"-- --","-- --",{"$f":"入力シート!$D$22","v":0},{"$f":"入力シート!$D$23","v":0},{"$f":"入力シート!$D$24","v":{"$error":"#N/A"}},1,{"$f":"入力シート!$B$144","v":"(選択)"},{"$f":"IF(入力シート!$N$144=\"\",\"--\",入力シート!$N$144)","v":"--"},null,null,1,"(選択)kg",{"$f":"入力シート!$G$22","v":""},{"$f":"IF(入力シート!$D$25=0,\"--\",入力シート!$D$25)","v":{"$error":"#N/A"}},{"$f":"IF(入力シート!$D$48=\"\",\"\",SUBSTITUTE(SUBSTITUTE(入力シート!$D$49,\"　\",\"\"),\" \",\"\")&\" \"&SUBSTITUTE(SUBSTITUTE(入力シート!$D$51,\"　\",\"\"),\" \",\"\"))","v":""},{"$f":"\"H\"&入力シート!$J$144&\"･\"&入力シート!$K$144&\"･\"&入力シート!$L$144","v":"H･･"},{"$f":"入力シート!$M$144","v":0},{"$f":"IF(入力シート!$D$61=\"\",\"\",SUBSTITUTE(SUBSTITUTE(入力シート!$D$61,\"　\",\"\"),\" \",\"\")&\" \"&SUBSTITUTE(SUBSTITUTE(入力シート!$D$63,\"　\",\"\"),\" \",\"\"))","v":""},null,{"$f":"IF(入力シート!$D$144=\"\",\"--\",SUBSTITUTE(SUBSTITUTE(入力シート!$D$144,\"　\",\"\"),\" \",\"\"))","v":"--"},{"$f":"IF(入力シート!$E$144=\"\",\"--\",SUBSTITUTE(SUBSTITUTE(入力シート!$E$144,\"　\",\"\"),\" \",\"\"))","v":"--"},{"$f":"IF(入力シート!$F$144=\"\",\"--\",SUBSTITUTE(SUBSTITUTE(入力シート!$F$144,\"　\",\"\"),\" \",\"\"))","v":"--"},{"$f":"IF(入力シート!$G$144=\"\",\"--\",SUBSTITUTE(SUBSTITUTE(入力シート!$G$144,\"　\",\"\"),\" \",\"\"))","v":"--"},{"$f":"入力シート!$D$26","v":{"$error":"#N/A"}},{"$f":"入力シート!$D$48&\"　\"&入力シート!$D$50","v":"　"}]
[14,null,null,{"$f":"入力シート!$J$22","v":""},"-- --","-- --",{"$f":"入力シート!$D$22","v":0},{"$f":"入力シート!$D$23","v":0},{"$f":"入力シート!$D$24","v":{"$error":"#N/A"}},1,{"$f":"入力シート!$B$145","v":"(選択)"},{"$f":"IF(入力シート!$N$145=\"\",\"--\",入力シート!$N$145)","v":"--"},null,null,1,"(選択)kg",{"$f":"入力シート!$G$22","v":""},{"$f":"IF(入力シート!$D$25=0,\"--\",入力シート!$D$25)","v":{"$error":"#N/A"}},{"$f":"IF(入力シート!$D$48=\"\",\"\",SUBSTITUTE(SUBSTITUTE(入力シート!$D$49,\"　\",\"\"),\" \",\"\")&\" \"&SUBSTITUTE(SUBSTITUTE(入力シート!$D$51,\"　\",\"\"),\" \",\"\"))","v":""},{"$f":"\"H\"&入力シート!$J$145&\"･\"&入力シート!$K$145&\"･\"&入力シート!$L$145","v":"H･･"},{"$f":"入力シート!$M$145","v":0},{"$f":"IF(入力シート!$D$61=\"\",\"\",SUBSTITUTE(SUBSTITUTE(入力シート!$D$61,\"　\",\"\"),\" \",\"\")&\" \"&SUBSTITUTE(SUBSTITUTE(入力シート!$D$63,\"　\",\"\"),\" \",\"\"))","v":""},null,{"$f":"IF(入力シート!$D$145=\"\",\"--\",SUBSTITUTE(SUBSTITUTE(入力シート!$D$145,\"　\",\"\"),\" \",\"\"))","v":"--"},{"$f":"IF(入力シート!$E$145=\"\",\"--\",SUBSTITUTE(SUBSTITUTE(入力シート!$E$145,\"　\",\"\"),\" \",\"\"))","v":"--"},{"$f":"IF(入力シート!$F$145=\"\",\"--\",SUBSTITUTE(SUBSTITUTE(入力シート!$F$145,\"　\",\"\"),\" \",\"\"))","v":"--"},{"$f":"IF(入力シート!$G$145=\"\",\"--\",SUBSTITUTE(SUBSTITUTE(入力シート!$G$145,\"　\",\"\"),\" \",\"\"))","v":"--"},{"$f":"入力シート!$D$26","v":{"$error":"#N/A"}},{"$f":"入力シート!$D$48&\"　\"&入力シート!$D$50","v":"　"}]
[15,null,null,{"$f":"入力シート!$J$22","v":""},{"$f":"X52&\" \"&Y52","v":"-- --"},{"$f":"Z52&\" \"&AA52","v":"-- --"},{"$f":"入力シート!$D$22","v":0},{"$f":"入力シート!$D$23","v":0},{"$f":"入力シート!$D$24","v":{"$error":"#N/A"}},1,{"$f":"入力シート!$B$146","v":"(選択)"},{"$f":"IF(入力シート!$N$146=\"\",\"--\",入力シート!$N$146)","v":"--"},null,null,1,{"$f":"K52&\"kg\"","v":"(選択)kg"},{"$f":"入力シート!$G$22","v":""},{"$f":"IF(入力シート!$D$25=0,\"--\",入力シート!$D$25)","v":{"$error":"#N/A"}},{"$f":"IF(入力シート!$D$48=\"\",\"\",SUBSTITUTE(SUBSTITUTE(入力シート!$D$49,\"　\",\"\"),\" \",\"\")&\" \"&SUBSTITUTE(SUBSTITUTE(入力シート!$D$51,\"　\",\"\"),\" \",\"\"))","v":""},{"$f":"\"H\"&入力シート!$J$146&\"･\"&入力シート!$K$146&\"･\"&入力シート!$L$146","v":"H･･"},{"$f":"入力シート!$M$146","v":0},{"$f":"IF(入力シート!$D$61=\"\",\"\",SUBSTITUTE(SUBSTITUTE(入力シート!$D$61,\"　\",\"\"),\" \",\"\")&\" \"&SUBSTITUTE(SUBSTITUTE(入力シート!$D$63,\"　\",\"\"),\" \",\"\"))","v":""},null,{"$f":"IF(入力シート!$D$146=\"\",\"--\",SUBSTITUTE(SUBSTITUTE(入力シート!$D$146,\"　\",\"\"),\" \",\"\"))","v":"--"},{"$f":"IF(入力シート!$E$146=\"\",\"--\",SUBSTITUTE(SUBSTITUTE(入力シート!$E$146,\"　\",\"\"),\" \",\"\"))","v":"--"},{"$f":"IF(入力シート!$F$146=\"\",\"--\",SUBSTITUTE(SUBSTITUTE(入力シート!$F$146,\"　\",\"\"),\" \",\"\"))","v":"--"},{"$f":"IF(入力シート!$G$146=\"\",\"--\",SUBSTITUTE(SUBSTITUTE(入力シート!$G$146,\"　\",\"\"),\" \",\"\"))","v":"--"},{"$f":"入力シート!$D$26","v":{"$error":"#N/A"}},{"$f":"入力シート!$D$48&\"　\"&入力シート!$D$50","v":"　"}]
[16,null,null,{"$f":"入力シート!$J$22","v":""},"-- --","-- --",{"$f":"入力シート!$D$22","v":0},{"$f":"入力シート!$D$23","v":0},{"$f":"入力シート!$D$24","v":{"$error":"#N/A"}},1,{"$f":"入力シート!$B$147","v":"(選択)"},{"$f":"IF(入力シート!$N$147=\"\",\"--\",入力シート!$N$147)","v":"--"},null,null,1,"(選択)kg",{"$f":"入力シート!$G$22","v":""},{"$f":"IF(入力シート!$D$25=0,\"--\",入力シート!$D$25)","v":{"$error":"#N/A"}},{"$f":"IF(入力シート!$D$48=\"\",\"\",SUBSTITUTE(SUBSTITUTE(入力シート!$D$49,\"　\",\"\"),\" \",\"\")&\" \"&SUBSTITUTE(SUBSTITUTE(入力シート!$D$51,\"　\",\"\"),\" \",\"\"))","v":""},{"$f":"\"H\"&入力シート!$J$147&\"･\"&入力シート!$K$147&\"･\"&入力シート!$L$147","v":"H･･"},{"$f":"入力シート!$M$147","v":0},{"$f":"IF(入力シート!$D$61=\"\",\"\",SUBSTITUTE(SUBSTITUTE(入力シート!$D$61,\"　\",\"\"),\" \",\"\")&\" \"&SUBSTITUTE(SUBSTITUTE(入力シート!$D$63,\"　\",\"\"),\" \",\"\"))","v":""},null,{"$f":"IF(入力シート!$D$147=\"\",\"--\",SUBSTITUTE(SUBSTITUTE(入力シート!$D$147,\"　\",\"\"),\" \",\"\"))","v":"--"},{"$f":"IF(入力シート!$E$147=\"\",\"--\",SUBSTITUTE(SUBSTITUTE(入力シート!$E$147,\"　\",\"\"),\" \",\"\"))","v":"--"},{"$f":"IF(入力シート!$F$147=\"\",\"--\",SUBSTITUTE(SUBSTITUTE(入力シート!$F$147,\"　\",\"\"),\" \",\"\"))","v":"--"},{"$f":"IF(入力シート!$G$147=\"\",\"--\",SUBSTITUTE(SUBSTITUTE(入力シート!$G$147,\"　\",\"\"),\" \",\"\"))","v":"--"},{"$f":"入力シート!$D$26","v":{"$error":"#N/A"}},{"$f":"入力シート!$D$48&\"　\"&入力シート!$D$50","v":"　"}]

{"sheet":"引率責任者（集計用）","index":5,"n_rows":3,"n_cols":10,"rows_kept":3}
["引率責任者"]
["都道府県名","学校名","学校名（ふりがな）","氏名","氏名（ふりがな）","緊急連絡先","メールアドレス","学校住所","学校連絡先","学校長名"]
[{"$f":"入力シート!$D$22","v":0},{"$f":"入力シート!$D$25","v":{"$error":"#N/A"}},{"$f":"入力シート!$D$24","v":{"$error":"#N/A"}},{"$f":"入力シート!$D$67","v":0},{"$f":"入力シート!$D$66","v":0},{"$f":"入力シート!$D$68","v":0},{"$f":"入力シート!$D$69","v":0},{"$f":"入力シート!$D$29","v":0},{"$f":"入力シート!$D$30&-入力シート!$D$31&-入力シート!$D$32","v":"00"},{"$f":"入力シート!$D$36&\" \"&入力シート!$D$37","v":" "}]

{"sheet":"学校名入力_20240302","index":6,"n_rows":318,"n_cols":61,"rows_kept":318}
[{"$nulls":11},{"$f":"SUM(L5:L316)","v":9}]
["No（県番号）",null,"都道府県",null,"学校名","略称","がっこうめい","正式名称",{"$nulls":3},5,null,null,"【北海道】","【青森県】","【岩手県】","【宮城県】","【秋田県】","【山形県】","【福島県】","【茨城県】","【栃木県】","【群馬県】","【埼玉県】","【千葉県】","【東京都】","【神奈川県】","【山梨県】","【新潟県】","【富山県】","【石川県】","【福井県】","【長野県】","【岐阜県】","【静岡県】","【愛知県】","【三重県】","【滋賀県】","【京都府】","【大阪府】","【兵庫県】","【奈良県】","【和歌山県】","【鳥取県】","【島根県】","【岡山県】","【広島県】","【山口県】","【徳島県】","【香川県】","【愛媛県】","【高知県】","【福岡県】","【佐賀県】","【長崎県】","【熊本県】","【大分県】","【宮崎県】","【鹿児島県】","【沖縄県】"]
[{"$nulls":4},"（選択）",null,"　","　",{"$nulls":6},"札幌東豊","八戸学院光星","宮古商工","仙台城南","五城目","山形市立商業","喜多方桐桜","鹿島学園","足利大学附属","西邑楽","埼玉栄","京葉工業","東京実業","法政大学第二","韮崎工業","八海","入善","星稜","若狭","上田西","岐阜工業","伊豆総合","名古屋工業","伊勢工業","栗東","丹後緑風","近畿大学附属","六甲アイランド","添上","新宮","倉吉総合産業","松江工業","関西","広島国泰寺","豊浦","池田","高松北","北条","高知東","東鷹","佐賀県立鹿島","島原","北稜","佐伯豊南","日南振徳","樟南","北部農林"]
[{"$nulls":4},"【北海道】",{"$nulls":9},"千歳北陽","八戸工業大学第一","種市","黒川","秋田南","山形南","田島","霞ヶ浦","馬頭","館林","花咲徳栄","八千代松陰","自由ヶ丘学園","慶應義塾","農林","東京学館新潟","桜井","志賀","敦賀気比","小諸","岐南工業","沼津城北","星城","いなべ総合学園","水口","京都廣学館","同志社香里","神戸高塚","法隆寺国際","紀北工業","鳥取中央育英","隠岐島前","倉敷","三次","田布施農工","池田(三好)","多度津","今治工業","土佐塾","小倉商業","鳥栖工業","島原工業","玉名工業","津久見","宮崎農業","鹿屋中央","南風原"]
[1,1,"北海道","札幌東豊","札幌東豊","札幌東豊","さっぽろとうほう","北海道札幌東豊高等学校",null,null,{"$f":"LEN(D5)","v":4},{"$f":"IF($L$2-K5>=0,\"\",1)","v":""},null,null,"帯広北","八戸工業","盛岡工業","東北学院","秋田商業","上山明新館","ふたば未来学園","土浦日本大学","足利工業","館林商工",null,"関宿","日本工業大学駒場","日本大学藤沢","都留興譲館","北越","滑川","金沢北陵","福井農林","小諸商業","大垣工業","稲取","一宮工科","四日市四郷","信楽","京都八幡","大阪体育大学浪商","猪名川","大和広陵","和歌山東","鳥取東","松江北","笠岡工業","賀茂","山口県鴻城","穴吹","香川中央","八幡浜工業","高知国際","三井","鳥栖工業","大村工業","小川工業","日本文理大学附属","宮崎工業","加世田常潤","浦添工業"]
[1,2,"北海道","千歳北陽","千歳北陽","千歳北陽","ちとせほくよう","北海道千歳北陽高等学校",null,null,{"$f":"LEN(D6)","v":4},{"$f":"IF($L$2-K6>=0,\"\",1)","v":""},null,null,"星槎国際(旭川)","八戸学院野辺地西","専修大学北上",null,"ノースアジア大学明桜","米沢工業",null,"東洋大学牛久","宇都宮商業","大泉",null,"野田中央","第三商業","向上","甲府城西","日本文理","高岡向陵","野々市明倫","若狭東","佐久平総合技術","加茂農林","飛龍","至学館","朝明","日野","海洋","長尾谷","須磨翔風","天理教校学園","和歌山北",null,null,"おかやま山陽","並木学院","柳井学園","つるぎ",null,"今治西","高岡","築上西","鹿島","島原翔南",null,null,"宮崎県立福島",null,"真和志"]
[1,3,"北海道","帯広北","帯広北","帯広北","おびひろきた","帯広北高等学校",null,null,3,"",null,null,"岩内","青森商業",{"$nulls":3},"庄内農業",null,"茨城東",null,"市立太田",null,"我孫子東","中央学院大学中央","釜利谷",null,"新潟県央工業","高岡商業",null,"福井工業大学附属福井",null,"中津商業","沼津工業","知立東","久居","八幡工業","東山","大阪府立いちりつ","市立伊丹","橿原学院","和歌山工業",null,null,"高松農業",null,"山口県桜ヶ丘",null,null,"愛媛大学附属","宿毛","遠賀",null,"諫早",null,null,"日向学院",null,"美来工科"]
[1,4,"北海道","星槎国際","星槎国際(旭川)","星槎国際","せいさこくさいあさひかわ","星槎国際高等学校 旭川キャンパス",null,null,4,"",{"$nulls":3},"五所川原第一",{"$nulls":3},"鶴岡工業",null,"大洗",null,"前橋西",null,"四街道","帝京","横浜修悠館",{"$nulls":6},"大垣日本大学","吉原工業","名古屋","松阪工業",null,"日星","興國","芦屋学園",null,"南部",null,null,"備前緑陽",null,"精華学園",{"$nulls":3},"高知工業","苅田工業",{"$nulls":4},"宮崎日本大学",null,"八重山"]
[1,5,"北海道","岩内","岩内","岩内","いわない","岩内高等学校",null,null,2,"",{"$nulls":3},"十和田工業",{"$nulls":3},"鶴岡南",null,"水戸桜ﾉ牧",null,"富岡実業",null,"佐倉","安部学院","磯子工業",{"$nulls":6},"中京","焼津中央","稲沢東","鳥羽",null,null,"高石",null,null,"新翔",null,null,"倉敷鷲羽",{"$nulls":6},"福岡大学附属若葉",{"$nulls":4},"宮崎第一"]
[{"$nulls":4},"【青森県】",{"$nulls":10},"青森東",{"$nulls":5},"結城第二",null,"前橋育英",null,"佐倉西","文化学園大学杉並","横浜清陵",{"$nulls":6},"高山西","焼津水産","名城大学附属","四日市西",null,null,"りんくう翔南",{"$nulls":5},"総社",{"$nulls":11},"都城西"]
[2,1,"青森県","光星","八戸学院光星","光星","はちのへがくいんこうせい","八戸学院光星高等学校",null,null,2,"",{"$nulls":9},"常陸大宮",null,"四ツ葉学園",null,"日本体育大学柏","日本体育大学桜華","三浦学苑",{"$nulls":7},"藤枝北",null,"暁",null,null,"福泉"]
[2,2,"青森県","八工大一","八戸工業大学第一","八工大一","はちのへこうぎょうだいがくだいいち","八戸工業大学第一高等学校",null,null,4,"",{"$nulls":14},"日本体育大学荏原","秦野総合",{"$nulls":12},"堺リベラル"]
[2,3,"青森県","八戸工","八戸工業","八戸工","はちのへこうぎょう","青森県立八戸工業高等学校",null,null,3,"",{"$nulls":14},"慶応義塾女子"]
[2,4,"青森県","野辺地西","八戸学院野辺地西","野辺地西","はちのへがくいんのへじにし","八戸学院野辺地西高等学校",null,null,4,"",{"$nulls":14},"下北沢成徳"]
[2,5,"青森県","青森商","青森商業","青森商","あおもりしょうぎょう","青森県立青森商業高等学校",null,null,3,""]
[2,6,"青森県","五所川原一","五所川原第一","五所川原一","ごしょがわらだいいち","五所川原第一高等学校",null,null,5,"",{"$nulls":47},"計",{"$f":"COUNTA(O5:BK15)","v":176}]
[2,7,"青森県","十和田工","十和田工業","十和田工","とわだこうぎょう","青森県立十和田工業高等学校",null,null,4,""]
[2,8,"青森県","青森東","青森東","青森東","あおもりひがし","青森県立青森東高等学校",null,null,3,""]
[{"$nulls":4},"【岩手県】"]
[3,1,"岩手県","宮古商工","宮古商工","宮古商工","みやこしょうこう","岩手県立宮古商工高等学校",null,null,4,""]
[3,2,"岩手県","種市","種市","種市","たねいち","岩手県立種市高等学校",null,null,2,""]
[3,3,"岩手県","盛岡工","盛岡工業","盛岡工","もりおかこうぎょう","岩手県立盛岡工業高等学校",null,null,3,""]
[3,4,"岩手県","専大北上","専修大学北上","専大北上","せんだいきたかみ","専修大学北上高等学校",null,null,4,""]
[{"$nulls":4},"【宮城県】"]
[4,1,"宮城県","仙台城南","仙台城南","仙台城南","せんだいじょうなん","仙台城南高等学校",null,null,4,""]
[4,2,"宮城県","黒川","黒川","黒川","くろかわ","宮城県黒川高等学校",null,null,2,""]
[4,3,"宮城県","東北学院","東北学院","東北学院","とうほくがくいん","東北学院高等学校",null,null,4,""]
[{"$nulls":4},"【秋田県】"]
[5,1,"秋田県","五城目","五城目","五城目","ごじょうめ","秋田県立五城目高等学校",null,null,3,""]
[5,2,"秋田県","秋田南","秋田南","秋田南","あきたみなみ","秋田県立秋田南高等学校",null,null,3,""]
[5,3,"秋田県","秋田商","秋田商業","秋田商","あきたしょうぎょう","秋田市立秋田商業高等学校",null,null,3,""]
[5,4,"秋田県","ノー大明桜","ノースアジア大学明桜","ノー大明桜","のーすあじあだいがくめいおう","ノースアジア大学明桜高等学校",null,null,5,""]
[{"$nulls":4},"【山形県】"]
[6,1,"山形県","山形市立商","山形市立商業","山形市立商","やまがたしりつしょうぎょう","山形市立商業高等学校",null,null,5,""]
[6,2,"山形県","山形南","山形南","山形南","やまがたみなみ","山形県立山形南高等学校",null,null,3,""]
[6,3,"山形県","上山明新館","上山明新館","上山明新館","かみのやまめいしんかん","山形県立上山明新館高等学校",null,null,5,""]
[6,4,"山形県","米沢工","米沢工業","米沢工","よねざわこうぎょう","山形県立米沢工業高等学校",null,null,3,""]
[6,5,"山形県","庄内農","庄内農業","庄内農","しょうないのうぎょう","山形県立庄内農業高等学校",null,null,3,""]
[6,6,"山形県","鶴岡工","鶴岡工業","鶴岡工","つるおかこうぎょう","山形県立鶴岡工業高等学校",null,null,3,""]
[6,7,"山形県","鶴岡南","鶴岡南","鶴岡南","つるおかみなみ","山形県立鶴岡南高等学校",null,null,3,""]
[{"$nulls":4},"【福島県】"]
[7,1,"福島県","喜多方桐桜","喜多方桐桜","喜多方桐桜","きたかたとうおう","福島県立喜多方桐桜高等学校",null,null,5,""]
[7,2,"福島県","田島","田島","田島","たじま","福島県立田島高等学校",null,null,2,""]
[7,3,"福島県","ふたば未来","ふたば未来学園","ふたば未来","ふたばみらいがくえん","福島県立ふたば未来学園高等学校",null,null,5,""]
[{"$nulls":4},"【茨城県】"]
[8,1,"茨城県","鹿島学園","鹿島学園","鹿島学園","かしまがくえん","鹿島学園高等学校",null,null,4,""]
[8,2,"茨城県","霞ヶ浦","霞ヶ浦","霞ヶ浦","かすみがうら","霞ヶ浦高等学校",null,null,3,""]
[8,3,"茨城県","土浦日大","土浦日本大学","土浦日大","つちうらにほんだいがく","土浦日本大学高等学校",null,null,4,""]
[8,4,"茨城県","東洋大牛久","東洋大学牛久","東洋大牛久","とうようだいがくうしく","東洋大学牛久高等学校",null,null,5,""]
[8,5,"茨城県","茨城東","茨城東","茨城東","いばらきひがし","茨城県立茨城東高等学校",null,null,3,""]
[8,6,"茨城県","大洗","大洗","大洗","おおあらい","茨城県立大洗高等学校",null,null,2,""]
[8,7,"茨城県","水戸桜ﾉ牧","水戸桜ﾉ牧","水戸桜ﾉ牧","みとさくらのまき","茨城県立水戸桜ノ牧高等学校",null,null,5,""]
[8,8,"茨城県","結城二","結城第二","結城二","ゆうきだいに","茨城県立結城第二高等学校",null,null,3,""]
[8,9,"茨城県","常陸大宮","常陸大宮","常陸大宮","ひたちおおみや","茨城県立常陸大宮高等学校",null,null,4,""]
[{"$nulls":4},"【栃木県】"]
[9,1,"栃木県","足利大附","足利大学附属","足利大附","あしかがだいがくふぞく","足利大学附属高等学校",null,null,4,""]
[9,2,"栃木県","馬頭","馬頭","馬頭","ばとう","栃木県立馬頭高等学校",null,null,2,""]
[9,3,"栃木県","足利工","足利工業","足利工","あしかがこうぎょう","栃木県立足利工業高等学校",null,null,3,""]
[9,4,"栃木県","宇都宮商","宇都宮商業","宇都宮商","うつのみやしょうぎょう","栃木県立宇都宮商業高等学校",null,null,4,""]
[{"$nulls":4},"【群馬県】"]
[10,1,"群馬県","西邑楽","西邑楽","西邑楽","にしおうら","群馬県立西邑楽高等学校",null,null,3,""]
[10,2,"群馬県","館林","館林","館林","たてばやし","群馬県立館林高等学校",null,null,2,""]
[10,3,"群馬県","館林商工","館林商工","館林商工","たてばやししょうこう","群馬県立館林商工高等学校",null,null,4,""]
[10,4,"群馬県","大泉","大泉","大泉","おおいずみ","群馬県立大泉高等学校",null,null,2,""]
[10,5,"群馬県","市立太田","市立太田","市立太田","おおたしりつおおた","太田市立太田高等学校",null,null,4,""]
[10,6,"群馬県","前橋西","前橋西","前橋西","まえばしにし","群馬県立前橋西高等学校",null,null,3,""]
[10,7,"群馬県","富岡実","富岡実業","富岡実","とみおかじつぎょう","群馬県立富岡実業高等学校",null,null,3,""]
[10,8,"群馬県","前橋育英","前橋育英","前橋育英","まえばしいくえい","前橋育英高等学校",null,null,4,""]
[10,9,"群馬県","四ツ葉学園","四ツ葉学園","四ツ葉学園","よつばがくえん","伊勢崎市立四ツ葉学園中等教育学校",null,null,5,""]
[{"$nulls":4},"【埼玉県】"]
[11,1,"埼玉県","埼玉栄","埼玉栄","埼玉栄","さいたまさかえ","埼玉栄高等学校",null,null,3,""]
[11,2,"埼玉県","花咲徳栄","花咲徳栄","花咲徳栄","はなさきとくはる","花咲徳栄高等学校",null,null,4,""]
[{"$nulls":4},"【千葉県】"]
[12,1,"千葉県","京葉工","京葉工業","京葉工","けいようこうぎょう","千葉県立京葉工業高等学校",null,null,3,""]
[12,2,"千葉県","八千代松陰","八千代松陰","八千代松陰","やちよしょういん","八千代松陰高等学校",null,null,5,""]
[12,3,"千葉県","関宿","関宿","関宿","せきやど","千葉県立関宿高等学校",null,null,2,""]
[12,4,"千葉県","野田中央","野田中央","野田中央","のだちゅうおう","千葉県立野田中央高等学校",null,null,4,""]
[12,5,"千葉県","我孫子東","我孫子東","我孫子東","あびこひがし","千葉県立我孫子東高等学校",null,null,4,""]
[12,6,"千葉県","四街道","四街道","四街道","よつかいどう","千葉県立四街道高等学校",null,null,3,""]
[12,8,"千葉県","佐倉","佐倉","佐倉","さくら","千葉県立佐倉高等学校",null,null,2,""]
[12,9,"千葉県","佐倉西","佐倉西","佐倉西","さくらにし","千葉県立佐倉西高等学校",null,null,3,""]
[12,10,"千葉県","日体大柏","日本体育大学柏","日体大柏","にっぽんたいいくだいがくかしわ","日本体育大学柏高等学校",null,null,4,""]
[{"$nulls":4},"【東京都】"]
[13,1,"東京都","東京実","東京実業","東京実","とうきょうじつぎょう","東京実業高等学校",null,null,{"$f":"LEN(D84)","v":3},{"$f":"IF($L$2-K84>=0,\"\",1)","v":""}]
[13,2,"東京都","自由ヶ丘学園","自由ヶ丘学園","自由ヶ丘学園","じゆうがおかがくえん","自由ヶ丘学園高等学校",null,null,6,1]
[13,3,"東京都","日工大駒場","日本工業大学駒場","日工大駒場","にっぽんこうぎょうだいがくこまば","日本工業大学駒場高等学校",null,null,5,""]
[13,4,"東京都","第三商","第三商業","第三商","だいさんしょうぎょう","東京都立第三商業高等学校",null,null,3,""]
[13,5,"東京都","中央学大中央","中央学院大学中央","中央学大中央","ちゅうおうがくいんだいがくちゅうおう","中央学院大学中央高等学校",null,null,6,1]
[13,6,"東京都","帝京","帝京","帝京","ていきょう","帝京高等学校",null,null,2,""]
[13,7,"東京都","安部学院","安部学院","安部学院","あべがくいん","安部学院高等学校",null,null,4,""]
[13,8,"東京都","文化学大杉並","文化学園大学杉並","文化学大杉並","ぶんかがくえんだいがくすぎなみ","文化学園大学杉並高等学校",null,null,6,1]
[13,9,"東京都","日体大桜華","日本体育大学桜華","日体大桜華","にっぽんたいいくだいがくおうか","日本体育大学桜華高等学校",null,null,5,""]
[13,10,"東京都","日体大荏原","日本体育大学荏原","日体大荏原","にっぽんたいいくだいがくえばら","日本体育大学荏原高等学校",null,null,5,""]
[13,11,"東京都","慶応女子","慶応義塾女子","慶応女子","けいおうぎじゅくじょし","慶應義塾女子高等学校",null,null,4,""]
[13,12,"東京都","下北沢成徳","下北沢成徳","下北沢成徳","しもきたざわせいとく","下北沢成徳高等学校",null,null,5,""]
[{"$nulls":4},"【神奈川県】"]
[14,1,"神奈川県","法政大二","法政大学第二","法政大二","ほうせいだいがくだいに","法政大学第二高等学校",null,null,4,""]
[14,2,"神奈川県","慶應義塾","慶應義塾","慶應義塾","けいおうぎじゅく","慶應義塾高等学校",null,null,4,""]
[14,3,"神奈川県","日大藤沢","日本大学藤沢","日大藤沢","にほんだいがくふじさわ","日本大学藤沢高等学校",null,null,4,""]
[14,4,"神奈川県","向上","向上","向上","こうじょう","向上高等学校",null,null,2,""]
[14,5,"神奈川県","釜利谷","釜利谷","釜利谷","かまりや","神奈川県立釜利谷高等学校",null,null,3,""]
[14,6,"神奈川県","横浜修悠館","横浜修悠館","横浜修悠館","よこはましゅうゆうかん","神奈川県立横浜修悠館高等学校",null,null,5,""]
[14,7,"神奈川県","磯子工","磯子工業","磯子工","いそごこうぎょう","神奈川県立磯子工業高等学校",null,null,3,""]
[14,8,"神奈川県","横浜清陵","横浜清陵","横浜清陵","よこはませいりょう","神奈川県立横浜清陵高等学校",null,null,4,""]
[14,9,"神奈川県","三浦学苑","三浦学苑","三浦学苑","みうらがくえん","三浦学苑高等学校",null,null,4,""]
[14,10,"神奈川県","秦野総合","秦野総合","秦野総合","はだのそうごう","神奈川県立秦野総合高等学校",null,null,4,""]
[{"$nulls":4},"【山梨県】"]
[15,1,"山梨県","韮崎工","韮崎工業","韮崎工","にらさきこうぎょう","山梨県立韮崎工業高等学校",null,null,3,""]
[15,2,"山梨県","農林","農林","農林","やまなしけんりつのうりん","山梨県立農林高等学校",null,null,2,""]
[15,3,"山梨県","都留興譲館","都留興譲館","都留興譲館","つるこうじょうかん","山梨県立都留興譲館高等学校",null,null,5,""]
[15,4,"山梨県","甲府城西","甲府城西","甲府城西","こうふじょうさい","山梨県立甲府城西高等学校",null,null,4,""]
[{"$nulls":4},"【新潟県】"]
[16,1,"新潟県","八海","八海","八海","はっかい","新潟県立八海高等学校",null,null,2,""]
[16,2,"新潟県","学館新潟","東京学館新潟","学館新潟","とうきょうがっかんにいがた","東京学館新潟高等学校",null,null,4,""]
[16,3,"新潟県","北越","北越","北越","ほくえつ","北越高等学校",null,null,2,""]
[16,4,"新潟県","日本文理","日本文理","日本文理","にほんぶんり","日本文理高等高等学校",null,null,4,""]
[16,5,"新潟県","新潟県央工","新潟県央工業","新潟県央工","にいがたけんおうこうぎょう","新潟県立新潟県央工業高等学校",null,null,5,""]
[{"$nulls":4},"【富山県】"]
[17,1,"富山県","入善","入善","入善","にゅうぜん","富山県立入善高等学校",null,null,2,""]
[17,2,"富山県","桜井","桜井","桜井","さくらい","富山県立桜井高等学校",null,null,2,""]
[17,3,"富山県","滑川","滑川","滑川","なめりかわ","富山県立滑川高等学校",null,null,2,""]
[17,4,"富山県","高岡向陵","高岡向陵","高岡向陵","たかおかこうりょう","高岡向陵高等学校",null,null,4,""]
[17,5,"富山県","高岡商","高岡商業","高岡商","たかおかしょうぎょう","富山県立高岡商業高等学校",null,null,3,""]
[{"$nulls":4},"【石川県】"]
[18,1,"石川県","星稜","星稜","星稜","せいりょう","星稜高等学校",null,null,2,""]
[18,2,"石川県","志賀","志賀","志賀","しか","石川県立志賀高等学校",null,null,2,""]
[18,3,"石川県","金沢北陵","金沢北陵","金沢北陵","かなざわほくりょう","石川県立金沢北陵高等学校",null,null,4,""]
[18,4,"石川県","野々市明倫","野々市明倫","野々市明倫","ののいちめいりん","石川県立野々市明倫高等学校",null,null,5,""]
[{"$nulls":4},"【福井県】"]
[19,1,"福井県","若狭","若狭","若狭","わかさ","福井県立若狭高等学校",null,null,2,""]
[19,2,"福井県","敦賀気比","敦賀気比","敦賀気比","つるがけひ","敦賀気比高等学校",null,null,4,""]
[19,3,"福井県","福井農林","福井農林","福井農林","ふくいのうりん","福井県立福井農林高等学校",null,null,4,""]
[19,4,"福井県","若狭東","若狭東","若狭東","わかさひがし","福井県立若狭東高等学校",null,null,3,""]
[19,5,"福井県","福工大福井","福井工業大学附属福井","福工大福井","ふくいこうだいふくい","福井工業大学附属福井高等学校",null,null,5,""]
[{"$nulls":4},"【長野県】"]
[20,1,"長野県","上田西","上田西","上田西","うえだにし","上田西高等学校",null,null,3,""]
[20,2,"長野県","小諸","小諸","小諸","こもろ","長野県小諸高等学校",null,null,2,""]
[20,3,"長野県","小諸商","小諸商業","小諸商","こもろしょうぎょう","長野県小諸商業高等学校",null,null,3,""]
[20,4,"長野県","佐久平総合","佐久平総合技術","佐久平総合","さくだいらそうごうぎじゅつ","長野県佐久平総合技術高等学校",null,null,5,""]
[{"$nulls":4},"【岐阜県】"]
[21,1,"岐阜県","岐阜工","岐阜工業","岐阜工","ぎふこうぎょう","岐阜県立岐阜工業高等学校",null,null,3,""]
[21,2,"岐阜県","岐南工","岐南工業","岐南工","ぎなんこうぎょう","岐阜県立岐南工業高等学校",null,null,3,""]
[21,3,"岐阜県","大垣工","大垣工業","大垣工","おおがきこうぎょう","岐阜県立大垣工業高等学校",null,null,3,""]
[21,4,"岐阜県","加茂農林","加茂農林","加茂農林","かものうりん","岐阜県立加茂農林高校",null,null,4,""]
[21,5,"岐阜県","中津商","中津商業","中津商","なかつしょうぎょう","岐阜県立中津商業高等学校",null,null,3,""]
[21,6,"岐阜県","大垣日大","大垣日本大学","大垣日大","おおがきにほんだいがく","大垣日本大学高等学校",null,null,4,""]
[21,7,"岐阜県","中京","中京","中京","ちゅうきょう","中京高等学校",null,null,2,"","中京大学附属中京高等学校ではない"]
[21,8,"岐阜県","高山西","高山西","高山西","たかやまにし","高山西高等学校",null,null,3,""]
[{"$nulls":4},"【静岡県】"]
[22,1,"静岡県","伊豆総合","伊豆総合","伊豆総合","いずそうごう","静岡県立伊豆総合高等学校",null,null,4,""]
[22,2,"静岡県","沼津城北","沼津城北","沼津城北","ぬまづじょうほく","静岡県立沼津城北高等学校",null,null,4,""]
[22,3,"静岡県","稲取","稲取","稲取","いなとり","静岡県立稲取高等学校",null,null,2,""]
[22,4,"静岡県","飛龍","飛龍","飛龍","ひりゅう","飛龍高等学校",null,null,2,""]
[22,5,"静岡県","沼津工","沼津工業","沼津工","ぬまづこうぎょう","静岡県立沼津工業高等学校",null,null,3,""]
[22,6,"静岡県","吉原工","吉原工業","吉原工","よしわらこうぎょう","静岡県立吉原工業高等学校",null,null,3,""]
[22,7,"静岡県","焼津中央","焼津中央","焼津中央","やいづちゅうおう","静岡県立焼津中央高等学校",null,null,4,""]
[22,8,"静岡県","焼津水産","焼津水産","焼津水産","やいづすいさん","静岡県立焼津水産高等学校",null,null,{"$f":"LEN(D157)","v":4},{"$f":"IF($L$2-K157>=0,\"\",1)","v":""}]
[22,9,"静岡県","藤枝北","藤枝北","藤枝北","ふじえだきた","静岡県立藤枝北高等学校",null,null,3,""]
[{"$nulls":4},"【愛知県】"]
[23,1,"愛知県","名古屋工","名古屋工業","名古屋工","なごやこうぎょう","名古屋工業高等学校",null,null,4,""]
[23,2,"愛知県","星城","星城","星城","せいじょう","星城高等学校",null,null,2,""]
[23,3,"愛知県","一宮工科","一宮工科","一宮工科","いちのみやこうか","愛知県立一宮工科高等学校",null,null,4,""]
[23,4,"愛知県","至学館","至学館","至学館","しがくかん","至学館高等学校",null,null,3,""]
[23,5,"愛知県","知立東","知立東","知立東","ちりゅうひがし","愛知県立知立東高等学校",null,null,3,""]
[23,6,"愛知県","名古屋","名古屋","名古屋","なごや","名古屋高等学校",null,null,3,""]
[23,null,"愛知県","稲沢東","稲沢東","稲沢東","いなざわひがし","愛知県立稲沢東高等学校",null,null,3,""]
[23,null,"愛知県","名城大附","名城大学附属","名城大附","めいじょうだいがくふぞく","名城大学附属高等学校",null,null,4,""]
[{"$nulls":4},"【三重県】"]
[24,1,"三重県","伊勢工","伊勢工業","伊勢工","いせこうぎょう","三重県立伊勢工業高等学校",null,null,3,""]
[24,2,"三重県","いなべ総合","いなべ総合学園","いなべ総合","いなべそうごうがくえん","三重県立いなべ総合学園高等学校",null,null,5,""]
[24,3,"三重県","四日市四郷","四日市四郷","四日市四郷","よっかいちよごう","三重県立四日市四郷高等学校",null,null,5,""]
[24,4,"三重県","朝明","朝明","朝明","あさけ","三重県立朝明高等学校",null,null,2,""]
[24,5,"三重県","久居","久居","久居","ひさい","三重県立久居高等学校",null,null,2,""]
[24,6,"三重県","松阪工","松阪工業","松阪工","まつさかこうぎょう","三重県立松阪工業高等学校",null,null,3,""]
[24,7,"三重県","鳥羽","鳥羽","鳥羽","とば","三重県立鳥羽高等学校",null,null,2,""]
[24,8,"三重県","四日市西","四日市西","四日市西","よっかいちにし","三重県立四日市西高等学校",null,null,4,""]
[24,9,"三重県","暁","暁","暁","あかつき","暁高等学校",null,null,1,""]
[{"$nulls":4},"【滋賀県】"]
[25,1,"滋賀県","栗東","栗東","栗東","りっとう","滋賀県立栗東高等学校",null,null,2,""]
[25,2,"滋賀県","水口","水口","水口","みなくち","滋賀県立水口高等学校",null,null,2,""]
[25,3,"滋賀県","信楽","信楽","信楽"," しがらき","滋賀県立信楽高等学校",null,null,2,""]
[25,4,"滋賀県","日野","日野","日野","ひの","滋賀県立日野高等学校",null,null,2,""]
[25,5,"滋賀県","八幡工","八幡工業","八幡工","はちまんこうぎょう","滋賀県立八幡工業高等学校",null,null,3,""]
[{"$nulls":4},"【京都府】"]
[26,1,"京都府","丹後緑風","丹後緑風","丹後緑風","たんごりょくふう","京都府立丹後緑風高等学校",null,null,4,""]
[26,2,"京都府","京都廣学館","京都廣学館","京都廣学館","きょうとこうがっかん","京都廣学館高等学校",null,null,5,""]
[26,3,"京都府","京都八幡","京都八幡","京都八幡","きょうとやわた","京都府立京都八幡高等学校",null,null,4,""]
[26,4,"京都府","海洋","海洋","海洋","かいよう","京都府立海洋高等学校",null,null,2,""]
[26,5,"京都府","東山","東山","東山","ひがしやま","東山高等学校",null,null,2,""]
[26,6,"京都府","日星","日星","日星","にっせい","日星高等学校",null,null,2,""]
[{"$nulls":4},"【大阪府】"]
[27,1,"大阪府","近大附","近畿大学附属","近大附","きんきだいがくふぞく","近畿大学附属高等学校",null,null,3,""]
[27,2,"大阪府","同志社香里","同志社香里","同志社香里","どうししゃこうり","同志社香里高等学校",null,null,5,""]
[27,3,"大阪府","大体大浪商","大阪体育大学浪商","大体大浪商","おおさかたいいくだいがくなみしょう","大阪体育大学浪商高等学校",null,null,5,""]
[27,4,"大阪府","長尾谷","長尾谷","長尾谷","ながおだに","長尾谷高等学校",null,null,3,""]
[27,5,"大阪府","府立いちりつ","大阪府立いちりつ","府立いちりつ","おおさかふりついちりつ","大阪府立いちりつ高等学校",null,null,6,1]
[27,6,"大阪府","興國","興國","興國","こうこく","興國高等学校",null,null,2,""]
[27,7,"大阪府","高石","高石","高石","たかいし","大阪府立高石高等学校",null,null,2,""]
[27,8,"大阪府","りんくう翔南","りんくう翔南","りんくう翔南","りんくうしょうなん","大阪府立りんくう翔南高等学校",null,null,6,1]
[27,9,"大阪府","福泉","福泉","福泉"," ふくいずみ","大阪府立福泉高等学校",null,null,2,""]
[27,10,"大阪府","堺リベラル","堺リベラル","堺リベラル","さかいりべらる","堺リベラル高等学校",null,null,5,""]
[{"$nulls":4},"【兵庫県】"]
[28,1,"兵庫県","六甲アイランド","六甲アイランド","六甲アイランド","ろっこう あいらんど","神戸市立六甲アイランド高等学校",null,null,7,1]
[28,2,"兵庫県","神戸高塚","神戸高塚","神戸高塚","こうべたかつか","兵庫県立神戸高塚高等学校",null,null,4,""]
[28,3,"兵庫県","猪名川","猪名川","猪名川","いながわ","兵庫県立猪名川高等学校",null,null,3,""]
[28,4,"兵庫県","須磨翔風","須磨翔風","須磨翔風","すましょうふう","神戸市立須磨翔風高等学校",null,null,4,""]
[28,5,"兵庫県","市立伊丹","市立伊丹","市立伊丹","しりついたみ","伊丹市立伊丹高等学校",null,null,4,""]
[28,6,"兵庫県","芦屋学園","芦屋学園","芦屋学園","あしやがくえん","芦屋学園高等学校",null,null,4,""]
[{"$nulls":4},"【奈良県】"]
[29,1,"奈良県","添上","添上","添上","そえかみ","奈良県立添上高等学校",null,null,2,""]
[29,2,"奈良県","法隆寺国際","法隆寺国際","法隆寺国際","ほうりゅうじこくさい","奈良県立法隆寺国際高等学校",null,null,5,""]
[29,3,"奈良県","大和広陵","大和広陵","大和広陵","やまとこうりょう","奈良県立大和広陵高等学校",null,null,4,""]
[29,4,"奈良県","天理教校学園","天理教校学園","天理教校学園","てんりきょうこうがくえん","天理教校学園高等学校",null,null,6,1]
[29,5,"奈良県","橿原学院","橿原学院","橿原学院","かしはらがくいん","橿原学院高等学校",null,null,4,""]
[{"$nulls":4},"【和歌山県】"]
[30,1,"和歌山県","新宮","新宮","新宮","しんぐう","和歌山県立新宮高等学校",null,null,2,""]
[30,2,"和歌山県","紀北工","紀北工業","紀北工","きほくこうぎょう","和歌山県立紀北工業高等学校",null,null,3,""]
[30,3,"和歌山県","和歌山東","和歌山東","和歌山東","わかやまひがし","和歌山県立和歌山東高等学校",null,null,4,""]
[30,4,"和歌山県","和歌山北","和歌山北","和歌山北","わかやまきた","和歌山県立和歌山北高等学校",null,null,4,""]
[30,5,"和歌山県","和歌山工","和歌山工業","和歌山工","わかやまこうぎょう","和歌山県立和歌山工業高等学校",null,null,4,""]
[30,6,"和歌山県","南部","南部","南部","みなべ","和歌山県立南部高等学校",null,null,2,""]
[30,7,"和歌山県","新翔","新翔","新翔","しんしょう","和歌山県立新翔高等学校"]
[{"$nulls":4},"【鳥取県】",{"$nulls":5},0,""]
[31,1,"鳥取県","倉吉総合","倉吉総合産業","倉吉総合","くらよしそうごうさんぎょう","鳥取県立倉吉総合産業高等学校",null,null,4,""]
[31,2,"鳥取県","鳥取中央育英","鳥取中央育英","鳥取中央育英","とっとりちゅうおういくえい","鳥取県立鳥取中央育英高等学校",null,null,6,1]
[31,null,"鳥取県","鳥取東","鳥取東","鳥取東","とっとりひがし","鳥取県立鳥取東高等学校"]
[{"$nulls":4},"【島根県】",{"$nulls":5},0,""]
[32,1,"島根県","松江工","松江工業","松江工","まつえこうぎょう","島根県立松江工業高等学校",null,null,3,""]
[32,2,"島根県","隠岐島前","隠岐島前","隠岐島前","おきどうぜん","島根県立隠岐島前高等学校",null,null,4,""]
[32,null,"島根県","松江北","松江北","松江北","まつえきた","島根県立松江北高等学校"]
[{"$nulls":4},"【岡山県】",{"$nulls":5},0,""]
[33,1,"岡山県","関西","関西","関西","かんぜい","関西高等学校",null,null,{"$f":"LEN(D232)","v":2},{"$f":"IF($L$2-K232>=0,\"\",1)","v":""}]
[33,2,"岡山県","倉敷","倉敷","倉敷","くらしき","倉敷高等学校",null,null,2,""]
[33,3,"岡山県","笠岡工","笠岡工業","笠岡工","かさおかこうぎょう","岡山県立笠岡工業高等学校",null,null,3,""]
[33,4,"岡山県","おかやま山陽","おかやま山陽","おかやま山陽","おかやまさんよう","おかやま山陽高等学校",null,null,6,1]
[33,5,"岡山県","高松農","高松農業","高松農","たかまつのうぎょう","岡山県立高松農業高等学校",null,null,3,""]
[33,6,"岡山県","備前緑陽","備前緑陽","備前緑陽","びぜんりょくよう","岡山県立備前緑陽高等学校",null,null,4,""]
[33,7,"岡山県","倉敷鷲羽","倉敷鷲羽","倉敷鷲羽","くらしきわしゅう","岡山県立倉敷鷲羽高等学校",null,null,4,""]
[33,8,"岡山県","総社","総社","総社","そうじゃ","岡山県立総社高等学校"]
[{"$nulls":4},"【広島県】",{"$nulls":5},0,""]
[34,1,"広島県","広島国泰寺","広島国泰寺","広島国泰寺","ひろしまこくたいじ","広島県立広島国泰寺高等学校",null,null,5,""]
[34,2,"広島県","三次","三次","三次","みよし","広島県立三次中学校・高等学校",null,null,2,""]
[34,3,"広島県","賀茂","賀茂","賀茂","かも","広島県立賀茂高等学校",null,null,2,""]
[34,4,"広島県","並木学院","並木学院","並木学院","なみきがくいん","並木学院高等学校"]
[{"$nulls":4},"【山口県】",{"$nulls":5},0,""]
[35,1,"山口県","豊浦","豊浦","豊浦","とよら","山口県立豊浦高等学校",null,null,2,""]
[35,2,"山口県","田布施農工","田布施農工","田布施農工","たぶせのうこう","山口県立田布施農工高等学校",null,null,5,""]
[35,3,"山口県","山口鴻城","山口県鴻城","山口鴻城","やまぐちけんこうじょう","山口県鴻城高等学校",null,null,4,""]
[35,4,"山口県","柳井学園","柳井学園","柳井学園","やないがくえん","柳井学園高等学校",null,null,4,""]
[35,5,"山口県","山口桜ヶ丘","山口県桜ヶ丘","山口桜ヶ丘","やまぐちけんさくらがおか","山口県桜ヶ丘高等学校",null,null,5,""]
[35,6,"山口県","精華学園","精華学園","精華学園","せいかがくえん","精華学園高等学校"]
[{"$nulls":4},"【徳島県】",{"$nulls":5},0,""]
[36,1,"徳島県","池田","池田","池田","いけだ","徳島県立池田高等学校",null,null,2,""]
[36,2,"徳島県","池田三好","池田(三好)","池田三好","いけだこうこうみよしこう","徳島県立池田高等学校三好校",null,null,4,""]
[36,3,"徳島県","穴吹","穴吹","穴吹","あなぶき","徳島県立穴吹高等学校",null,null,2,""]
[36,4,"徳島県","つるぎ","つるぎ","つるぎ","つるぎ","徳島県立つるぎ高等学校"]
[{"$nulls":4},"【香川県】",{"$nulls":5},0,""]
[37,1,"香川県","高松北","高松北","高松北","たかまつきた","香川県立高松北高等学校",null,null,3,""]
[37,2,"香川県","多度津","多度津","多度津","たどつ","香川県立多度津高等学校",null,null,3,""]
[37,3,"香川県","香川中央","香川中央","香川中央","かがわちゅうおう","香川県立香川中央高等学校"]
[{"$nulls":4},"【愛媛県】",{"$nulls":5},0,""]
[38,1,"愛媛県","北条","北条","北条","ほうじょう","愛媛県立北条高等学校",null,null,2,""]
[38,2,"愛媛県","今治工","今治工業","今治工","いまばりこうぎょう","愛媛県立今治工業高等学校",null,null,3,""]
[38,3,"愛媛県","八幡浜工","八幡浜工業","八幡浜工","やわたはまこうぎょう","愛媛県立八幡浜工業高等学校",null,null,4,""]
[38,4,"愛媛県","今治西","今治西","今治西","いまばりにし","愛媛県立今治西高等学校",null,null,3,""]
[38,5,"愛媛県","愛媛大附","愛媛大学附属","愛媛大附","えひめだいがくふぞく","愛媛大学附属高等学校"]
[{"$nulls":4},"【高知県】",{"$nulls":5},0,""]
[39,1,"高知県","高知東","高知東","高知東","こうちひがし","高知県立高知東高等学校",null,null,3,""]
[39,2,"高知県","土佐塾","土佐塾","土佐塾","とさじゅく","土佐塾高等学校",null,null,3,""]
[39,3,"高知県","高知国際","高知国際","高知国際","こうちこくさい","高知県立高知国際高等学校",null,null,4,""]
[39,4,"高知県","高岡","高岡","高岡","たかおか","高知県立高岡高等学校",null,null,2,""]
[39,5,"高知県","宿毛","宿毛","宿毛","すくも","高知県立宿毛高等学校",null,null,2,""]
[39,6,"高知県","高知工","高知工業","高知工","こうちこうぎょう","高知県立高知工業高等学校"]
[{"$nulls":4},"【福岡県】",{"$nulls":5},0,""]
[40,1,"福岡県","東鷹","東鷹","東鷹","とうよう","福岡県立東鷹高等学校",null,null,2,""]
[40,2,"福岡県","小倉商","小倉商業","小倉商","こくらしょうぎょう","福岡県立小倉商業高等学校",null,null,3,""]
[40,3,"福岡県","三井","三井","三井","みい","福岡県立三井高等学校",null,null,2,""]
[40,4,"福岡県","築上西","築上西","築上西","ちくじょうにし","福岡県立築上西高等学校",null,null,3,""]
[40,5,"福岡県","遠賀","遠賀","遠賀","おんが","福岡県立遠賀高等学校",null,null,2,""]
[40,6,"福岡県","苅田工","苅田工業","苅田工","かんだこうぎょう","福岡県立苅田工業高等学校",null,null,3,""]
[40,7,"福岡県","福大若葉","福岡大学附属若葉","福大若葉","ふくおかだいがくふぞくわかば","福岡大学附属若葉高等学校"]
[{"$nulls":4},"【佐賀県】",{"$nulls":5},0,""]
[41,1,"佐賀県","鹿島","佐賀県立鹿島","鹿島","さがけんりつかしま","佐賀県立鹿島高等学校",null,null,2,""]
[41,2,"佐賀県","鳥栖工","鳥栖工業","鳥栖工","とすこうぎょう","佐賀県立鳥栖工業高等学校"]
[{"$nulls":4},"【長崎県】",{"$nulls":5},0,""]
[42,1,"長崎県","島原","島原","島原","しまばら","長崎県立島原高等学校",null,null,2,""]
[42,2,"長崎県","島原工","島原工業","島原工","しまばらこうぎょう","長崎県立島原工業高等学校",null,null,3,""]
[42,3,"長崎県","大村工","大村工業","大村工","おおむらこうぎょう","長崎県立大村工業高等学校",null,null,3,""]
[42,4,"長崎県","島原翔南","島原翔南","島原翔南","しまばらしょうなん","長崎県立島原翔南高等学校",null,null,4,""]
[42,5,"長崎県","諫早","諫早","諫早","いさはや","長崎県立諫早高等学校"]
[{"$nulls":4},"【熊本県】",{"$nulls":5},0,""]
[43,1,"熊本県","北稜","北稜","北稜","ほくりょう","熊本県立北稜高等学校",null,null,2,""]
[43,2,"熊本県","玉名工","玉名工業","玉名工","たまなこうぎょう","熊本県立玉名工業高等学校",null,null,3,""]
[43,3,"熊本県","小川工","小川工業","小川工","おがわこうぎょう","熊本県立小川工業高等学校"]
[{"$nulls":4},"【大分県】",{"$nulls":5},0,""]
[44,1,"大分県","佐伯豊南","佐伯豊南","佐伯豊南","さいきほうなん","大分県立佐伯豊南高等学校",null,null,4,""]
[44,2,"大分県","津久見","津久見","津久見","つくみ","大分県立津久見高等学校",null,null,3,""]
[44,3,"大分県","日文大附","日本文理大学附属","日文大附","にっぽんぶんりだいがくふぞく","日本文理大学附属高等学校"]
[{"$nulls":4},"【宮崎県】",{"$nulls":5},0,""]
[45,1,"宮崎県","日南振徳","日南振徳","日南振徳","にちなんしんとく","宮崎県立日南振徳高等学校",null,null,4,""]
[45,2,"宮崎県","宮崎農","宮崎農業","宮崎農","みやざきのうぎょう","宮崎県立宮崎農業高等学校",null,null,3,""]
[45,3,"宮崎県","宮崎工","宮崎工業","宮崎工","みやざきこうぎょう","宮崎県立宮崎工業高等学校",null,null,3,""]
[45,4,"宮崎県","福島","宮崎県立福島","福島","ふくしま","宮崎県立福島高等学校",null,null,2,""]
[45,5,"宮崎県","日向学院","日向学院","日向学院","ひゅうががくいん","日向学院高等学校",null,null,4,""]
[45,6,"宮崎県","宮崎日大","宮崎日本大学","宮崎日大","みやざきにちだい","宮崎日本大学高等学校",null,null,4,""]
[45,7,"宮崎県","宮崎一","宮崎第一","宮崎一","みやざきだいいち","宮崎第一高等学校",null,null,3,""]
[45,8,"宮崎県","都城西","都城西","都城西","みやこのじょうにし","宮崎県立都城西高等学校"]
[{"$nulls":4},"【鹿児島県】",{"$nulls":5},0,""]
[46,1,"鹿児島県","樟南","樟南","樟南","しょうなん","樟南高等学校",null,null,2,""]
[46,2,"鹿児島県","鹿屋中央","鹿屋中央","鹿屋中央","かのやちゅうおう","鹿屋中央高等学校",null,null,4,""]
[46,3,"鹿児島県","加世田常潤","加世田常潤","加世田常潤","かせだじょうじゅん","鹿児島県立加世田常潤高等学校"]
[{"$nulls":4},"【沖縄県】",{"$nulls":5},{"$f":"LEN(D312)","v":0},{"$f":"IF($L$2-K312>=0,\"\",1)","v":""}]
[47,1,"沖縄県","北部農林","北部農林","北部農林","ほくぶのうりん","沖縄県立北部農林高等学校",null,null,4,""]
[47,2,"沖縄県","南風原","南風原","南風原","はえばる","沖縄県立南風原高等学校",null,null,3,""]
[47,3,"沖縄県","浦添工","浦添工業","浦添工","うらぞえこうぎょう","沖縄県立浦添工業高等学校",null,null,3,""]
[47,4,"沖縄県","真和志","真和志","真和志","まわし","沖縄県立真和志高等学校",null,null,3,""]
[47,5,"沖縄県","美来工科","美来工科","美来工科","みらいこうか","沖縄県立美来工科高等学校"]
[47,6,"沖縄県","八重山","八重山","八重山","やえやま","沖縄県立八重山高等学校"]